BEGIN:VCALENDAR
VERSION:2.0
PRODID:-//Parrish Art Museum - ECPv6.10.2//NONSGML v1.0//EN
CALSCALE:GREGORIAN
METHOD:PUBLISH
X-WR-CALNAME:Parrish Art Museum
X-ORIGINAL-URL:https://parrishart.org
X-WR-CALDESC:Events for Parrish Art Museum
REFRESH-INTERVAL;VALUE=DURATION:PT1H
X-Robots-Tag:noindex
X-PUBLISHED-TTL:PT1H
BEGIN:VTIMEZONE
TZID:America/New_York
BEGIN:DAYLIGHT
TZOFFSETFROM:-0500
TZOFFSETTO:-0400
TZNAME:EDT
DTSTART:20250309T070000
END:DAYLIGHT
BEGIN:STANDARD
TZOFFSETFROM:-0400
TZOFFSETTO:-0500
TZNAME:EST
DTSTART:20251102T060000
END:STANDARD
END:VTIMEZONE
BEGIN:VEVENT
DTSTART;TZID=America/New_York:20250420T130000
DTEND;TZID=America/New_York:20250420T160000
DTSTAMP:20260423T000141
CREATED:20250408T173031Z
LAST-MODIFIED:20250408T173031Z
UID:10005403-1745154000-1745164800@parrishart.org
SUMMARY:Imagination Play Project Pop-Up
DESCRIPTION:Children of all ages and abilities are invited to participate in creative play in the Parrish’s Pasculano Studio and join the Imagination Play Project for a pop-up workshop. Build with conventional and unconventional materials as well as natural objects. The Imagination Play Project creates opportunities for people of all ages and abilities to engage\, design\, and connect with open-ended materials and play. \nEntry to the Galleries requires Museum admission ticket purchase. \nAbout Linda White & The Imagination Play Project\nLinda White is the founder and creator of Imagination Play Project. As a play curator\, her focus began with young children and has grown to working with people of all ages and abilities. Drawing inspiration from the schools in Reggio Emilia\, Italy\, and the rich aesthetic landscape of NYC\, she creates experiences using a variety of objects that encourage exploration\, engage the senses\, and inspire creativity. Learn more →
URL:https://parrishart.org/event/imagination-play-project-pop-up-apr-20-2025/
LOCATION:Parrish Art Museum\, 279 Montauk Highway\, Water Mill\, NY\, 11976\, United States
CATEGORIES:Classes and Workshops,Family Programs
ATTACH;FMTTYPE=image/webp:https://parrishart.org/wp-content/uploads/2025/01/IMG_20241207_133325796_HDR-scaled.webp
END:VEVENT
BEGIN:VEVENT
DTSTART;VALUE=DATE:20250422
DTEND;VALUE=DATE:20250423
DTSTAMP:20260423T000141
CREATED:20241223T224106Z
LAST-MODIFIED:20241223T225157Z
UID:10004816-1745280000-1745366399@parrishart.org
SUMMARY:Galleries Closed; Grounds open 11 AM–5 PM
DESCRIPTION:Museum Galleries are closed on Tuesdays and Wednesdays. \nMuseum Grounds are open 11 AM–5 PM every day. \nScheduled Workshops with pre-registration will occur.
URL:https://parrishart.org/event/galleries-closed-grounds-open-11-am-5-pm/2025-04-22/
LOCATION:Parrish Art Museum\, 279 Montauk Highway\, Water Mill\, NY\, 11976\, United States
ATTACH;FMTTYPE=image/png:https://parrishart.org/wp-content/uploads/2023/01/Exterior_Building_ParrishArtMuseum_architecture_Baroton.png
END:VEVENT
BEGIN:VEVENT
DTSTART;VALUE=DATE:20250423
DTEND;VALUE=DATE:20250424
DTSTAMP:20260423T000141
CREATED:20241223T224106Z
LAST-MODIFIED:20241223T225157Z
UID:10004817-1745366400-1745452799@parrishart.org
SUMMARY:Galleries Closed; Grounds open 11 AM–5 PM
DESCRIPTION:Museum Galleries are closed on Tuesdays and Wednesdays. \nMuseum Grounds are open 11 AM–5 PM every day. \nScheduled Workshops with pre-registration will occur.
URL:https://parrishart.org/event/galleries-closed-grounds-open-11-am-5-pm/2025-04-23/
LOCATION:Parrish Art Museum\, 279 Montauk Highway\, Water Mill\, NY\, 11976\, United States
ATTACH;FMTTYPE=image/png:https://parrishart.org/wp-content/uploads/2023/01/Exterior_Building_ParrishArtMuseum_architecture_Baroton.png
END:VEVENT
BEGIN:VEVENT
DTSTART;TZID=America/New_York:20250424T110000
DTEND;TZID=America/New_York:20250424T120000
DTSTAMP:20260423T000141
CREATED:20241206T154823Z
LAST-MODIFIED:20241206T155508Z
UID:10004055-1745492400-1745496000@parrishart.org
SUMMARY:Healing Through Art
DESCRIPTION:Explore works of art in our galleries and participate in a hands-on artmaking experience with museum educator Wendy Gottlieb. A variety of materials in the studio will be available to use.  \nFree program. Registration is required.\nEmail ragan.finalborgo@stonybrookmedicine.edu or call 631.726.8600
URL:https://parrishart.org/event/healing-through-art-2/2025-04-24/
LOCATION:Parrish Art Museum\, 279 Montauk Highway\, Water Mill\, NY\, 11976\, United States
CATEGORIES:Access Parrish
ATTACH;FMTTYPE=image/png:https://parrishart.org/wp-content/uploads/2024/09/Screenshot-2024-09-29-at-2.59.48 PM.png
END:VEVENT
BEGIN:VEVENT
DTSTART;TZID=America/New_York:20250424T154500
DTEND;TZID=America/New_York:20250424T170000
DTSTAMP:20260423T000141
CREATED:20250103T155709Z
LAST-MODIFIED:20250106T185002Z
UID:10005328-1745509500-1745514000@parrishart.org
SUMMARY:Children’s Pottery | Session II\, Thursdays
DESCRIPTION:REGISTER  \nOffered on the following Thursdays: April 24 and May 1\, 8\, 15\, 22\, 29 \nCost: $135 \nArt educator Wendy Gottlieb guides students in Grades 1-5 to create pottery and study the history of ceramics. Hand-built pottery techniques will include coil\, slab\, and sculpture. All work will be fired. Enrollment is limited. \nFamily Pass Members get priority registration. Family Pass Member priority registration is open now. Registration for all opens on January 2nd. Space is limited\, and classes fill quickly. For Membership assistance email membership@parrishart.org or call 631-283-2118. \nThe Museum reserves the right to cancel a class at any time due to insufficient enrollment. In the event that we must cancel\, we will issue a refund. Questions? Email children@parrishart.org or call 631-283-2118. If these prices present a hardship for you and your family at this time\, please reach out to meyerc@parrishart.org
URL:https://parrishart.org/event/childrens-pottery-session-ii-thursdays/2025-04-24/
LOCATION:Parrish Art Museum\, 279 Montauk Highway\, Water Mill\, NY\, 11976\, United States
CATEGORIES:Classes and Workshops
ATTACH;FMTTYPE=image/jpeg:https://parrishart.org/wp-content/uploads/2020/01/ArtCamp-Bock-02252014-031-final.jpg
END:VEVENT
BEGIN:VEVENT
DTSTART;TZID=America/New_York:20250425T144500
DTEND;TZID=America/New_York:20250425T163000
DTSTAMP:20260423T000141
CREATED:20250219T153535Z
LAST-MODIFIED:20250312T190345Z
UID:10005387-1745592300-1745598600@parrishart.org
SUMMARY:Arts & Eats
DESCRIPTION:REGISTER \nHigh school students in Grades 9-12 are invited to spend a Friday afternoon at the Museum connecting with art and friends. Create a new tie-dye shirt or bring your own cotton-based clothes to upcycle while enjoying free pizza and soda! \nFree event. Registration required. \nEach participant will get one new cotton shirt. Please email Casey Meyer at meyerc@parrishart.org if you have any questions on sizes.
URL:https://parrishart.org/event/arts-and-eats-2025/2025-04-25/
LOCATION:Parrish Art Museum\, 279 Montauk Highway\, Water Mill\, NY\, 11976\, United States
CATEGORIES:Students
ATTACH;FMTTYPE=image/jpeg:https://parrishart.org/wp-content/uploads/2023/11/PIZZA-IMG_20231117_164722278-scaled.jpg
END:VEVENT
BEGIN:VEVENT
DTSTART;TZID=America/New_York:20250426T193000
DTEND;TZID=America/New_York:20250426T230000
DTSTAMP:20260423T000141
CREATED:20241219T204115Z
LAST-MODIFIED:20250424T172813Z
UID:10004059-1745695800-1745708400@parrishart.org
SUMMARY:Spring Fling 2025
DESCRIPTION:TICKETS   MAKE A CONTRIBUTION \n$250 | $300 after Thursday\, April 24\, 2025 \nJoin us for this special event in support of the Museum‘s education programs\, year-round public initiatives\, and Access Parrish. \nThis evening wouldn’t be possible without the support of:\nCatering provided by Elegant Affairs\nWine provided by Wölffer Estate Vineyard\nBeer provided by Kidd Squid Brewing Co\nSignature cocktails upon arrival by Cocktails & Dreams Mobile Bar\nMusic curated by Jarrell Entertainment\nSpecial performance by Davinia Pace\nTequila provided by LALO Tequila\nSomething Different Party Rental\nHamptons Signs \nDon’t miss this special evening full of celebration\, community support\, and a shared passion for the arts! \nFor more information\, please contact:\nAgatha Emmett | Special Events Manager\nemmetta@parrishart.org\n631.283.2118 x134 \n  \nBENEFIT COMMITTEE \nCO-CHAIRS\nJennifer Ettin\nFran Girimonti\nLinda Kouzoujian\nDale Novick \nAnte Jakic\nGeorgia Kaporis\nArnaud Lecole\nFabienne Lecole\nMary Slattery\nKaterina Williams \n  \nSPONSORS \nPRESENTING\nBobbie Braun/The Neuwirth Foundation Inc. \nDIAMOND\nElegant Affairs\nJarrell Entertainment \nSAPPHIRE\nCocktails & Dreams Mobile Bar \nPLATINUM\nFran Girimonti | The East End Title Closer\nK Period Media\nLaffey Real Estate\nLALO Tequila\nLinda Kouzoujian \nGOLD\nAnte Jakic\nConcierge Auctions\nFabienne Lecole\nGeorgia Kaporis\nOur House Property Management\, LLC\nSophia Robert on behalf of the Bruce G and Mary Robert Foundation \nSILVER\nAlexandra Stanton & Sam Natapoff\nAmy and Steven Horowitz\nDario’s Landscaping & Masonry LLC\nFresh Design Group\nHamptons Signs\nHarvanit & Rohit Kumar\nIra Schreger\nJagu & Mike Shah\nKathleen and Taylor Georgio\nLisa O. & Rome Arnold\nMary Slattery\nRachel Lynch Swimming Pool Services Inc.\nSotheby’s International Realty\nThe Village Paw\nUS Mortgage Corporation\nYanina Fuertes \nBRONZE\nAsprey\nBistro Ete | Liz Pavlou\nEquator Land Services\nHamptons Virtual Office | Victoria Kahn\nJ.McLaughlin\nJennifer DiSisto\nMarina St Barth\nRonald Myers\nSpano Abstract Service Corp. \nAs of April 24\, 2025 \nInquire about sponsorship→ \n  \nSpring Fling has become a significant annual event\, consistently raising over $100\,000 to support the Parrish’s education programs. Notably\, these funds directly contribute to Access Parrish\, an ongoing series of learning experiences designed to engage and welcome our visitors with disabilities\, including individuals living with Parkinson’s Disease\, Alzheimer’s Disease\, dementia\, and children on the autism spectrum. \nSpring Fling also plays a crucial role in sustaining year-round initiatives\, including museum tours\, studio activities\, and variety of unique programs developed in collaboration with regional educators. \n 
URL:https://parrishart.org/event/spring-fling-2025/
LOCATION:Parrish Art Museum\, 279 Montauk Highway\, Water Mill\, NY\, 11976\, United States
CATEGORIES:Benefit Events
ATTACH;FMTTYPE=image/png:https://parrishart.org/wp-content/uploads/2024/12/2025.04.26-Spring-Fling-Last-Chance.png
END:VEVENT
END:VCALENDAR