BEGIN:VCALENDAR
VERSION:2.0
PRODID:-//Parrish Art Museum - ECPv6.10.2//NONSGML v1.0//EN
CALSCALE:GREGORIAN
METHOD:PUBLISH
X-WR-CALNAME:Parrish Art Museum
X-ORIGINAL-URL:https://parrishart.org
X-WR-CALDESC:Events for Parrish Art Museum
REFRESH-INTERVAL;VALUE=DURATION:PT1H
X-Robots-Tag:noindex
X-PUBLISHED-TTL:PT1H
BEGIN:VTIMEZONE
TZID:America/New_York
BEGIN:DAYLIGHT
TZOFFSETFROM:-0500
TZOFFSETTO:-0400
TZNAME:EDT
DTSTART:20240310T070000
END:DAYLIGHT
BEGIN:STANDARD
TZOFFSETFROM:-0400
TZOFFSETTO:-0500
TZNAME:EST
DTSTART:20241103T060000
END:STANDARD
END:VTIMEZONE
BEGIN:VEVENT
DTSTART;TZID=America/New_York:20240520T130000
DTEND;TZID=America/New_York:20240520T140000
DTSTAMP:20260421T214732
CREATED:20240424T202714Z
LAST-MODIFIED:20240512T142957Z
UID:10003797-1716210000-1716213600@parrishart.org
SUMMARY:Dance for Parkinson's
DESCRIPTION:Hosted by the Parrish Art Museum\, Dance for Parkinson’s is a dance workshop designed specifically for people living with Parkinson’s disease and their care partners. Classes include live music and celebrate movement\, creativity\, and community. \nClasses will be led by Donna Kaz\, a Dance for PD instructor\, choreographer\, and movement artist. Attire: Comfortable clothes and sneakers or socks. \nTo register\, contact sarah.cohen@stonybrookmedicine.edu or 631.644.6667. \n  \nThis program is offered free of charge thanks to a grant from the Institute of Museum and Library Services and the generous support of Bobbie Braun and the Neuwirth Foundation.
URL:https://parrishart.org/event/dance-for-pd-may-20-2024/
LOCATION:Parrish Art Museum\, 279 Montauk Highway\, Water Mill\, NY\, 11976\, United States
CATEGORIES:Classes and Workshops
ATTACH;FMTTYPE=image/jpeg:https://parrishart.org/wp-content/uploads/2024/04/DancePD-8022-by-Amber-Star-Merkens.jpeg
END:VEVENT
BEGIN:VEVENT
DTSTART;TZID=America/New_York:20240520T154500
DTEND;TZID=America/New_York:20240520T164500
DTSTAMP:20260421T214732
CREATED:20231218T211524Z
LAST-MODIFIED:20240502T165053Z
UID:10003735-1716219900-1716223500@parrishart.org
SUMMARY:After School Art Session III: Mondays
DESCRIPTION:Session II \, Mondays: April 29 & May 6\, 13\, 20  \n\nREGISTRATION OPEN NOW \n\nFREE | Southampton and Tuckahoe School District residents \n$60 | Nonresident \n\n\nAfter School Art Workshops are designed for children to learn about artists\, be inspired by works of art\, and to create their own artwork.
URL:https://parrishart.org/event/after-school-art-session-iii-mondays/2024-05-20/
LOCATION:Parrish Art Museum\, 279 Montauk Highway\, Water Mill\, NY\, 11976\, United States
CATEGORIES:Classes and Workshops
ATTACH;FMTTYPE=image/png:https://parrishart.org/wp-content/uploads/2022/01/childrensprogram_painting_ParrishMuseum_event.png
END:VEVENT
BEGIN:VEVENT
DTSTART;VALUE=DATE:20240521
DTEND;VALUE=DATE:20240522
DTSTAMP:20260421T214732
CREATED:20240415T201339Z
LAST-MODIFIED:20240514T182633Z
UID:10003787-1716249600-1716335999@parrishart.org
SUMMARY:Annual Vote to Support the Parrish Art Museum
DESCRIPTION:Thank you for supporting the Museum’s exhibitions\, education\, and enrichment programs throughout the year.\nAs a qualified voter of the Southampton Union Free School District or Tuckahoe Common School District\, we hope that you will show your support for the Parrish Art Museum by voting in the upcoming annual election to approve funding for the Museum on May 21\, 2024. \nSOUTHAMPTON\nPROPOSITION NO. 9: Resolved that the Board of Education shall be authorized to appropriate funds in the amount of Four Hundred Forty-Six Thousand One Hundred Eighty-Nine ($446\,189) Dollars for program expenses of the Parrish Art Museum during the 2024-2025 school year; which sum is to be raised by a levy of a tax upon the taxable real property within the Southampton Union Free School District’s boundaries. \nTUCKAHOE\nPROPOSITION No. 4: Resolved that the Board of Trustees of the Tuckahoe Common School District at Southampton\, Town of Southampton\, County of Suffolk\, be authorized and directed to levy a sum of Ten Thousand Five Hundred ($10\,500) Dollars for the District’s participation in the Parrish Art Museum. \nPLEASE COME OUT AND VOTE ON MAY 21\, 2024\nSOUTHAMPTON (10 AM–9 PM)\nYou can also vote by absentee ballot. Applications are available at Southampton Union Free School District\, 425 County Road 39A\, and must be received by the Office of the District Clerk no later than Monday\, May 20\, 2024\, if delivered personally OR no later than 5 PM on Tuesday\, May 21\, 2024\, if delivered by mail. \nTUCKAHOE (7 AM–8 PM)\nYou can also vote by absentee ballot. To arrange for an absentee ballot\, an individual should complete the written application form and submit it to the District Clerk at least 7 days before the vote. Absentee Ballots must be received by the District Clerk no later than Monday\, May 20\, 2024\, if delivered personally OR no later than 5 PM on Tuesday\, May 21\, 2024\, if delivered by mail. \nYour vote will help the Museum continue to:\nPROVIDE free year-round admission for students\, children under age 18\, and residents and employees of the Southampton and Tuckahoe School Districts\, as well as discounted admission for seniors.\nPARTNER with local teachers\, health and social care groups to create one-of-a-kind\, stimulating\, and hands-on arts programs offsite and at the Museum\, such as Access Parrish and our How Artists Work initiative.\nPRODUCE world-class exhibitions\, scholarly research\, and hundreds of public tours\, concerts\, talks\, and film screenings annually. \nQuestions? Email info@parrishart.org. \n  \nThe Resident Pass Program is a free one-year Membership granting free admission to galleries and free enrollment to After School Art and Middle School Makers. Each household includes two Resident Passes. The program is designed as a gesture of appreciation to the residents and district employees of Southampton and Tuckahoe School Districts\, as these districts participate in a tax levy supporting the mission and work of the Parrish Art Museum. \nClick below to sign up for your Resident Pass! \nBecome a Resident Pass Holder
URL:https://parrishart.org/event/annual-vote-to-support-the-parrish-art-museum-2024/
LOCATION:Parrish Art Museum\, 279 Montauk Highway\, Water Mill\, NY\, 11976\, United States
CATEGORIES:Upcoming
ATTACH;FMTTYPE=image/png:https://parrishart.org/wp-content/uploads/2024/04/Tax-Levy-Photo-Collage.png
END:VEVENT
BEGIN:VEVENT
DTSTART;TZID=America/New_York:20240523T154500
DTEND;TZID=America/New_York:20240523T170000
DTSTAMP:20260421T214732
CREATED:20240119T180731Z
LAST-MODIFIED:20240502T165242Z
UID:10003748-1716479100-1716483600@parrishart.org
SUMMARY:Children's Pottery
DESCRIPTION:REGISTER \nArt educator Wendy Gottlieb guides students to create pottery and study the history of ceramics. Hand-built pottery techniques will include coil\, slab\, and sculpture. All work will be fired. \nEnrollment is limited. \nPricing:\n$130 | Southampton and Tuckahoe School District residents\, Members\n$190 | Nonmembers
URL:https://parrishart.org/event/childrens-pottery/2024-05-23/
LOCATION:Parrish Art Museum\, 279 Montauk Highway\, Water Mill\, NY\, 11976\, United States
CATEGORIES:Classes and Workshops,Students
ATTACH;FMTTYPE=image/jpeg:https://parrishart.org/wp-content/uploads/2020/01/ArtCamp-Bock-02252014-031-final.jpg
END:VEVENT
BEGIN:VEVENT
DTSTART;TZID=America/New_York:20240525T110000
DTEND;TZID=America/New_York:20240525T130000
DTSTAMP:20260421T214732
CREATED:20240509T194644Z
LAST-MODIFIED:20240513T152618Z
UID:10003799-1716634800-1716642000@parrishart.org
SUMMARY:Member Preview: Carmen Herrera: Estructuras Monumentales
DESCRIPTION:REGISTER \nJoin us to celebrate the opening of Carmen Herrera: Estructuras Monumentales at the Parrish. Carmen Herrera: Estructuras Monumentales features four large-scale sculptures in red\, blue\, yellow\, and green in the Museum’s South Meadow. Advanced registration is required. \nNot a Parrish member? Join today →\n  \nCarmen Herrera (American\, b. Cuba\, 1915–2022) is known for her hard-edge paintings\, prints\, and sculptures—often representing geometric shapes with both symmetrical and asymmetrical abstractions. The four works installed in the Meadow\, Angulo Azul (2017)\, Angulo Amarillo (2017)\, Estructura Verde (1966/2018)\, and Gemini (Red) (1971/2019) are part of Herrera’s series Estructuras\, which she initially envisioned as sketches and paintings in the 1960s. In 1971\, Herrera fabricated four Estructuras in wood—three wall-based works and one free-standing. However\, it was only in the final fifteen years of the artist’s life that she was able to realize her vision for these monumental sculptures on a larger scale. The Estructuras series at the Parrish provides an opportunity to view the acrylic and aluminum works the way Herrera imagined them—each piece fabricated to her exact color and shape standards.. \nCarmen Herrera: Estructuras Monumentales is organized by Corinne Erni\, Lewis B. and Dorothy Cullman Chief Curator of Art and Education\, and Deputy Director of Curatorial Affairs\, with additional support by Kaitlin Halloran\, Assistant Curator and Publications Coordinator. \nExhibition Support\nThe Carmen Herrera: Estructuras Monumentales exhibition is made possible\, in part\, thanks to the generous support of Tony Bechara; The Fuhrman Family Foundation; Agnes Gund; Lisson Gallery; MOVADO; Estrellita and Daniel Brodsky; Jeff Lipsitz\, Allison Koffman\, and Family; and a donor who wishes to remain Anonymous. \nThe Parrish Art Museum’s programs are made possible\, in part\, by the New York State Council on the Arts with the support of Governor Kathy Hochul and the New York State Legislature\, and by the property taxpayers from the Southampton School District and the Tuckahoe Common School District. Public funding provided by Suffolk County.
URL:https://parrishart.org/event/member-preview-carmen-herrera/
LOCATION:Parrish Art Museum\, 279 Montauk Highway\, Water Mill\, NY\, 11976\, United States
CATEGORIES:Exhibitions,Member Events
ATTACH;FMTTYPE=image/jpeg:https://parrishart.org/wp-content/uploads/2024/05/Carmen-Herrera-Sculptures-Parrish-Vision-Maker-Productions-5.1-scaled.jpg
END:VEVENT
END:VCALENDAR