BEGIN:VCALENDAR
VERSION:2.0
PRODID:-//Parrish Art Museum - ECPv6.10.2//NONSGML v1.0//EN
CALSCALE:GREGORIAN
METHOD:PUBLISH
X-ORIGINAL-URL:https://parrishart.org
X-WR-CALDESC:Events for Parrish Art Museum
REFRESH-INTERVAL;VALUE=DURATION:PT1H
X-Robots-Tag:noindex
X-PUBLISHED-TTL:PT1H
BEGIN:VTIMEZONE
TZID:America/New_York
BEGIN:DAYLIGHT
TZOFFSETFROM:-0500
TZOFFSETTO:-0400
TZNAME:EDT
DTSTART:20240310T070000
END:DAYLIGHT
BEGIN:STANDARD
TZOFFSETFROM:-0400
TZOFFSETTO:-0500
TZNAME:EST
DTSTART:20241103T060000
END:STANDARD
END:VTIMEZONE
BEGIN:VEVENT
DTSTART;VALUE=DATE:20240203
DTEND;VALUE=DATE:20240205
DTSTAMP:20260420T212119
CREATED:20230801T192800Z
LAST-MODIFIED:20240104T163921Z
UID:10003640-1706918400-1707091140@parrishart.org
SUMMARY:Free Admission | Bank of America Cardholders & Employees
DESCRIPTION:PLAN YOUR VISIT \nPresent your active Bank of America\, Merrill or Bank of America Private Bank (U.S. Trust) credit or debit card with photo ID to gain one free general admission to the Museum! \nMuseums on Us® is available to Bank of America\, Merrill or Bank of America Private Bank (U.S. Trust) credit or debit cardholders during the first full weekend of every month. One free general admission is limited to the individual cardholder. This offer is not transferable. This offer does not guarantee admission. Not to be combined with other offers. Excludes fundraising events\, special exhibitions and ticketed exhibitions. \nFor complete eligibility requirements\, please review eligibility and terms prior to your visit. \nThrough Museums on Us® Bank of America offers cardholders new ways to get out and learn about the world around them\, with free general admission to local cultural attractions including some of America’s favorite museums and arts institutions. \nLearn more about the program today →
URL:https://parrishart.org/event/free-admission-bank-of-america-cardholders-employees-2/2024-02-03/
LOCATION:Parrish Art Museum\, 279 Montauk Highway\, Water Mill\, NY\, 11976\, United States
ATTACH;FMTTYPE=image/jpeg:https://parrishart.org/wp-content/uploads/2023/06/Guests-156_ArtistsChoose_April2023_4922.jpg
END:VEVENT
BEGIN:VEVENT
DTSTART;TZID=America/New_York:20240204T110000
DTEND;TZID=America/New_York:20240204T130000
DTSTAMP:20260420T212119
CREATED:20240118T174815Z
LAST-MODIFIED:20240130T161042Z
UID:10003742-1707044400-1707051600@parrishart.org
SUMMARY:Reception & Talk | Artists Choose Parrish: Alice Aycock & Amy Oppenheim
DESCRIPTION:REGISTER \nFree for Members | $20 Adults | $18 Seniors | $15 Member’s Guest | Free for Students & Children \n11 am\, Reception\n12 pm\, Panel\, Lichtenstein Theater \nJoin us in celebrating the conclusion of our yearlong exhibition series\, Artists Choose Parrish\, with a reception and conversation by artists Alice Aycock and Amy Oppenheim\, as they discuss their connections with Dennis Oppenheim—whose work is on view in Artists Choose Parrish\, Part II. Aycock and Oppenheim will be in conversation with Corinne Erni\, Lewis B. and Dorothy Cullman Chief Curator\, Art and Education. The landmark exhibition honors the East End’s rich artistic legacy and brings greater attention to major artists practicing here today. Forty-one renowned artists with deep local roots were invited to select works from the collection to be shown along with their own\, offering new perspectives and interpretations of the Parrish’s permanent collection.
URL:https://parrishart.org/event/reception-talk-artists-choose-parrish-alice-aycock-amy-oppenheim/
LOCATION:Parrish Art Museum\, 279 Montauk Highway\, Water Mill\, NY\, 11976\, United States
CATEGORIES:Exhibitions
ATTACH;FMTTYPE=image/jpeg:https://parrishart.org/wp-content/uploads/2024/01/ACP_Alice-Aycock-scaled.jpg
END:VEVENT
BEGIN:VEVENT
DTSTART;TZID=America/New_York:20240205T154500
DTEND;TZID=America/New_York:20240205T164500
DTSTAMP:20260420T212119
CREATED:20231218T205347Z
LAST-MODIFIED:20231220T170642Z
UID:10003718-1707147900-1707151500@parrishart.org
SUMMARY:After School Art Session I: Mondays
DESCRIPTION:Session I\, Mondays: January 22\, 29\, & February 5\, 12 \n\nREGISTRATION OPENS January 2 \n\nFREE | Southampton and Tuckahoe School District residents\, Members \n$60| Nonmembers \n\n\nAfter School Art Workshops are designed for children to learn about artists\, be inspired by works of art\, and to create their own artwork.
URL:https://parrishart.org/event/after-school-art-session-i-2/2024-02-05/
LOCATION:Parrish Art Museum\, 279 Montauk Highway\, Water Mill\, NY\, 11976\, United States
CATEGORIES:Classes and Workshops
ATTACH;FMTTYPE=image/png:https://parrishart.org/wp-content/uploads/2021/10/AfterSchoolArt_ChildrensProgramming_SliderTemplateWeb_ParrishArtMuseum.png
END:VEVENT
BEGIN:VEVENT
DTSTART;TZID=America/New_York:20240208T154500
DTEND;TZID=America/New_York:20240208T164500
DTSTAMP:20260420T212119
CREATED:20231218T210331Z
LAST-MODIFIED:20231220T175326Z
UID:10003722-1707407100-1707410700@parrishart.org
SUMMARY:After School Art Session I: Thursdays
DESCRIPTION:Session I\, Thursdays: January 25\, & February 1\, 8\, 15  \n\nREGISTRATION OPENS January 2 \n\nFREE | Southampton and Tuckahoe School District residents\, Members \n$60| Nonmembers \n\n\nAfter School Art Workshops are designed for children to learn about artists\, be inspired by works of art\, and to create their own artwork.
URL:https://parrishart.org/event/after-school-art-session-i-thursdays/2024-02-08/
LOCATION:Parrish Art Museum\, 279 Montauk Highway\, Water Mill\, NY\, 11976\, United States
CATEGORIES:Classes and Workshops
ATTACH;FMTTYPE=image/jpeg:https://parrishart.org/wp-content/uploads/2023/08/IMG_20230820_153027498_HDR-scaled.jpg
END:VEVENT
BEGIN:VEVENT
DTSTART;TZID=America/New_York:20240209T180000
DTEND;TZID=America/New_York:20240209T180000
DTSTAMP:20260420T212119
CREATED:20231218T175003Z
LAST-MODIFIED:20240126T205111Z
UID:10003715-1707501600-1707501600@parrishart.org
SUMMARY:Jazz | Gregory Lewis Organ Monk Trio
DESCRIPTION:TICKETS \n$25 Members | $30 Adults | $28 Seniors | $25 Member’s Guest | $15 Students | $5 Children \nWinter Jazz returns to the Parrish for a performance and CD Release by the Gregory Lewis Organ Monk Trio\, co-presented with Hamptons Jazz Fest. Virtuoso organist\, pianist\, and composer Gregory Lewis is a highly accomplished mainstay in New York City’s jazz\, blues\, and funk scenes. Deeply committed to discovering his musical language through specific jazz techniques\, the NYC native has said\, “I’m creating music for the next generation of jazz innovators.” Lewis\, who uses the Hammond B3 organ’s enormous sonic range to playfully turn traditional jazz melodies and notes into harmonic insights\, was named one of the “Top 5 Rising Stars” on organ on DownBeat’s 64th Annual Critic’s Poll in 2016. \nFriday Nights are made possible\, in part\, by The Corcoran Group.
URL:https://parrishart.org/event/jazz-gregory-lewis-organ-monk-trio/
LOCATION:Parrish Art Museum\, 279 Montauk Highway\, Water Mill\, NY\, 11976\, United States
CATEGORIES:Friday Nights,Music
ATTACH;FMTTYPE=image/jpeg:https://parrishart.org/wp-content/uploads/2023/12/GregLewisOrganMonk_1-scaled.jpg
END:VEVENT
END:VCALENDAR