BEGIN:VCALENDAR
VERSION:2.0
PRODID:-//Parrish Art Museum - ECPv6.10.2//NONSGML v1.0//EN
CALSCALE:GREGORIAN
METHOD:PUBLISH
X-WR-CALNAME:Parrish Art Museum
X-ORIGINAL-URL:https://parrishart.org
X-WR-CALDESC:Events for Parrish Art Museum
REFRESH-INTERVAL;VALUE=DURATION:PT1H
X-Robots-Tag:noindex
X-PUBLISHED-TTL:PT1H
BEGIN:VTIMEZONE
TZID:America/New_York
BEGIN:DAYLIGHT
TZOFFSETFROM:-0500
TZOFFSETTO:-0400
TZNAME:EDT
DTSTART:20230312T070000
END:DAYLIGHT
BEGIN:STANDARD
TZOFFSETFROM:-0400
TZOFFSETTO:-0500
TZNAME:EST
DTSTART:20231105T060000
END:STANDARD
END:VTIMEZONE
BEGIN:VEVENT
DTSTART;VALUE=DATE:20230701
DTEND;VALUE=DATE:20230703
DTSTAMP:20260425T160420
CREATED:20230405T191117Z
LAST-MODIFIED:20230623T215719Z
UID:10003595-1688169600-1688342340@parrishart.org
SUMMARY:Free Admission | Bank of America Cardholders & Employees
DESCRIPTION:PLAN YOUR VISIT \nPresent your active Bank of America\, Merrill or Bank of America Private Bank (U.S. Trust) credit or debit card with photo ID to gain one free general admission to the Museum! \nMuseums on Us® is available to Bank of America\, Merrill or Bank of America Private Bank (U.S. Trust) credit or debit cardholders during the first full weekend of every month. One free general admission is limited to the individual cardholder. This offer is not transferable. This offer does not guarantee admission. Not to be combined with other offers. Excludes fundraising events\, special exhibitions and ticketed exhibitions. \nFor complete eligibility requirements\, please review eligibility and terms prior to your visit. \nThrough Museums on Us® Bank of America offers cardholders new ways to get out and learn about the world around them\, with free general admission to local cultural attractions including some of America’s favorite museums and arts institutions. \nLearn more about the program today →
URL:https://parrishart.org/event/free-admission-bank-of-america-cardholders-employees/2023-07-01/
LOCATION:Parrish Art Museum\, 279 Montauk Highway\, Water Mill\, NY\, 11976\, United States
ATTACH;FMTTYPE=image/png:https://parrishart.org/wp-content/uploads/2023/02/UgoRindone_AlanSheilds_ArtistsChooseParrish_IA_ParrishArtMuseum_422_1-e1687557414107.png
END:VEVENT
BEGIN:VEVENT
DTSTART;TZID=America/New_York:20230707T163000
DTEND;TZID=America/New_York:20230707T183000
DTSTAMP:20260425T160420
CREATED:20220713T221033Z
LAST-MODIFIED:20230626T212856Z
UID:10003212-1688747400-1688754600@parrishart.org
SUMMARY:Business Member Meet-Up: Summer Social
DESCRIPTION:REGISTER \nJoin us for the annual Summer Social on the Terrace for Business Members and their guests. Meet and network with other members while enjoying wine and drinks from the Museum Café. Attendees are invited to a private tour of the current exhibition\, Artists Choose Parrish Part I with business member and Parrish docent\, Marc Chiffert. Event is held before the Jazz on the Terrace concert\, a Friday night public program. Please stay as our guest for this event after the tour and help us shape the business events for the Fall and Winter season. \n4:30 | Social time on the Terrace\n5:00 | Tour of Artists Choose Parrish\n6:00 | Social time and discussion of Fall/Winter events (optional) \nEvent intended for active Business Members\, prospective members\, and invited guests.  Not a Member?  Join today! \nDocent: Marc Chiffert \nMarc A Chiffert was born in France\, grew up in Brazil\, went to school in Canada\, and moved to the US in 1983.  Marc grew up in an art family\, where his mother was an international art dealer specializing in French and Israeli contemporary art\, and later Brazilian art too.   Marc’s mother had a gallery in Fairfield County\, Gallerie Vendome for 20 years.  By Profession\, Marc is an NYS licensed engineer with a professional architectural engineering practice in Southampton.  Marc is also the Co-Chairperson of the Southampton Village Planning Commission and a member of the Town of Southampton Licensing Review Board.  Marc sits on various boards\, including the Friends of McGill University. \nJazz on the Terrace: JOE FARNSWORTH “TIME TO SWING” WITH SARAH HANAHAN \nIn Collaboration with Hamptons Jazz Fest\n6-7:30 PM \nBusiness events are planned and sponsored by the Parrish Business Council\, a volunteer committee of East End professionals serving culturally engaged business leaders and organizations by providing programming and networking opportunities for Parrish Business Members. Current Councilpersons: \n\n\n\nEmil K. Everett\, New Amsterdam\, LLC\nErik Fredrickson\, Fredrickson Consulting Group\, Council Chair\nNadine Homann\, NH Design Studios Inc.\nDiana Pepi Stott\, Pepi Design Group\, LLC\nLisa Saladino\, The Hackett Group\, Merrill Lynch\nJoyce Siegel\, Joyce’s Art Walk\nLinda A. Smith\, Linda A. Smith Associates\n\n\n\n  \nPre-event registration is recommended. \nMore information surrounding our COVID-19 protocol →
URL:https://parrishart.org/event/business-member-meet-up-4/
LOCATION:Parrish Art Museum\, 279 Montauk Highway\, Water Mill\, NY\, 11976\, United States
ATTACH;FMTTYPE=image/png:https://parrishart.org/wp-content/uploads/2022/06/BusinessCounsel_ParrishArtMuseum_event.png
END:VEVENT
BEGIN:VEVENT
DTSTART;TZID=America/New_York:20230707T180000
DTEND;TZID=America/New_York:20230707T193000
DTSTAMP:20260425T160420
CREATED:20230515T154307Z
LAST-MODIFIED:20230706T210617Z
UID:10003605-1688752800-1688758200@parrishart.org
SUMMARY:Jazz | Joe Farnsworth “Time to Swing” with Sarah Hanahan
DESCRIPTION:REGISTER \n$15 Members | $25 Adults | $15 Seniors\, Students | $5 Children | $15 Member’s Guest \nSummer Jazz on the Terrace returns with five concerts in July\, August\, and September as part of the Museum’s third annual collaboration with The Jam Session. For the first concert\, on Friday July 7\, Hamptons Jazz Fest and the SmallsLive Foundation present Joe Farnsworth and Sarah Hanahan “Time to Swing.” \nJoe Farnsworth\, one of the most highly regarded jazz drummers on the scene today\, is known for his blazing speed\, precision\, and musical and melodic playing. Originally from a musical family in South Hadley Massachusetts\, Farnsworth studied with Alan Dawson and Arthur Taylor prior to attending and graduating from William Patterson College in New Jersey in 1994 where he began playing with saxophonist Eric Alexander and guitarist Peter Bernstein. Since relocating to New York City\, Farnsworth has led weekend jazz combos at Smoke Jazz and Supper Club. During his career\, he was performed in jazz festivals and world tours with Pharoah Sanders\, Horace Silver\, McCoy Tyner\, Cedar Walton\, George Coleman\, and Johnny Griffin\, among others. \nSarah Hanahan\, an up-and-coming jazz saxophonist in New York\, is currently pursuing a Master’s in Jazz performance at The Juilliard School. In 2015\, Hanahan was awarded a full scholarship to study jazz performance at the Jackie McLean Institute of Jazz within the Hartt School of Music at the University of Hartford. She has participated in prestigious programs such as the Betty Carter Jazz Ahead program at the Kennedy Center\, Jazz Aspen Snowmass with Christian McBride\, and Ravinia Steans Jazz Institute. Hanahan is currently a Boston Sax Shop Brand Ambassador and plays BSS reeds along with other saxophone accessories; her main horn is the Yanagisawa A-991 alto saxophone. \nAbout Hamptons Jazz Fest\nHamptons Jazz Fest\, produced by The Jam Session\, Inc\, is a series of performances that bring world-class musicians in the fields of Jazz\, Latin\, and World music to a diverse cross-section of populations in the East End of Long Island\, held in iconic venues throughout July\, August and September. Collaborating with regional non-profit cultural organizations\, Hamptons Jazz Fest presents dozens of concerts at an affordable rate and engage the diverse groups of the East End in their performance and educational events. \n  \nSpecial Menu options from the Parrish Cafe available here. \n  \nFriday Nights are supported in part by  The Corcoran Group.  The Parrish Summer Concert Program as part of Hamptons Jazz Fest is generously supported by The SmallsLIVE Foundation and Klavierhaus.
URL:https://parrishart.org/event/listen-joe-farnsworth-time-to-swing-with-sarah-hanahan/
LOCATION:Parrish Art Museum\, 279 Montauk Highway\, Water Mill\, NY\, 11976\, United States
ATTACH;FMTTYPE=image/png:https://parrishart.org/wp-content/uploads/2023/05/Joe_HamptonsJazz_ParrishArtMuseum_2023-1.png
END:VEVENT
BEGIN:VEVENT
DTSTART;TZID=America/New_York:20230708T110000
DTEND;TZID=America/New_York:20230708T123000
DTSTAMP:20260425T160420
CREATED:20230612T212320Z
LAST-MODIFIED:20230626T141708Z
UID:10003616-1688814000-1688819400@parrishart.org
SUMMARY:Open Studio for Families
DESCRIPTION:Create in this free Open Studio class for you and your family. In this session\, make art inspired by works in Artists Choose Parrish. This exhibition celebrates the 125th Anniversary of The Parrish Art Museum. \nDrop in sessions are limited to 30 minutes and all ages must be accompanied by an adult. \nNo advance registration required. \n Learn more about Artists Choose Parrish→ \n  \n 
URL:https://parrishart.org/event/open-studio-for-families-4/
LOCATION:Parrish Art Museum\, 279 Montauk Highway\, Water Mill\, NY\, 11976\, United States
CATEGORIES:Classes and Workshops,Exhibitions,Family Programs
ATTACH;FMTTYPE=image/jpeg:https://parrishart.org/wp-content/uploads/2019/10/2019.6.30.jpg
END:VEVENT
BEGIN:VEVENT
DTSTART;TZID=America/New_York:20230708T140000
DTEND;TZID=America/New_York:20230708T144500
DTSTAMP:20260425T160420
CREATED:20230623T024417Z
LAST-MODIFIED:20230626T141733Z
UID:10003626-1688824800-1688827500@parrishart.org
SUMMARY:Guided Tour | Artists Choose Parrish
DESCRIPTION:REGISTER\nLearn about the Artists Choose Parrish with a guided tour from a Museum Docent. Free with museum admission. Space is limited and pre-registration is required. \n  \nLearn more about our COVID-19 safety protocols here.
URL:https://parrishart.org/event/guided-tour-artists-choose-parrish-3/
LOCATION:NY
CATEGORIES:Public Tours
ATTACH;FMTTYPE=image/jpeg:https://parrishart.org/wp-content/uploads/2023/06/gd-124_ArtistsChoose_April2023_8507.jpg
END:VEVENT
END:VCALENDAR