BEGIN:VCALENDAR
VERSION:2.0
PRODID:-//Parrish Art Museum - ECPv6.10.2//NONSGML v1.0//EN
CALSCALE:GREGORIAN
METHOD:PUBLISH
X-ORIGINAL-URL:https://parrishart.org
X-WR-CALDESC:Events for Parrish Art Museum
REFRESH-INTERVAL;VALUE=DURATION:PT1H
X-Robots-Tag:noindex
X-PUBLISHED-TTL:PT1H
BEGIN:VTIMEZONE
TZID:America/New_York
BEGIN:DAYLIGHT
TZOFFSETFROM:-0500
TZOFFSETTO:-0400
TZNAME:EDT
DTSTART:20220313T070000
END:DAYLIGHT
BEGIN:STANDARD
TZOFFSETFROM:-0400
TZOFFSETTO:-0500
TZNAME:EST
DTSTART:20221106T060000
END:STANDARD
END:VTIMEZONE
BEGIN:VEVENT
DTSTART;TZID=America/New_York:20221205T110000
DTEND;TZID=America/New_York:20221205T130000
DTSTAMP:20260421T094634
CREATED:20220912T164911Z
LAST-MODIFIED:20220912T165524Z
UID:10003279-1670238000-1670245200@parrishart.org
SUMMARY:Fall Life Drawing Series III
DESCRIPTION:REGISTER\n\n Mondays\, November 14\, 21 & December 5\, 12   (SKIPS MONDAY  November 28)\nNonmember $125| Member $105\nSee below to register for individual classes\n\n\n\n\nDevelop your drawing skills with teaching artist Linda Capello. Participants will practice drawing male and female models through gesture sketches and longer duration observation. All skill levels are welcome. Participants are asked to provide their own dry media supplies.\n\n\nProof of vaccine is required for attendees of adult classes at the Lichtenstein Theater\, café\, & Studio; those age 18 and older must also provide a valid ID. A negative test result will not be accepted. \nIndividual Class Purchase\n$31.25| $26.25 for Members \n November 14\, 2022 | Register →\nNovember  21\, 2022 | Register →\n\nDecember 5\, 2022 | Register →\nDecember  12\, 2022 | Register →\n\n\n\nMore information surrounding our COVID-19 protocol  →\nMore information on upcoming classes →  \n  \n 
URL:https://parrishart.org/event/fall-life-drawing-3/2022-12-05/
LOCATION:Parrish Art Museum\, 279 Montauk Highway\, Water Mill\, NY\, 11976\, United States
CATEGORIES:Adult Art Classes,Classes and Workshops
ATTACH;FMTTYPE=image/jpeg:https://parrishart.org/wp-content/uploads/2019/01/Linda3.jpg
END:VEVENT
BEGIN:VEVENT
DTSTART;TZID=America/New_York:20221208T170000
DTEND;TZID=America/New_York:20221208T183000
DTSTAMP:20260421T094634
CREATED:20221110T151208Z
LAST-MODIFIED:20240801T190706Z
UID:10003302-1670518800-1670524200@parrishart.org
SUMMARY:Think Tank: Navigating Business Challenges and Opportunities in 2023
DESCRIPTION:REGISTER \nThe Business Think Thank is designed to bring local business professionals together to discuss their work and the current working climate on Long Island’s East End. Meet with your peers across industries for a conversation about identifying and leveraging strengths in the marketplace and managing changing economic conditions. This open conversation will offer an opportunity to reflect on 2022 and set the stage for positive action in 2023. \nPrior to the event\, attendees are invited to self-guide through the Museum’s newest exhibitions\, Mel Kendrick: Seeing Things in Things\, presenting a wide range of sculpture from Kendrick’s (b. 1949) decades-long career\, and Kahlo: An Expanded Body\, a groundbreaking investigation into iconic artist Frida Kahlo (Mexican\, 1907-1954) through the lens of her dramatic medical history and its sustained impact on her life and work. \nThis in-person event is open to all business professionals in the community. Business Members\, Parrish Members\, and their guests attend free. Non-members pay museum admission price of $16. Please pre-register by Monday\, December 5. To become a member\, please contact membership@parrishart.org or call 631-283-2118 x 167. \nPlease let us know your field of work and a challenge you are facing by clicking the link above for a short 4-question survey. \nPARTICIPANT SURVEY LINK\n  \n  \n\nThis event is planned and sponsored by the Parrish Business Council\, a volunteer committee of East End professionals serving culturally engaged business leaders and organizations by providing programming and networking opportunities for Parrish Business Members. Current Council Members: \n\nErik Fredrickson\, Fredrickson Consulting Group (Chair)\nEmil K. Everett\, New Amsterdam\, LLC\nNadine Homann\, NH Design Studios Inc.\nDiana Pepi Stott\, Pepi Design Group\, LLC\nLisa Saladino\, The Hackett Group\, Merrill Lynch\nLinda A Smith\, Linda A Smith Associates\nJoyce Siegel\, Joyce’s Art Walk \n\n 
URL:https://parrishart.org/event/think-tank-navigating-business-challenges-and-opportunities-in-2023/
LOCATION:Parrish Art Museum\, 279 Montauk Highway\, Water Mill\, NY\, 11976\, United States
CATEGORIES:Member Events
ATTACH;FMTTYPE=image/png:https://parrishart.org/wp-content/uploads/2022/11/CF83393E-2C55-4D42-BD3B-5D95105A84D7.png
END:VEVENT
BEGIN:VEVENT
DTSTART;TZID=America/New_York:20221209T180000
DTEND;TZID=America/New_York:20221209T190000
DTSTAMP:20260421T094634
CREATED:20221026T202253Z
LAST-MODIFIED:20221121T234004Z
UID:10003300-1670608800-1670612400@parrishart.org
SUMMARY:PechaKucha Night Hamptons Vol. 38
DESCRIPTION:REGISTER\nFree with Museum admission \nMeet the many creatives who call the East End of Long Island\, New York their home at our high energy PechaKucha Night Hamptons. \nArtists\, writers\, musicians\, gardeners\, farmers\, baymen\, chefs\, designers\, and architects present their work and passions in just under 7 minutes as they us a simple format of 20 images x 20 seconds per image. \nSpeakers include: \nMónica Ramírez-Montagut\, Parrish Art Museum Executive Director\, and architect\nEsperanza Leon\, curator\, East Hampton\nDoug Block\, photographer and filmmaker\, Springs\nPatricia Pickman Udell\, artist\, Quogue\nDenise Gale\, painter\, Springs\nVictor Miranda\, filmmaker\, Hampton Bays \nAs the official site for the Hamptons\, the Parrish joins over 700 cities globally in hosting PechaKucha Nights\, named for the sound of “chit-chat” in Japanese. This is a great opportunity to establish new relationships\, learn about local resources\, and hear from your neighbors. Learn more about PechaKucha Night Hamptons. \nAdvance ticket purchase with pre-event registration is recommended. Limited tickets will be available at the door. All sales are final\, non-transferable\, and non-refundable. \nMore information surrounding our COVID-19 protocol → \n  \n  \n  \n  \nFriday Nights are made possible\, in part\, by Presenting Sponsor\, Bank of America. \n \nAdditional support provided by Weill Cornell Medicine – Southampton and The Corcoran Group
URL:https://parrishart.org/event/pechakucha-night-hamptons-vol-38/
LOCATION:Parrish Art Museum\, 279 Montauk Highway\, Water Mill\, NY\, 11976\, United States
CATEGORIES:Friday Nights,PechaKucha
ATTACH;FMTTYPE=image/png:https://parrishart.org/wp-content/uploads/2022/10/Screen-Shot-2022-11-21-at-6.10.03-PM.png
END:VEVENT
BEGIN:VEVENT
DTSTART;TZID=America/New_York:20221210T130000
DTEND;TZID=America/New_York:20221210T150000
DTSTAMP:20260421T094634
CREATED:20220916T182736Z
LAST-MODIFIED:20221117T191111Z
UID:10003285-1670677200-1670684400@parrishart.org
SUMMARY:Creative Studio | Sculpture
DESCRIPTION:REGISTER \nNovember 5 & December 10Nonmember $50 | Member $30 \nIn this two-part Creative Studio\, explore and create mixed media\, table top sculpture\, taking cues from the exhibition Mel Kendrick: Seeing Things in Things\, Picasso’s cardboard maquettes and Betty Parsons’ painted assemblages. Participants will build forms\, apply surface and color. \n 
URL:https://parrishart.org/event/creative-studio-sculpture2/2022-12-10/
LOCATION:Parrish Art Museum\, 279 Montauk Highway\, Water Mill\, NY\, 11976\, United States
CATEGORIES:Classes and Workshops,Exhibitions
ATTACH;FMTTYPE=image/jpeg:https://parrishart.org/wp-content/uploads/2022/09/2014.14--scaled.jpg
END:VEVENT
BEGIN:VEVENT
DTSTART;TZID=America/New_York:20221210T140000
DTEND;TZID=America/New_York:20221210T150000
DTSTAMP:20260421T094634
CREATED:20221025T191351Z
LAST-MODIFIED:20221109T165546Z
UID:10003298-1670680800-1670684400@parrishart.org
SUMMARY:Guided Tour
DESCRIPTION:REGISTER\n  \nLearn about the special exhibitions with a free guided tour from a Museum Docent. Space is limited and pre-registration is required.  \n  \nLearn more about our COVID-19 safety protocols here.
URL:https://parrishart.org/event/guided-tour-40/
LOCATION:Parrish Art Museum\, 279 Montauk Highway\, Water Mill\, NY\, 11976\, United States
CATEGORIES:Exhibitions,Public Tours
ATTACH;FMTTYPE=image/jpeg:https://parrishart.org/wp-content/uploads/2022/10/IMG_2590.jpg
END:VEVENT
END:VCALENDAR