BEGIN:VCALENDAR
VERSION:2.0
PRODID:-//Parrish Art Museum - ECPv6.10.2//NONSGML v1.0//EN
CALSCALE:GREGORIAN
METHOD:PUBLISH
X-WR-CALNAME:Parrish Art Museum
X-ORIGINAL-URL:https://parrishart.org
X-WR-CALDESC:Events for Parrish Art Museum
REFRESH-INTERVAL;VALUE=DURATION:PT1H
X-Robots-Tag:noindex
X-PUBLISHED-TTL:PT1H
BEGIN:VTIMEZONE
TZID:America/New_York
BEGIN:DAYLIGHT
TZOFFSETFROM:-0500
TZOFFSETTO:-0400
TZNAME:EDT
DTSTART:20220313T070000
END:DAYLIGHT
BEGIN:STANDARD
TZOFFSETFROM:-0400
TZOFFSETTO:-0500
TZNAME:EST
DTSTART:20221106T060000
END:STANDARD
END:VTIMEZONE
BEGIN:VEVENT
DTSTART;TZID=America/New_York:20220108T140000
DTEND;TZID=America/New_York:20220108T150000
DTSTAMP:20260420T125603
CREATED:20220103T191144Z
LAST-MODIFIED:20220108T180615Z
UID:10003062-1641650400-1641654000@parrishart.org
SUMMARY:Guided Tour
DESCRIPTION:REGISTER\nLearn about the exhibitions on view with a free guided tour from a Museum Docent. Space is limited and pre-registration is required. \nThis indoor event requires proof of vaccination for all attendees; those 18 and older must provide a valid ID. All museum visitors must wear a medical-grade mask at all times. Masks will be provided to anyone who needs one\, free of charge. To help us expedite the check-in process\, we encourage all guests to send their proof in advance by emailing it to healthfirst@parrishart.org. Please put the event title in your subject line.\nLearn more about our safety protocols here.\n 
URL:https://parrishart.org/event/guided-tour-2/
LOCATION:Parrish Art Museum\, 279 Montauk Highway\, Water Mill\, NY\, 11976\, United States
CATEGORIES:Public Tours
ATTACH;FMTTYPE=image/png:https://parrishart.org/wp-content/uploads/2021/12/LiLan_UndeliverableAsAddressed_PicturesWithinPictures_ParrishArtMuseum_web.png
END:VEVENT
BEGIN:VEVENT
DTSTART;TZID=America/New_York:20220108T150000
DTEND;TZID=America/New_York:20220108T163000
DTSTAMP:20260420T125603
CREATED:20211207T161306Z
LAST-MODIFIED:20220106T213613Z
UID:10003050-1641654000-1641659400@parrishart.org
SUMMARY:Film | Marcel Duchamp: The Art of the Possible
DESCRIPTION:REGISTER\n$15 | $5 Parrish Members\, Seniors\, and Students \n2019\, 86 min\, Directed by Matthew Taylor \nPlease note due to the impending snow forecast\, this screening has been rescheduled to Saturday\, January 8 at 3 PM. \nIntroduced by Alicia Longwell\, Ph.D.\, The Lewis B. and Dorothy Cullman Chief Curator\, Marcel Duchamp: The Art of the Possible explores the life\, philosophy\, and impact of one of the most influential early 20th century modernists\, Marcel Duchamp. The film breaks down Duchamp’s ideas and applies them to both historical events and the modernist explosion that blanketed the early 20th century. Marcel Duchamp: The Art of the Possible isn’t simply a biopic; rather\, the film shows how Duchamp’s ideas changed the public consciousness\, and our understanding of aesthetics\, art\, and culture. The film highlights the singular impact of Duchamp’s philosophy on art\, and\, more importantly\, examines how Duchamp’s revolutionary ideas from the early 20th century have shaped the 21st century and modern day. \nUltimately\, Marcel Duchamp: The Art of the Possible is a guide to exploring the possibilities in every artistic endeavor and showcasing how Duchamp’s ideas gave generations of artists the intellectual backing to pursue new ideas. \nFeaturing Jeff Koons\, Marina Abramovic\, Larry Bell\, Ed Ruscha\, Michel Gondry\, Paul Matisse\, Edward Ruscha\, Stefan Sagmeister\, Bibbe Hansen\, Arturo Schwarz\, Carolee Schneemann and more. \nAdvance ticket purchase with pre-event registration is recommended. Limited tickets will be available at the door. All sales are final\, non-transferable\, and non-refundable.\nThis indoor event requires all attendees to wear medical-grade masks at all times and show proof of vaccination; those 18 and older must provide a valid ID. To help us expedite the check-in process\, we encourage all guests to send their proof in advance by emailing it to healthfirst@parrishart.org. Please put the event title in your subject line. \nFor more information surrounding our COVID-19 protocol\, go here.\nFriday Nights are made possible\, in part\, by Presenting Sponsor:\n \nAdditional support provided by The Corcoran Group and Sandy and Stephen Perlbinder.
URL:https://parrishart.org/event/film-marcel-duchamp-the-art-of-the-possible/
LOCATION:Parrish Art Museum\, 279 Montauk Highway\, Water Mill\, NY\, 11976\, United States
ATTACH;FMTTYPE=image/png:https://parrishart.org/wp-content/uploads/2021/12/MarcelDuchamp_ParrishArtMuseum.png
END:VEVENT
END:VCALENDAR