BEGIN:VCALENDAR
VERSION:2.0
PRODID:-//Parrish Art Museum - ECPv6.10.2//NONSGML v1.0//EN
CALSCALE:GREGORIAN
METHOD:PUBLISH
X-WR-CALNAME:Parrish Art Museum
X-ORIGINAL-URL:https://parrishart.org
X-WR-CALDESC:Events for Parrish Art Museum
REFRESH-INTERVAL;VALUE=DURATION:PT1H
X-Robots-Tag:noindex
X-PUBLISHED-TTL:PT1H
BEGIN:VTIMEZONE
TZID:America/New_York
BEGIN:DAYLIGHT
TZOFFSETFROM:-0500
TZOFFSETTO:-0400
TZNAME:EDT
DTSTART:20210314T070000
END:DAYLIGHT
BEGIN:STANDARD
TZOFFSETFROM:-0400
TZOFFSETTO:-0500
TZNAME:EST
DTSTART:20211107T060000
END:STANDARD
BEGIN:DAYLIGHT
TZOFFSETFROM:-0500
TZOFFSETTO:-0400
TZNAME:EDT
DTSTART:20220313T070000
END:DAYLIGHT
BEGIN:STANDARD
TZOFFSETFROM:-0400
TZOFFSETTO:-0500
TZNAME:EST
DTSTART:20221106T060000
END:STANDARD
END:VTIMEZONE
BEGIN:VEVENT
DTSTART;TZID=America/New_York:20211227T110000
DTEND;TZID=America/New_York:20211227T114500
DTSTAMP:20260420T093728
CREATED:20211025T172335Z
LAST-MODIFIED:20211025T175421Z
UID:10003006-1640602800-1640605500@parrishart.org
SUMMARY:Winter Vacation Workshop | Painted Landscape
DESCRIPTION:One parent/guardian must accompany the child \nREGISTER\n \n$10 Members | $15 Non-Members\n \nCelebrate winter break at the Museum with creative workshops and visual arts. In this workshop\, children will create winter landscape paintings with tempera paint.
URL:https://parrishart.org/event/paint-winter-landscape/
LOCATION:Parrish Art Museum\, 279 Montauk Highway\, Water Mill\, NY\, 11976\, United States
CATEGORIES:Classes and Workshops,Family Programs
ATTACH;FMTTYPE=image/png:https://parrishart.org/wp-content/uploads/2021/10/ChildrensProgramming_WinterLandscape_ParrishArtMuseum.png
END:VEVENT
BEGIN:VEVENT
DTSTART;TZID=America/New_York:20211227T130000
DTEND;TZID=America/New_York:20211227T150000
DTSTAMP:20260420T093728
CREATED:20211025T174113Z
LAST-MODIFIED:20211103T143753Z
UID:10003007-1640610000-1640617200@parrishart.org
SUMMARY:Winter Vacation Workshop | Painted Landscape
DESCRIPTION:REGISTER\n$20 Members | $25 Non-Members\nCelebrate winter break at the Museum with creative workshops and visual arts. In this workshop\, children will create winter landscape paintings with tempera paint.
URL:https://parrishart.org/event/winter-vacation-workshop-painted-landscape/
LOCATION:Parrish Art Museum\, 279 Montauk Highway\, Water Mill\, NY\, 11976\, United States
CATEGORIES:Classes and Workshops
ATTACH;FMTTYPE=image/png:https://parrishart.org/wp-content/uploads/2021/10/WinterLandscapeTempura_childrensprogramming_TemplateWeb_ParrishArtMuseum.png
END:VEVENT
BEGIN:VEVENT
DTSTART;TZID=America/New_York:20211228T110000
DTEND;TZID=America/New_York:20211228T114500
DTSTAMP:20260420T093728
CREATED:20211025T181545Z
LAST-MODIFIED:20211025T181545Z
UID:10003008-1640689200-1640691900@parrishart.org
SUMMARY:Winter Vacation Workshop | Holiday Abstract Collage
DESCRIPTION:One parent/guardian must accompany the child \nREGISTER\n \n$10 Members | $15 Non-Members\n \nCelebrate winter break at the Parrish with creative workshops and visual arts. In this workshop\, children will create holiday collages inspired by the festive season.
URL:https://parrishart.org/event/winter-vacation-workshop-holiday-abstract-collage/
LOCATION:Parrish Art Museum\, 279 Montauk Highway\, Water Mill\, NY\, 11976\, United States
CATEGORIES:Classes and Workshops,Family Programs
END:VEVENT
BEGIN:VEVENT
DTSTART;TZID=America/New_York:20211228T130000
DTEND;TZID=America/New_York:20211228T150000
DTSTAMP:20260420T093728
CREATED:20211025T181829Z
LAST-MODIFIED:20211025T181829Z
UID:10003009-1640696400-1640703600@parrishart.org
SUMMARY:Winter Vacation Workshop | Holiday Abstract Collage
DESCRIPTION:REGISTER\n  \n$20 Members | $25 Non-Members\n  \nCelebrate winter break at the Parrish with creative workshops and visual arts. In this workshop\, children will create holiday collages inspired by the festive season.
URL:https://parrishart.org/event/winter-vacation-workshop-holiday-abstract-collage-2/
LOCATION:Parrish Art Museum\, 279 Montauk Highway\, Water Mill\, NY\, 11976\, United States
CATEGORIES:Classes and Workshops,Family Programs
END:VEVENT
BEGIN:VEVENT
DTSTART;TZID=America/New_York:20211229T110000
DTEND;TZID=America/New_York:20211229T114500
DTSTAMP:20260420T093728
CREATED:20211025T210042Z
LAST-MODIFIED:20211025T210042Z
UID:10003011-1640775600-1640778300@parrishart.org
SUMMARY:Winter Vacation Workshop | Snowy Sculptures
DESCRIPTION:One parent/guardian must accompany the child \nREGISTER\n \n$10 Members | $15 Non-Members\n \nCelebrate winter break at the Parrish with creative workshops and visual arts. In this workshop\, children will create 3D Winter Wonderland Sculptures using Model Magic and other mixed media.
URL:https://parrishart.org/event/winter-vacation-workshop-snowy-sculptures-3/
LOCATION:Parrish Art Museum\, 279 Montauk Highway\, Water Mill\, NY\, 11976\, United States
CATEGORIES:Classes and Workshops,Family Programs
ATTACH;FMTTYPE=image/png:https://parrishart.org/wp-content/uploads/2021/10/Collage_ChildrensProgramming_TemplateWeb_ParrishArtMuseum-2.png
END:VEVENT
BEGIN:VEVENT
DTSTART;TZID=America/New_York:20211229T130000
DTEND;TZID=America/New_York:20211229T150000
DTSTAMP:20260420T093728
CREATED:20211025T205936Z
LAST-MODIFIED:20211118T111303Z
UID:10003010-1640782800-1640790000@parrishart.org
SUMMARY:Winter Vacation Workshop | Snowy Sculptures 5+
DESCRIPTION:REGISTER\n  \n$20 Members | $25 Non-Members\n  \n\nCelebrate winter break at the Parrish with creative workshops and visual arts. In this workshop\, children will create 3D Winter Wonderland Sculptures using Model Magic and other mixed media.
URL:https://parrishart.org/event/winter-vacation-workshop-snowy-sculptures-5/
LOCATION:Parrish Art Museum\, 279 Montauk Highway\, Water Mill\, NY\, 11976\, United States
CATEGORIES:Classes and Workshops,Family Programs
END:VEVENT
BEGIN:VEVENT
DTSTART;VALUE=DATE:20211230
DTEND;VALUE=DATE:20211231
DTSTAMP:20260420T093728
CREATED:20211226T161955Z
LAST-MODIFIED:20211228T134252Z
UID:10003061-1640822400-1640908799@parrishart.org
SUMMARY:Updated COVID-19 Protocols*
DESCRIPTION:We look forward to welcoming you to the Parrish Art Museum. Your health and safety continue to be our priorities. Please be assured that the Parrish is following the most recent guidelines issued by the Centers for Disease Control (CDC) and New York State to increase its health and safety procedures. \nTo that end\, we have updated our COVID-19 policy. Starting December 26 all visitors to the galleries and attendees at programs and events must be vaccinated and wear a medical-grade mask at all times. \nMASKS \nMedical grade masks must be worn by all visitors age two and older. \nVACCINATIONS \nAll visitors 18 and older must show proof of vaccination and a valid personal ID. \nAll visitors 12 and older must show proof that they have received two doses of an accepted two-dose series vaccine\, or one dose of the Johnson & Johnson vaccine. \nAll visitors 5 to 11 years old must show proof that they have received at least one dose of an accepted vaccine to enter the Museum. \nAcceptable proof of vaccination for all visitors: \n· CDC Vaccination Card (or photo) \n· NYC COVID Safe app \n· New York State Excelsior Pass \n· NYC Vaccination Record \n· An official immunization record from outside NYC or the U.S. \nAcceptable form of ID for those 18 and older: \nA valid ID must include your name and either a photograph OR your date of birth\, such as: \n· Driver’s license \n· Government ID card \n· IDNYC card \n· Passport \n· School ID card \n  \nWe thank you for your cooperation. \nPLAN YOUR VISIT   LEARN MORE
URL:https://parrishart.org/event/updated-covid-19-protocols-2021-12-30/
LOCATION:Parrish Art Museum\, 279 Montauk Highway\, Water Mill\, NY\, 11976\, United States
ATTACH;FMTTYPE=image/png:https://parrishart.org/wp-content/uploads/2021/12/COVIDupdates_mask.png
END:VEVENT
BEGIN:VEVENT
DTSTART;TZID=America/New_York:20211231T110000
DTEND;TZID=America/New_York:20211231T150000
DTSTAMP:20260420T093728
CREATED:20211221T195451Z
LAST-MODIFIED:20211223T161859Z
UID:10003059-1640948400-1640962800@parrishart.org
SUMMARY:Early Closure at 3 PM | Holiday Hours
DESCRIPTION:The Museum will be open from 11 AM to 3 PM on New Year’s Eve.
URL:https://parrishart.org/event/early-closure-at-3-pm-holiday-hours/
LOCATION:Parrish Art Museum\, 279 Montauk Highway\, Water Mill\, NY\, 11976\, United States
END:VEVENT
BEGIN:VEVENT
DTSTART;VALUE=DATE:20220101
DTEND;VALUE=DATE:20220102
DTSTAMP:20260420T093728
CREATED:20211221T195339Z
LAST-MODIFIED:20211221T195339Z
UID:10003058-1640995200-1641081599@parrishart.org
SUMMARY:Museum Closed | Holiday Hours
DESCRIPTION:The Museum will be closed on New Years Day. Visit us the next day during our regular hours\, from 11 AM to 5 PM.
URL:https://parrishart.org/event/museum-closed-holiday-hours/
LOCATION:Parrish Art Museum\, 279 Montauk Highway\, Water Mill\, NY\, 11976\, United States
END:VEVENT
BEGIN:VEVENT
DTSTART;VALUE=DATE:20220101
DTEND;VALUE=DATE:20220102
DTSTAMP:20260420T093728
CREATED:20211226T161955Z
LAST-MODIFIED:20220111T220809Z
UID:10003060-1640995200-1641081599@parrishart.org
SUMMARY:Updated COVID-19 Protocols
DESCRIPTION:We look forward to welcoming you to the Parrish Art Museum. Your health and safety continue to be our priorities. Please be assured that the Parrish is following the most recent guidelines issued by the Centers for Disease Control (CDC) and New York State to increase its health and safety procedures. \nTo that end\, we have updated our COVID-19 policy. Starting December 26 all visitors to the galleries and attendees at programs and events must be vaccinated and wear a medical-grade mask at all times. \nMASKS \nMedical grade masks must be worn by all visitors age two and older. \nVACCINATIONS \nAll visitors 18 and older must show proof of vaccination and a valid personal ID. \nAll visitors 12 and older must show proof that they have received two doses of an accepted two-dose series vaccine\, or one dose of the Johnson & Johnson vaccine. \nAll visitors 5 to 11 years old must show proof that they have received at least one dose of an accepted vaccine to enter the Museum. \nAcceptable proof of vaccination for all visitors: \n· CDC Vaccination Card (or photo) \n· NYC COVID Safe app \n· New York State Excelsior Pass \n· NYC Vaccination Record \n· An official immunization record from outside NYC or the U.S. \nAcceptable form of ID for those 18 and older: \nA valid ID must include your name and either a photograph OR your date of birth\, such as: \n· Driver’s license \n· Government ID card \n· IDNYC card \n· Passport \n· School ID card \n  \nWe thank you for your cooperation. \nPLAN YOUR VISIT   LEARN MORE
URL:https://parrishart.org/event/updated-covid-19-protocols/
LOCATION:Parrish Art Museum\, 279 Montauk Highway\, Water Mill\, NY\, 11976\, United States
ATTACH;FMTTYPE=image/png:https://parrishart.org/wp-content/uploads/2021/12/COVIDupdates_mask.png
END:VEVENT
END:VCALENDAR