BEGIN:VCALENDAR
VERSION:2.0
PRODID:-//Parrish Art Museum - ECPv6.10.2//NONSGML v1.0//EN
CALSCALE:GREGORIAN
METHOD:PUBLISH
X-ORIGINAL-URL:https://parrishart.org
X-WR-CALDESC:Events for Parrish Art Museum
REFRESH-INTERVAL;VALUE=DURATION:PT1H
X-Robots-Tag:noindex
X-PUBLISHED-TTL:PT1H
BEGIN:VTIMEZONE
TZID:America/New_York
BEGIN:DAYLIGHT
TZOFFSETFROM:-0500
TZOFFSETTO:-0400
TZNAME:EDT
DTSTART:20210314T070000
END:DAYLIGHT
BEGIN:STANDARD
TZOFFSETFROM:-0400
TZOFFSETTO:-0500
TZNAME:EST
DTSTART:20211107T060000
END:STANDARD
END:VTIMEZONE
BEGIN:VEVENT
DTSTART;TZID=America/New_York:20211224T110000
DTEND;TZID=America/New_York:20211224T150000
DTSTAMP:20260425T232912
CREATED:20211221T194952Z
LAST-MODIFIED:20211223T161737Z
UID:10003056-1640343600-1640358000@parrishart.org
SUMMARY:Early Closure at 3 PM | Holiday Hours
DESCRIPTION:The Museum will be open from 11 AM to 3 PM on Christmas Eve.
URL:https://parrishart.org/event/holiday-hours-early-closure-at-3-pm/
LOCATION:Parrish Art Museum\, 279 Montauk Highway\, Water Mill\, NY\, 11976\, United States
END:VEVENT
BEGIN:VEVENT
DTSTART;VALUE=DATE:20211225
DTEND;VALUE=DATE:20211226
DTSTAMP:20260425T232912
CREATED:20211221T195202Z
LAST-MODIFIED:20211221T195238Z
UID:10003057-1640390400-1640476799@parrishart.org
SUMMARY:Museum Closed | Holiday Hours
DESCRIPTION:The Museum will be closed on Christmas Day. Visit us the next day during our regular hours\, from 11 AM to 5 PM.
URL:https://parrishart.org/event/holiday-hours-museum-closed/
LOCATION:Parrish Art Museum\, 279 Montauk Highway\, Water Mill\, NY\, 11976\, United States
END:VEVENT
END:VCALENDAR