BEGIN:VCALENDAR
VERSION:2.0
PRODID:-//Parrish Art Museum - ECPv6.10.2//NONSGML v1.0//EN
CALSCALE:GREGORIAN
METHOD:PUBLISH
X-WR-CALNAME:Parrish Art Museum
X-ORIGINAL-URL:https://parrishart.org
X-WR-CALDESC:Events for Parrish Art Museum
REFRESH-INTERVAL;VALUE=DURATION:PT1H
X-Robots-Tag:noindex
X-PUBLISHED-TTL:PT1H
BEGIN:VTIMEZONE
TZID:America/New_York
BEGIN:DAYLIGHT
TZOFFSETFROM:-0500
TZOFFSETTO:-0400
TZNAME:EDT
DTSTART:20210314T070000
END:DAYLIGHT
BEGIN:STANDARD
TZOFFSETFROM:-0400
TZOFFSETTO:-0500
TZNAME:EST
DTSTART:20211107T060000
END:STANDARD
END:VTIMEZONE
BEGIN:VEVENT
DTSTART;TZID=America/New_York:20211122T110000
DTEND;TZID=America/New_York:20211122T130000
DTSTAMP:20260421T064941
CREATED:20210927T164143Z
LAST-MODIFIED:20210927T164143Z
UID:10002974-1637578800-1637586000@parrishart.org
SUMMARY:Class | Fall Life Drawing II
DESCRIPTION:Fall Life Drawing II (Nov. 15\, 22 & Dec. 6\, 13) 11AM – 1 PM  \nDevelop your drawing skills with teaching artist Linda Capello. Participants will practice drawing male and female models through gesture sketches and longer duration observation. All skill levels are welcome. Participants are asked to provide their own dry media supplies. \nNonmembers $120 | Members $100 \nREGISTER \nAdvance ticket purchase with pre-registration is required. Enrollment is limited. All tickets are sold online only. You must wear a face covering to enter the Museum.  \nThese indoor events require all attendees to show proof of vaccination (vaccine card/Excelsior Pass) or a negative PCR test within 72 hours. To help us expedite the check-in process\, please be prepared to show your proof of vaccination or negative PCR test.
URL:https://parrishart.org/event/class-fall-life-drawing-ii/2021-11-22/
LOCATION:Parrish Art Museum\, 279 Montauk Highway\, Water Mill\, NY\, 11976\, United States
ATTACH;FMTTYPE=image/jpeg:https://parrishart.org/wp-content/uploads/2019/05/Linda-Capello.jpg
END:VEVENT
BEGIN:VEVENT
DTSTART;TZID=America/New_York:20211122T110000
DTEND;TZID=America/New_York:20211122T140000
DTSTAMP:20260421T064941
CREATED:20211117T195932Z
LAST-MODIFIED:20211117T200120Z
UID:10003043-1637578800-1637589600@parrishart.org
SUMMARY:Single Class | Fall Life Drawing II
DESCRIPTION:Develop your drawing skills with teaching artist Linda Capello. Participants will practice drawing male and female models through gesture sketches and longer durational observation. All skill levels are welcome. Participants are asked to provide their own dry media supplies. \nNonmembers $30 | Members $25 \nREGISTER \nAdvance purchase with pre-registration is required. Enrollment is limited and is sold online only.\nThis indoor event requires all attendees to show proof of their vaccination status or recent negative COVID-19 test within 72 hours. Medical-grade face masks must be worn at all times and will be provided to anyone who needs one. To expedite your check-in process\, you may email proof of vaccine to healthfirst@parrishart.org with the event title in your subject line.\n 
URL:https://parrishart.org/event/single-class-fall-life-drawing-ii-2/
LOCATION:Parrish Art Museum\, 279 Montauk Highway\, Water Mill\, NY\, 11976\, United States
ATTACH;FMTTYPE=image/png:https://parrishart.org/wp-content/uploads/2021/11/LindaCapello_LifeDrawing_ParrishArtMuseum.png
END:VEVENT
BEGIN:VEVENT
DTSTART;TZID=America/New_York:20211126T180000
DTEND;TZID=America/New_York:20211126T193000
DTSTAMP:20260421T064941
CREATED:20211105T191350Z
LAST-MODIFIED:20211116T223653Z
UID:10003034-1637949600-1637955000@parrishart.org
SUMMARY:Film | Broken Molds
DESCRIPTION:TICKETS\nAmongst today’s boom of surfing and the birth of so many new watersports\, windsurfing’s legacy to watersports is lost. \nThe origin story of windsurfing is complicated\, and as always\, great success is almost always paired with controversy. Broken Molds begins in 1960s California where Hoyle Schweitzer and his pals Tom Morey\, Hobie Alter\, and Grubby Clark were just surfers who didn’t care that much about anything else\, but would all go on to make products that would change the world. Introduced by Gerry Lopez\, the story moves quickly between generations and sports with never-before-seen 16mm archival film mixed with contemporary footage that transport the viewer to seminal moments in watersport history. Ultimately\, this raises the question\, who invented windsurfing? \nWhile others have thought of harnessing the wind before\, as Laird Hamilton explains\, ‘It’s what you do with that thought that separates you from other people.’ This is a family drama challenged by cancer\, lawsuits\, and broken friendships. Broken Molds is a true documentary about the relentless drive to make windsurfing into the fastest growing sport in the World. \n  \nAdvance ticket purchase with pre-event registration is required. All tickets are sold pre-event and online only. No sales at the door. All sales are final\, non-transferable\, and non-refundable.\nThis indoor event requires all attendees to show proof of their vaccination status or recent negative COVID-19 test within 72 hours. Medical-grade face masks must be worn at all times and will be provided to anyone who needs one. To expedite your check-in process\, you may email proof of vaccine to healthfirst@parrishart.org  with the event title in your subject line.\nFriday Nights are made possible\, in part\, by Presenting Sponsor:\n\nAdditional support provided by The Corcoran Group and Sandy and Stephen Perlbinder.
URL:https://parrishart.org/event/film-broken-molds/
LOCATION:Parrish Art Museum\, 279 Montauk Highway\, Water Mill\, NY\, 11976\, United States
CATEGORIES:Film
ATTACH;FMTTYPE=image/png:https://parrishart.org/wp-content/uploads/2021/11/BrokenMolds_film_ParrishArtMuseum.png
END:VEVENT
BEGIN:VEVENT
DTSTART;TZID=America/New_York:20211127T110000
DTEND;TZID=America/New_York:20211127T121500
DTSTAMP:20260421T064941
CREATED:20211018T152628Z
LAST-MODIFIED:20211124T204731Z
UID:10002994-1638010800-1638015300@parrishart.org
SUMMARY:Workshop | Wing It!
DESCRIPTION:Materials Fee: $15  Child (Members) | $22 Child (Non-members) \nSOLD OUT \n  \nJoin us for a family workshop presented by Wing It Project. During this creative experience\, children will create their very own life-size fabric wings-to-wear. Personalized wings are beautiful inspired keepsakes and designed to represent young children’s individual spirits. \nA parent or guardian must remain with their child(ren) through duration of the workshop. \n  \nWing It Project is a grassroots 501(c)3 organization that leads meaningful initiatives to build capacity around diversity\, leadership\, children\, and resiliency. Our mission is simple. We offer young children opportunities to make fabric wings as means to recognize their potential\, feel empowered\, transform their circumstances and soar. For more details visit wingitproject.org and @wingitproject. \nAdvance ticket purchase with pre-registration is required. Enrollment is limited. All tickets are sold online only. Medical-grade face masks must be worn at all times and will be provided to anyone who needs one. Learn more about our safety protocols here.\n 
URL:https://parrishart.org/event/wing-it-project-workshop/
LOCATION:Parrish Art Museum\, 279 Montauk Highway\, Water Mill\, NY\, 11976\, United States
CATEGORIES:Classes and Workshops,Family Programs
ATTACH;FMTTYPE=image/png:https://parrishart.org/wp-content/uploads/2021/10/WingIt_ParrishArtMuseum.png
END:VEVENT
BEGIN:VEVENT
DTSTART;TZID=America/New_York:20211127T123000
DTEND;TZID=America/New_York:20211127T134500
DTSTAMP:20260421T064941
CREATED:20211018T155215Z
LAST-MODIFIED:20211103T143611Z
UID:10002995-1638016200-1638020700@parrishart.org
SUMMARY:Film | NYICFF Kid Flicks One
DESCRIPTION:TICKETS\n$5 Adults | $3 Seniors\nChildren & Members Free\nRuntime: 68 min. | Recommended Ages: 3+ \n  \nJoin us for a screening from the New York International Children’s Film Festival! Jump-start your little ones’ love of cinema with Kid Flicks One\, curated to charm all ages and especially introduce our youngest viewers\, ages 3+\, to their very first screen experiences. \n  \na film by m+m \nUnited States | East Coast Premiere\nAnimation\, Megan McShane & Matthew Yang\, 2020\, 2 min.\nNo dialogue \nTwo wacky wizard friends bump and cruise through a fantastical land\, powered by green in more ways than one! \n  \nA Lynx in the Town\nFrance\, Switzerland\nAnimation\, Nina Bisiarina\, 2019\, 7 min.\nNo dialogue \nYou’ve heard of King Kong\, now meet this king cat\, a giant feline who falls for the big city\, with its skyscraper scratching posts and inhabitants who marvel at her size. \n  \nInk\nNetherlands\nAnimation\, Joost van den Bosch & Erik Verkerk\, 2020\, 2 min.\nNo dialogue \nBeing a neat freak is easy when you’ve got eight arms and live underwater\, but try keeping up with this octopus teacher’s hilarious lesson! \nKenya’s Symphony\nUnited States\nAnimation\, Carlos Douglas Jr.\, 2020\, 5 min.\nIn English \nA stubborn 5-year-old reluctantly heads off to a performance with her mom. When the music starts\, will a passion bloom? \n  \nKiri and Lou — Air\nCanada\, New Zealand | US Premiere\nAnimation\, Harry Sinclair\, 2020\, 5 min.\nIn English \nKiri and Lou are the silliest creatures around\, but they’re smart enough to know a good thing when they’ve got it. \n\nLeaf\nBelarus\, Czech Republic\nAnimation\, Aliona Baranova\, 2020\, 6 min.\nNo dialogue \nA larger-than-life sailor is reminded of home when a passenger’s daughter brings aboard a tiny red leaf\, inspiring a grand new journey. \n  \nMido and the Instrumentals\nFrance | North American Premiere\nAnimation\, Roman Guillanton\, 2020\, 6 min.\nNo dialogue \nYoung Mido wants to be part of the band\, but he just might need to tune his wild and wooly style to jam with these cool creatures. \n  \nSum of its Parts\nUnited States\nAnimation\, Alisa Stern\, 2019\, 3 min.\nNo dialogue \nWondrous creatures bop\, slither\, and shake to the beat of the forest in this silly sylvan symphony. \n  \nThe Yogi Walrus\nUnited Kingdom | North American Premiere\nAnimation\, Daleya Marohn\, 2019\, 4 min.\nIn English \nLittle Emi craves ice cream and always wants more. Learning to savor is the cherry on top. \n  \nUmbrellas\nFrance\, Spain | New York Premiere\nAnimation\, Jose Prats & Alvaro Robles\, 2020\, 12 min.\nNo dialogue \nSafe and dry\, Kyna has her dad’s love and protection to carry her through…until her dog\, Nana\, needs a rescue. \n  \nAdvance ticket purchase with pre-registration is required. Enrollment is limited. All tickets are sold online only. Medical-grade face masks must be worn at all times and will be provided to anyone who needs one. Learn more about our safety protocols here.
URL:https://parrishart.org/event/nyicff-kid-flicks-one/
LOCATION:Parrish Art Museum\, 279 Montauk Highway\, Water Mill\, NY\, 11976\, United States
CATEGORIES:Family Programs,Film
ATTACH;FMTTYPE=image/png:https://parrishart.org/wp-content/uploads/2021/10/MidoandtheInstrumals_RomanGuillanton_ParrishArtMuseum.png
END:VEVENT
BEGIN:VEVENT
DTSTART;TZID=America/New_York:20211127T140000
DTEND;TZID=America/New_York:20211127T150000
DTSTAMP:20260421T064941
CREATED:20211025T211959Z
LAST-MODIFIED:20211025T211959Z
UID:10003014-1638021600-1638025200@parrishart.org
SUMMARY:Guided Tour
DESCRIPTION:REGISTER\n \nLearn about the exhibitions on view with a free guided tour from a Museum Docent. Space is limited and pre-registration is required.\n  \nAll museum visitors must wear a medical-grade mask at all times. Masks will be provided to anyone who needs one\, free of charge. Learn more about our safety protocols here.\nFor more information\, please email info@parrishart.org.
URL:https://parrishart.org/event/guided-tour-11-20-27/
LOCATION:Parrish Art Museum\, 279 Montauk Highway\, Water Mill\, NY\, 11976\, United States
CATEGORIES:Public Tours
ATTACH;FMTTYPE=image/png:https://parrishart.org/wp-content/uploads/2021/09/JohnTorreano_Edge_AJourneyThrough_WebSlider_ParrishArtMuseum.png
END:VEVENT
END:VCALENDAR