BEGIN:VCALENDAR
VERSION:2.0
PRODID:-//Parrish Art Museum - ECPv6.10.2//NONSGML v1.0//EN
CALSCALE:GREGORIAN
METHOD:PUBLISH
X-ORIGINAL-URL:https://parrishart.org
X-WR-CALDESC:Events for Parrish Art Museum
REFRESH-INTERVAL;VALUE=DURATION:PT1H
X-Robots-Tag:noindex
X-PUBLISHED-TTL:PT1H
BEGIN:VTIMEZONE
TZID:America/New_York
BEGIN:DAYLIGHT
TZOFFSETFROM:-0500
TZOFFSETTO:-0400
TZNAME:EDT
DTSTART:20190310T070000
END:DAYLIGHT
BEGIN:STANDARD
TZOFFSETFROM:-0400
TZOFFSETTO:-0500
TZNAME:EST
DTSTART:20191103T060000
END:STANDARD
BEGIN:DAYLIGHT
TZOFFSETFROM:-0500
TZOFFSETTO:-0400
TZNAME:EDT
DTSTART:20200308T070000
END:DAYLIGHT
BEGIN:STANDARD
TZOFFSETFROM:-0400
TZOFFSETTO:-0500
TZNAME:EST
DTSTART:20201101T060000
END:STANDARD
END:VTIMEZONE
BEGIN:VEVENT
DTSTART;TZID=America/New_York:20191229T100000
DTEND;TZID=America/New_York:20191229T170000
DTSTAMP:20260421T170810
CREATED:20191120T145856Z
LAST-MODIFIED:20191120T145856Z
UID:10002236-1577613600-1577638800@parrishart.org
SUMMARY:What We See\, How We See
DESCRIPTION:What We See\, How We See is a seven-part exhibition that contextualizes work by a variety of artists through the lens of how they see and interpret the world around them. Individual galleries based on specific themes feature paintings\, works on paper\, photographs\, and sculpture\, opening with the diverse image making of artists Richard Prince\, Dorothea Rockburne\, and David Salle\, among others. Circles\, Squares\, and Squiggles explores abstract gestures through works by Jennifer Bartlett\, Willem de Kooning\, and Perle Fine; Portraits by Chuck Close\, Till Freiwald and others reveal their subjects in larger than life paintings; and American Landscapes highlights work from the Parrish’s renowned holdings. Two galleries bring to light bodies of work by single artists\, from the tragic-comic world view of Saul Steinberg (a major gift from the Saul Steinberg Foundation that comprises works on paper\, wallpaper and fabric)\, to the joyful imagery of Tom Slaughter.
URL:https://parrishart.org/event/what-we-see-how-we-see-2/2019-12-29/
LOCATION:Parrish Art Museum\, 279 Montauk Highway\, Water Mill\, NY\, 11976\, United States
CATEGORIES:Exhibitions
ATTACH;FMTTYPE=image/jpeg:https://parrishart.org/wp-content/uploads/2019/11/Charles-Bell-Before-the-Journey-1986.jpg
END:VEVENT
BEGIN:VEVENT
DTSTART;TZID=America/New_York:20191229T100000
DTEND;TZID=America/New_York:20191229T170000
DTSTAMP:20260421T170810
CREATED:20191120T150516Z
LAST-MODIFIED:20191120T150535Z
UID:10002575-1577613600-1577638800@parrishart.org
SUMMARY:Artists Choose Artists 2019
DESCRIPTION:Artists Choose Artists is the Parrish Art Museum’s triennial exhibition that highlights the dynamic relationships among the multi-generational artist community of Long Island’s East End. Artists Choose Artists is designed to catalyze creative networks and encourage mentorship and conversations between artists at varying stages in their careers. \n\n\n\nSeven notable artists of the region will jury the exhibition. Each juror selects two artists based on submissions and subsequent studio visits. The exhibition will comprise the work of the seven jurors and the fourteen artists and may include painting\, sculpture\, photography\, prints\, and mixed media.
URL:https://parrishart.org/event/artists-choose-artists-2019/2019-12-29/
LOCATION:Parrish Art Museum\, 279 Montauk Highway\, Water Mill\, NY\, 11976\, United States
CATEGORIES:Exhibitions
ATTACH;FMTTYPE=image/jpeg:https://parrishart.org/wp-content/uploads/2019/01/Giovan_Beauty-Salon-in-Vedado-Havana-Cuba.jpg
END:VEVENT
BEGIN:VEVENT
DTSTART;TZID=America/New_York:20191229T140000
DTEND;TZID=America/New_York:20191229T150000
DTSTAMP:20260421T170810
CREATED:20190129T174023Z
LAST-MODIFIED:20200312T201754Z
UID:10000056-1577628000-1577631600@parrishart.org
SUMMARY:Guided Tours
DESCRIPTION:Free with Museum Admission! \nJoin us for a docent-led tour through the galleries. Tours last approximately one hour. Space is limited. \nDocent-led tours are always at 2pm; highlighting the Permanent Collection on Sundays\, and special exhibitions on Saturdays.
URL:https://parrishart.org/event/guided-tours/2019-12-29/
LOCATION:Parrish Art Museum\, 279 Montauk Highway\, Water Mill\, NY\, 11976\, United States
CATEGORIES:Public Tours
ATTACH;FMTTYPE=image/jpeg:https://parrishart.org/wp-content/uploads/2019/01/PeopleInGalleries-Packes-11302014-056-e1573145092279.jpg
END:VEVENT
BEGIN:VEVENT
DTSTART;TZID=America/New_York:20191230T100000
DTEND;TZID=America/New_York:20191230T170000
DTSTAMP:20260421T170810
CREATED:20191120T145856Z
LAST-MODIFIED:20191120T145856Z
UID:10002237-1577700000-1577725200@parrishart.org
SUMMARY:What We See\, How We See
DESCRIPTION:What We See\, How We See is a seven-part exhibition that contextualizes work by a variety of artists through the lens of how they see and interpret the world around them. Individual galleries based on specific themes feature paintings\, works on paper\, photographs\, and sculpture\, opening with the diverse image making of artists Richard Prince\, Dorothea Rockburne\, and David Salle\, among others. Circles\, Squares\, and Squiggles explores abstract gestures through works by Jennifer Bartlett\, Willem de Kooning\, and Perle Fine; Portraits by Chuck Close\, Till Freiwald and others reveal their subjects in larger than life paintings; and American Landscapes highlights work from the Parrish’s renowned holdings. Two galleries bring to light bodies of work by single artists\, from the tragic-comic world view of Saul Steinberg (a major gift from the Saul Steinberg Foundation that comprises works on paper\, wallpaper and fabric)\, to the joyful imagery of Tom Slaughter.
URL:https://parrishart.org/event/what-we-see-how-we-see-2/2019-12-30/
LOCATION:Parrish Art Museum\, 279 Montauk Highway\, Water Mill\, NY\, 11976\, United States
CATEGORIES:Exhibitions
ATTACH;FMTTYPE=image/jpeg:https://parrishart.org/wp-content/uploads/2019/11/Charles-Bell-Before-the-Journey-1986.jpg
END:VEVENT
BEGIN:VEVENT
DTSTART;TZID=America/New_York:20191230T100000
DTEND;TZID=America/New_York:20191230T170000
DTSTAMP:20260421T170810
CREATED:20191120T150516Z
LAST-MODIFIED:20191120T150535Z
UID:10002576-1577700000-1577725200@parrishart.org
SUMMARY:Artists Choose Artists 2019
DESCRIPTION:Artists Choose Artists is the Parrish Art Museum’s triennial exhibition that highlights the dynamic relationships among the multi-generational artist community of Long Island’s East End. Artists Choose Artists is designed to catalyze creative networks and encourage mentorship and conversations between artists at varying stages in their careers. \n\n\n\nSeven notable artists of the region will jury the exhibition. Each juror selects two artists based on submissions and subsequent studio visits. The exhibition will comprise the work of the seven jurors and the fourteen artists and may include painting\, sculpture\, photography\, prints\, and mixed media.
URL:https://parrishart.org/event/artists-choose-artists-2019/2019-12-30/
LOCATION:Parrish Art Museum\, 279 Montauk Highway\, Water Mill\, NY\, 11976\, United States
CATEGORIES:Exhibitions
ATTACH;FMTTYPE=image/jpeg:https://parrishart.org/wp-content/uploads/2019/01/Giovan_Beauty-Salon-in-Vedado-Havana-Cuba.jpg
END:VEVENT
BEGIN:VEVENT
DTSTART;TZID=America/New_York:20191230T100000
DTEND;TZID=America/New_York:20191230T170000
DTSTAMP:20260421T170810
CREATED:20191217T175706Z
LAST-MODIFIED:20191217T175722Z
UID:10002643-1577700000-1577725200@parrishart.org
SUMMARY:Museum Shop Closed
DESCRIPTION:The Museum Shop will be closed on Monday\, December 30\, from 10 am–5 pm\, for inventory. We apologize for any inconvenience.
URL:https://parrishart.org/event/museum-shop-closed/
LOCATION:Parrish Art Museum\, 279 Montauk Highway\, Water Mill\, NY\, 11976\, United States
ATTACH;FMTTYPE=image/jpeg:https://parrishart.org/wp-content/uploads/2019/11/IMG_7349-edit.jpg
END:VEVENT
BEGIN:VEVENT
DTSTART;VALUE=DATE:20191231
DTEND;VALUE=DATE:20200101
DTSTAMP:20260421T170810
CREATED:20190210T144304Z
LAST-MODIFIED:20190429T194446Z
UID:10000169-1577750400-1577836799@parrishart.org
SUMMARY:Museum Closed on Tuesdays
DESCRIPTION:Museum is Closed on Tuesdays. \nScheduled Workshops with pre-registration will occur.
URL:https://parrishart.org/event/museum-closed-on-tuesdays/2019-12-31/
LOCATION:Parrish Art Museum\, 279 Montauk Highway\, Water Mill\, NY\, 11976\, United States
END:VEVENT
BEGIN:VEVENT
DTSTART;VALUE=DATE:20200101
DTEND;VALUE=DATE:20200102
DTSTAMP:20260421T170810
CREATED:20190909T183744Z
LAST-MODIFIED:20190909T183846Z
UID:10000751-1577836800-1577923199@parrishart.org
SUMMARY:Museum Closed New Year's Day
DESCRIPTION:The Museum is closed New Year’s Day.
URL:https://parrishart.org/event/closed-new-years-day/
LOCATION:Parrish Art Museum\, 279 Montauk Highway\, Water Mill\, NY\, 11976\, United States
END:VEVENT
BEGIN:VEVENT
DTSTART;TZID=America/New_York:20200101T100000
DTEND;TZID=America/New_York:20200101T170000
DTSTAMP:20260421T170810
CREATED:20191120T145856Z
LAST-MODIFIED:20191120T145856Z
UID:10002238-1577872800-1577898000@parrishart.org
SUMMARY:What We See\, How We See
DESCRIPTION:What We See\, How We See is a seven-part exhibition that contextualizes work by a variety of artists through the lens of how they see and interpret the world around them. Individual galleries based on specific themes feature paintings\, works on paper\, photographs\, and sculpture\, opening with the diverse image making of artists Richard Prince\, Dorothea Rockburne\, and David Salle\, among others. Circles\, Squares\, and Squiggles explores abstract gestures through works by Jennifer Bartlett\, Willem de Kooning\, and Perle Fine; Portraits by Chuck Close\, Till Freiwald and others reveal their subjects in larger than life paintings; and American Landscapes highlights work from the Parrish’s renowned holdings. Two galleries bring to light bodies of work by single artists\, from the tragic-comic world view of Saul Steinberg (a major gift from the Saul Steinberg Foundation that comprises works on paper\, wallpaper and fabric)\, to the joyful imagery of Tom Slaughter.
URL:https://parrishart.org/event/what-we-see-how-we-see-2/2020-01-01/
LOCATION:Parrish Art Museum\, 279 Montauk Highway\, Water Mill\, NY\, 11976\, United States
CATEGORIES:Exhibitions
ATTACH;FMTTYPE=image/jpeg:https://parrishart.org/wp-content/uploads/2019/11/Charles-Bell-Before-the-Journey-1986.jpg
END:VEVENT
BEGIN:VEVENT
DTSTART;TZID=America/New_York:20200101T100000
DTEND;TZID=America/New_York:20200101T170000
DTSTAMP:20260421T170811
CREATED:20191120T150516Z
LAST-MODIFIED:20191120T150535Z
UID:10002577-1577872800-1577898000@parrishart.org
SUMMARY:Artists Choose Artists 2019
DESCRIPTION:Artists Choose Artists is the Parrish Art Museum’s triennial exhibition that highlights the dynamic relationships among the multi-generational artist community of Long Island’s East End. Artists Choose Artists is designed to catalyze creative networks and encourage mentorship and conversations between artists at varying stages in their careers. \n\n\n\nSeven notable artists of the region will jury the exhibition. Each juror selects two artists based on submissions and subsequent studio visits. The exhibition will comprise the work of the seven jurors and the fourteen artists and may include painting\, sculpture\, photography\, prints\, and mixed media.
URL:https://parrishart.org/event/artists-choose-artists-2019/2020-01-01/
LOCATION:Parrish Art Museum\, 279 Montauk Highway\, Water Mill\, NY\, 11976\, United States
CATEGORIES:Exhibitions
ATTACH;FMTTYPE=image/jpeg:https://parrishart.org/wp-content/uploads/2019/01/Giovan_Beauty-Salon-in-Vedado-Havana-Cuba.jpg
END:VEVENT
BEGIN:VEVENT
DTSTART;TZID=America/New_York:20200102T100000
DTEND;TZID=America/New_York:20200102T170000
DTSTAMP:20260421T170811
CREATED:20191120T145856Z
LAST-MODIFIED:20191120T145856Z
UID:10002239-1577959200-1577984400@parrishart.org
SUMMARY:What We See\, How We See
DESCRIPTION:What We See\, How We See is a seven-part exhibition that contextualizes work by a variety of artists through the lens of how they see and interpret the world around them. Individual galleries based on specific themes feature paintings\, works on paper\, photographs\, and sculpture\, opening with the diverse image making of artists Richard Prince\, Dorothea Rockburne\, and David Salle\, among others. Circles\, Squares\, and Squiggles explores abstract gestures through works by Jennifer Bartlett\, Willem de Kooning\, and Perle Fine; Portraits by Chuck Close\, Till Freiwald and others reveal their subjects in larger than life paintings; and American Landscapes highlights work from the Parrish’s renowned holdings. Two galleries bring to light bodies of work by single artists\, from the tragic-comic world view of Saul Steinberg (a major gift from the Saul Steinberg Foundation that comprises works on paper\, wallpaper and fabric)\, to the joyful imagery of Tom Slaughter.
URL:https://parrishart.org/event/what-we-see-how-we-see-2/2020-01-02/
LOCATION:Parrish Art Museum\, 279 Montauk Highway\, Water Mill\, NY\, 11976\, United States
CATEGORIES:Exhibitions
ATTACH;FMTTYPE=image/jpeg:https://parrishart.org/wp-content/uploads/2019/11/Charles-Bell-Before-the-Journey-1986.jpg
END:VEVENT
BEGIN:VEVENT
DTSTART;TZID=America/New_York:20200102T100000
DTEND;TZID=America/New_York:20200102T170000
DTSTAMP:20260421T170811
CREATED:20191120T150516Z
LAST-MODIFIED:20191120T150535Z
UID:10002578-1577959200-1577984400@parrishart.org
SUMMARY:Artists Choose Artists 2019
DESCRIPTION:Artists Choose Artists is the Parrish Art Museum’s triennial exhibition that highlights the dynamic relationships among the multi-generational artist community of Long Island’s East End. Artists Choose Artists is designed to catalyze creative networks and encourage mentorship and conversations between artists at varying stages in their careers. \n\n\n\nSeven notable artists of the region will jury the exhibition. Each juror selects two artists based on submissions and subsequent studio visits. The exhibition will comprise the work of the seven jurors and the fourteen artists and may include painting\, sculpture\, photography\, prints\, and mixed media.
URL:https://parrishart.org/event/artists-choose-artists-2019/2020-01-02/
LOCATION:Parrish Art Museum\, 279 Montauk Highway\, Water Mill\, NY\, 11976\, United States
CATEGORIES:Exhibitions
ATTACH;FMTTYPE=image/jpeg:https://parrishart.org/wp-content/uploads/2019/01/Giovan_Beauty-Salon-in-Vedado-Havana-Cuba.jpg
END:VEVENT
BEGIN:VEVENT
DTSTART;TZID=America/New_York:20200103T100000
DTEND;TZID=America/New_York:20200103T200000
DTSTAMP:20260421T170811
CREATED:20191120T150720Z
LAST-MODIFIED:20191120T150720Z
UID:10002623-1578045600-1578081600@parrishart.org
SUMMARY:Artists Choose Artists 2019
DESCRIPTION:Artists Choose Artists is the Parrish Art Museum’s triennial exhibition that highlights the dynamic relationships among the multi-generational artist community of Long Island’s East End. Artists Choose Artists is designed to catalyze creative networks and encourage mentorship and conversations between artists at varying stages in their careers. \n\n\n\nSeven notable artists of the region will jury the exhibition. Each juror selects two artists based on submissions and subsequent studio visits. The exhibition will comprise the work of the seven jurors and the fourteen artists and may include painting\, sculpture\, photography\, prints\, and mixed media.
URL:https://parrishart.org/event/artists-choose-artists-2019-2/2020-01-03/
LOCATION:Parrish Art Museum\, 279 Montauk Highway\, Water Mill\, NY\, 11976\, United States
CATEGORIES:Exhibitions
ATTACH;FMTTYPE=image/jpeg:https://parrishart.org/wp-content/uploads/2019/01/Giovan_Beauty-Salon-in-Vedado-Havana-Cuba.jpg
END:VEVENT
BEGIN:VEVENT
DTSTART;TZID=America/New_York:20200103T180000
DTEND;TZID=America/New_York:20200103T200000
DTSTAMP:20260421T170811
CREATED:20191111T155050Z
LAST-MODIFIED:20200107T161204Z
UID:10002191-1578074400-1578081600@parrishart.org
SUMMARY:FILM & TALK: Sanctuary
DESCRIPTION:  \n  \n2019\, Documentary\, 52 minutes\nDirector: Lillian Ball \nJoin Artists Choose Artists juror and environmental activist Lillian Ball for her full film premiere about the Lumbini Crane Sanctuary within the Sacred Garden in Nepal where Siddhartha Gautama was born and charismatic young monk Venerable Metteyya as he seeks to reverse plans to replace it with hotels and a meditation center. Followed by a conversation with Ball and Parrish Director Terrie Sultan. \nAn ecological artist and pro-activist who works with wetland issues from interdisciplinary backgrounds in anthropology\, ethnographic film\, and sculpture\, Lillian Ball (American\, b. 1955) believes that innovative artwork with stakeholders on conservation initiatives benefits wildlife\, communities\, and visitors. Her WATERWASH® public projects along the Bronx River and Mattituck Inlet combine native habitat restoration\, stormwater remediation\, and preservation. Ball’s documentary Sanctuary depicts efforts by a Buddhist monk to preserve native flora and fauna in Lumbini\, Nepal\, to protect the Sarus cranes nesting at Buddha’s birthplace\, endangered by over-development. Ball exhibits and lectures at international institutions including at Kathmandu’s Taragaon Museum; Seville Biennale; and Reina Sofia\, Madrid. Awards include NYFA Fellowships\, Guggenheim Foundation Fellowship\, and NEA grant. \n  \nFriday Nights are made possible\, in part\, by Presenting Sponsor:\nAdditional support provided by The Corcoran Group and Sandy and Stephen Perlbinder.
URL:https://parrishart.org/event/film-talk-sanctuary/
LOCATION:Parrish Art Museum\, 279 Montauk Highway\, Water Mill\, NY\, 11976\, United States
CATEGORIES:Film,Friday Nights,Talks
ATTACH;FMTTYPE=image/jpeg:https://parrishart.org/wp-content/uploads/2019/11/Lillian-Ball.jpg
END:VEVENT
BEGIN:VEVENT
DTSTART;TZID=America/New_York:20200104T100000
DTEND;TZID=America/New_York:20200104T170000
DTSTAMP:20260421T170811
CREATED:20191120T145856Z
LAST-MODIFIED:20191120T145856Z
UID:10002240-1578132000-1578157200@parrishart.org
SUMMARY:What We See\, How We See
DESCRIPTION:What We See\, How We See is a seven-part exhibition that contextualizes work by a variety of artists through the lens of how they see and interpret the world around them. Individual galleries based on specific themes feature paintings\, works on paper\, photographs\, and sculpture\, opening with the diverse image making of artists Richard Prince\, Dorothea Rockburne\, and David Salle\, among others. Circles\, Squares\, and Squiggles explores abstract gestures through works by Jennifer Bartlett\, Willem de Kooning\, and Perle Fine; Portraits by Chuck Close\, Till Freiwald and others reveal their subjects in larger than life paintings; and American Landscapes highlights work from the Parrish’s renowned holdings. Two galleries bring to light bodies of work by single artists\, from the tragic-comic world view of Saul Steinberg (a major gift from the Saul Steinberg Foundation that comprises works on paper\, wallpaper and fabric)\, to the joyful imagery of Tom Slaughter.
URL:https://parrishart.org/event/what-we-see-how-we-see-2/2020-01-04/
LOCATION:Parrish Art Museum\, 279 Montauk Highway\, Water Mill\, NY\, 11976\, United States
CATEGORIES:Exhibitions
ATTACH;FMTTYPE=image/jpeg:https://parrishart.org/wp-content/uploads/2019/11/Charles-Bell-Before-the-Journey-1986.jpg
END:VEVENT
BEGIN:VEVENT
DTSTART;TZID=America/New_York:20200104T100000
DTEND;TZID=America/New_York:20200104T170000
DTSTAMP:20260421T170811
CREATED:20191120T150516Z
LAST-MODIFIED:20191120T150535Z
UID:10002579-1578132000-1578157200@parrishart.org
SUMMARY:Artists Choose Artists 2019
DESCRIPTION:Artists Choose Artists is the Parrish Art Museum’s triennial exhibition that highlights the dynamic relationships among the multi-generational artist community of Long Island’s East End. Artists Choose Artists is designed to catalyze creative networks and encourage mentorship and conversations between artists at varying stages in their careers. \n\n\n\nSeven notable artists of the region will jury the exhibition. Each juror selects two artists based on submissions and subsequent studio visits. The exhibition will comprise the work of the seven jurors and the fourteen artists and may include painting\, sculpture\, photography\, prints\, and mixed media.
URL:https://parrishart.org/event/artists-choose-artists-2019/2020-01-04/
LOCATION:Parrish Art Museum\, 279 Montauk Highway\, Water Mill\, NY\, 11976\, United States
CATEGORIES:Exhibitions
ATTACH;FMTTYPE=image/jpeg:https://parrishart.org/wp-content/uploads/2019/01/Giovan_Beauty-Salon-in-Vedado-Havana-Cuba.jpg
END:VEVENT
BEGIN:VEVENT
DTSTART;TZID=America/New_York:20200104T140000
DTEND;TZID=America/New_York:20200104T150000
DTSTAMP:20260421T170811
CREATED:20190129T174023Z
LAST-MODIFIED:20200312T201754Z
UID:10000057-1578146400-1578150000@parrishart.org
SUMMARY:Guided Tours
DESCRIPTION:Free with Museum Admission! \nJoin us for a docent-led tour through the galleries. Tours last approximately one hour. Space is limited. \nDocent-led tours are always at 2pm; highlighting the Permanent Collection on Sundays\, and special exhibitions on Saturdays.
URL:https://parrishart.org/event/guided-tours/2020-01-04/
LOCATION:Parrish Art Museum\, 279 Montauk Highway\, Water Mill\, NY\, 11976\, United States
CATEGORIES:Public Tours
ATTACH;FMTTYPE=image/jpeg:https://parrishart.org/wp-content/uploads/2019/01/PeopleInGalleries-Packes-11302014-056-e1573145092279.jpg
END:VEVENT
END:VCALENDAR