BEGIN:VCALENDAR
VERSION:2.0
PRODID:-//Parrish Art Museum - ECPv6.10.2//NONSGML v1.0//EN
CALSCALE:GREGORIAN
METHOD:PUBLISH
X-WR-CALNAME:Parrish Art Museum
X-ORIGINAL-URL:https://parrishart.org
X-WR-CALDESC:Events for Parrish Art Museum
REFRESH-INTERVAL;VALUE=DURATION:PT1H
X-Robots-Tag:noindex
X-PUBLISHED-TTL:PT1H
BEGIN:VTIMEZONE
TZID:America/New_York
BEGIN:DAYLIGHT
TZOFFSETFROM:-0500
TZOFFSETTO:-0400
TZNAME:EDT
DTSTART:20190310T070000
END:DAYLIGHT
BEGIN:STANDARD
TZOFFSETFROM:-0400
TZOFFSETTO:-0500
TZNAME:EST
DTSTART:20191103T060000
END:STANDARD
END:VTIMEZONE
BEGIN:VEVENT
DTSTART;TZID=America/New_York:20190317T100000
DTEND;TZID=America/New_York:20190317T170000
DTSTAMP:20260420T032203
CREATED:20190321T170208Z
LAST-MODIFIED:20190507T155747Z
UID:10001282-1552816800-1552842000@parrishart.org
SUMMARY:Every Picture Tells a Story: Work from the Permanent Collection
DESCRIPTION:November 11\, 2018 to October 6\, 2019 \nEach year\, the Museum creates a new exhibition that contextualizes work and amplifies inherent themes by important artists in the Parrish collection of more than 3\,000 works. This year’s seven-gallery installation\, Every Picture Tells a Story\, presents a series of focused exhibitions that explore the many ways that images carry narrative meaning. \nEvery Picture Tells a Story\, the 2018 Permanent Collection Exhibition\, has been made possible\, in part\, by the generous support of Barbara Slifka; Ellen Cantrowitz\, Garrett and Mary Moran; Charlotte Moss and Barry Friedberg\, Jane and David Walentas\, Marie Samuels\, Per Skarstedt\, Deborah Buck\, and a donor who wishes to remain anonymous.
URL:https://parrishart.org/event/every-picture-tells-a-story-work-from-the-permanent-collection/2019-03-17/
LOCATION:Parrish Art Museum\, 279 Montauk Highway\, Water Mill\, NY\, 11976\, United States
CATEGORIES:Exhibitions
ATTACH;FMTTYPE=image/jpeg:https://parrishart.org/wp-content/uploads/2018/11/2000-7-1.jpg
END:VEVENT
BEGIN:VEVENT
DTSTART;TZID=America/New_York:20190318T100000
DTEND;TZID=America/New_York:20190318T170000
DTSTAMP:20260420T032203
CREATED:20190321T170208Z
LAST-MODIFIED:20190507T155747Z
UID:10001283-1552903200-1552928400@parrishart.org
SUMMARY:Every Picture Tells a Story: Work from the Permanent Collection
DESCRIPTION:November 11\, 2018 to October 6\, 2019 \nEach year\, the Museum creates a new exhibition that contextualizes work and amplifies inherent themes by important artists in the Parrish collection of more than 3\,000 works. This year’s seven-gallery installation\, Every Picture Tells a Story\, presents a series of focused exhibitions that explore the many ways that images carry narrative meaning. \nEvery Picture Tells a Story\, the 2018 Permanent Collection Exhibition\, has been made possible\, in part\, by the generous support of Barbara Slifka; Ellen Cantrowitz\, Garrett and Mary Moran; Charlotte Moss and Barry Friedberg\, Jane and David Walentas\, Marie Samuels\, Per Skarstedt\, Deborah Buck\, and a donor who wishes to remain anonymous.
URL:https://parrishart.org/event/every-picture-tells-a-story-work-from-the-permanent-collection/2019-03-18/
LOCATION:Parrish Art Museum\, 279 Montauk Highway\, Water Mill\, NY\, 11976\, United States
CATEGORIES:Exhibitions
ATTACH;FMTTYPE=image/jpeg:https://parrishart.org/wp-content/uploads/2018/11/2000-7-1.jpg
END:VEVENT
BEGIN:VEVENT
DTSTART;VALUE=DATE:20190319
DTEND;VALUE=DATE:20190320
DTSTAMP:20260420T032203
CREATED:20190210T144304Z
LAST-MODIFIED:20190429T194446Z
UID:10000128-1552953600-1553039999@parrishart.org
SUMMARY:Museum Closed on Tuesdays
DESCRIPTION:Museum is Closed on Tuesdays. \nScheduled Workshops with pre-registration will occur.
URL:https://parrishart.org/event/museum-closed-on-tuesdays/2019-03-19/
LOCATION:Parrish Art Museum\, 279 Montauk Highway\, Water Mill\, NY\, 11976\, United States
END:VEVENT
BEGIN:VEVENT
DTSTART;TZID=America/New_York:20190320T100000
DTEND;TZID=America/New_York:20190320T170000
DTSTAMP:20260420T032203
CREATED:20190321T170208Z
LAST-MODIFIED:20190507T155747Z
UID:10001284-1553076000-1553101200@parrishart.org
SUMMARY:Every Picture Tells a Story: Work from the Permanent Collection
DESCRIPTION:November 11\, 2018 to October 6\, 2019 \nEach year\, the Museum creates a new exhibition that contextualizes work and amplifies inherent themes by important artists in the Parrish collection of more than 3\,000 works. This year’s seven-gallery installation\, Every Picture Tells a Story\, presents a series of focused exhibitions that explore the many ways that images carry narrative meaning. \nEvery Picture Tells a Story\, the 2018 Permanent Collection Exhibition\, has been made possible\, in part\, by the generous support of Barbara Slifka; Ellen Cantrowitz\, Garrett and Mary Moran; Charlotte Moss and Barry Friedberg\, Jane and David Walentas\, Marie Samuels\, Per Skarstedt\, Deborah Buck\, and a donor who wishes to remain anonymous.
URL:https://parrishart.org/event/every-picture-tells-a-story-work-from-the-permanent-collection/2019-03-20/
LOCATION:Parrish Art Museum\, 279 Montauk Highway\, Water Mill\, NY\, 11976\, United States
CATEGORIES:Exhibitions
ATTACH;FMTTYPE=image/jpeg:https://parrishart.org/wp-content/uploads/2018/11/2000-7-1.jpg
END:VEVENT
BEGIN:VEVENT
DTSTART;TZID=America/New_York:20190321T100000
DTEND;TZID=America/New_York:20190321T170000
DTSTAMP:20260420T032203
CREATED:20190321T170208Z
LAST-MODIFIED:20190507T155747Z
UID:10001285-1553162400-1553187600@parrishart.org
SUMMARY:Every Picture Tells a Story: Work from the Permanent Collection
DESCRIPTION:November 11\, 2018 to October 6\, 2019 \nEach year\, the Museum creates a new exhibition that contextualizes work and amplifies inherent themes by important artists in the Parrish collection of more than 3\,000 works. This year’s seven-gallery installation\, Every Picture Tells a Story\, presents a series of focused exhibitions that explore the many ways that images carry narrative meaning. \nEvery Picture Tells a Story\, the 2018 Permanent Collection Exhibition\, has been made possible\, in part\, by the generous support of Barbara Slifka; Ellen Cantrowitz\, Garrett and Mary Moran; Charlotte Moss and Barry Friedberg\, Jane and David Walentas\, Marie Samuels\, Per Skarstedt\, Deborah Buck\, and a donor who wishes to remain anonymous.
URL:https://parrishart.org/event/every-picture-tells-a-story-work-from-the-permanent-collection/2019-03-21/
LOCATION:Parrish Art Museum\, 279 Montauk Highway\, Water Mill\, NY\, 11976\, United States
CATEGORIES:Exhibitions
ATTACH;FMTTYPE=image/jpeg:https://parrishart.org/wp-content/uploads/2018/11/2000-7-1.jpg
END:VEVENT
BEGIN:VEVENT
DTSTART;TZID=America/New_York:20190322T100000
DTEND;TZID=America/New_York:20190322T200000
DTSTAMP:20260420T032203
CREATED:20190321T170333Z
LAST-MODIFIED:20190410T155311Z
UID:10001447-1553248800-1553284800@parrishart.org
SUMMARY:Every Picture Tells a Story: Work from the Permanent Collection
DESCRIPTION:November 11\, 2018 to October 6\, 2019 \nEach year\, the Museum creates a new exhibition that contextualizes work and amplifies inherent themes by important artists in the Parrish collection of more than 3\,000 works. This year’s seven-gallery installation\, Every Picture Tells a Story\, presents a series of focused exhibitions that explore the many ways that images carry narrative meaning. \nEvery Picture Tells a Story\, the 2018 Permanent Collection Exhibition\, has been made possible\, in part\, by the generous support of Barbara Slifka; Ellen Cantrowitz\, Garrett and Mary Moran; Charlotte Moss and Barry Friedberg\, Jane and David Walentas\, Marie Samuels\, Per Skarstedt\, Deborah Buck\, and a donor who wishes to remain anonymous.
URL:https://parrishart.org/event/every-picture-tells-a-story/2019-03-22/
LOCATION:Parrish Art Museum\, 279 Montauk Highway\, Water Mill\, NY\, 11976\, United States
CATEGORIES:Exhibitions
ATTACH;FMTTYPE=image/jpeg:https://parrishart.org/wp-content/uploads/2018/11/2000-7-1.jpg
END:VEVENT
BEGIN:VEVENT
DTSTART;TZID=America/New_York:20190322T190000
DTEND;TZID=America/New_York:20190322T213000
DTSTAMP:20260420T032203
CREATED:20190207T161806Z
LAST-MODIFIED:20190325T143708Z
UID:10000825-1553281200-1553290200@parrishart.org
SUMMARY:Dance Party with DJ TWILO
DESCRIPTION:  \nCelebrate the THAW kickoff on the dance floor with one of the most sought after DJs on the east coast! DJ TWILO mixes a perfect blend of house music to Top 40’s and hip-hop. \n  \nFriday nights are made possible\, in part\, by Presenting Sponsor\, Bank of America. Additional support provided by The Corcoran Group and Sandy and Stephen Perlbinder.
URL:https://parrishart.org/event/dance-party-with-dj-twilo/
LOCATION:Parrish Art Museum\, 279 Montauk Highway\, Water Mill\, NY\, 11976\, United States
CATEGORIES:Friday Nights,Music
ATTACH;FMTTYPE=image/jpeg:https://parrishart.org/wp-content/uploads/2019/02/DJ-TWILO_Astrid-StawiarzGetty-Images-North-America.jpg
END:VEVENT
BEGIN:VEVENT
DTSTART;TZID=America/New_York:20190323T100000
DTEND;TZID=America/New_York:20190323T170000
DTSTAMP:20260420T032203
CREATED:20190321T170208Z
LAST-MODIFIED:20190507T155747Z
UID:10001286-1553335200-1553360400@parrishart.org
SUMMARY:Every Picture Tells a Story: Work from the Permanent Collection
DESCRIPTION:November 11\, 2018 to October 6\, 2019 \nEach year\, the Museum creates a new exhibition that contextualizes work and amplifies inherent themes by important artists in the Parrish collection of more than 3\,000 works. This year’s seven-gallery installation\, Every Picture Tells a Story\, presents a series of focused exhibitions that explore the many ways that images carry narrative meaning. \nEvery Picture Tells a Story\, the 2018 Permanent Collection Exhibition\, has been made possible\, in part\, by the generous support of Barbara Slifka; Ellen Cantrowitz\, Garrett and Mary Moran; Charlotte Moss and Barry Friedberg\, Jane and David Walentas\, Marie Samuels\, Per Skarstedt\, Deborah Buck\, and a donor who wishes to remain anonymous.
URL:https://parrishart.org/event/every-picture-tells-a-story-work-from-the-permanent-collection/2019-03-23/
LOCATION:Parrish Art Museum\, 279 Montauk Highway\, Water Mill\, NY\, 11976\, United States
CATEGORIES:Exhibitions
ATTACH;FMTTYPE=image/jpeg:https://parrishart.org/wp-content/uploads/2018/11/2000-7-1.jpg
END:VEVENT
END:VCALENDAR