BEGIN:VCALENDAR
VERSION:2.0
PRODID:-//Parrish Art Museum - ECPv6.10.2//NONSGML v1.0//EN
CALSCALE:GREGORIAN
METHOD:PUBLISH
X-WR-CALNAME:Parrish Art Museum
X-ORIGINAL-URL:https://parrishart.org
X-WR-CALDESC:Events for Parrish Art Museum
REFRESH-INTERVAL;VALUE=DURATION:PT1H
X-Robots-Tag:noindex
X-PUBLISHED-TTL:PT1H
BEGIN:VTIMEZONE
TZID:America/New_York
BEGIN:DAYLIGHT
TZOFFSETFROM:-0500
TZOFFSETTO:-0400
TZNAME:EDT
DTSTART:20190310T070000
END:DAYLIGHT
BEGIN:STANDARD
TZOFFSETFROM:-0400
TZOFFSETTO:-0500
TZNAME:EST
DTSTART:20191103T060000
END:STANDARD
END:VTIMEZONE
BEGIN:VEVENT
DTSTART;TZID=America/New_York:20190306T120000
DTEND;TZID=America/New_York:20190310T170000
DTSTAMP:20260420T160118
CREATED:20190312T203605Z
LAST-MODIFIED:20190312T203741Z
UID:10000837-1551873600-1552237200@parrishart.org
SUMMARY:New York Art Fair VIP Opportunities
DESCRIPTION:Contributor level Members and above are eligible for complimentary access to two upcoming NYC art fairs:  The Armory Show (March 6 – 10\, 2019) and Art on Paper (March 7 – 10\, 2019). \nAs a Cultural Partner of The Armory Show\, the Parrish Art Museum has a limited number of VIP cards to distribute to our closest friends and supporters.  Each VIP card admits two adults and is non-transferable.  All VIP Cardholders are entitled to a range of special offerings\, including exclusive events\, programming\, and access to the VIP Lounge.   (Deadline to register is February 22\, 2019)  To learn more\, visit thearmoryshow.com \nArt on Paper returns to Manhattan’s Pier 36 from March 7 through 10th for its fifth edition\, with eighty-eight galleries featuring top modern and contemporary paper-based art. Art on Paper’s medium-driven focus lends itself to significant projects – unique moments that have set the fair apart and established an important destination for the arts in New York City. The Complimentary VIP Pass provides entry for you and a guest beginning with the VIP Preview on Thursday evening\, March 7\, and includes admission to the fair all weekend long\, including access to the VIP Lounge. To learn more visit thepaperfair.com. \nFor more information or to register\, please contact the Parrish Membership department at membership@parrishart.orgor 631-283-2118 x149.
URL:https://parrishart.org/event/new-york-art-fair-vip-opportunities/
LOCATION:Parrish Art Museum\, 279 Montauk Highway\, Water Mill\, NY\, 11976\, United States
CATEGORIES:Member Events
ATTACH;FMTTYPE=image/jpeg:https://parrishart.org/wp-content/uploads/2019/03/Art-on-Paper-470px-wide.jpg
END:VEVENT
BEGIN:VEVENT
DTSTART;TZID=America/New_York:20190310T100000
DTEND;TZID=America/New_York:20190310T170000
DTSTAMP:20260420T160118
CREATED:20190130T185240Z
LAST-MODIFIED:20190221T200807Z
UID:10000100-1552212000-1552237200@parrishart.org
SUMMARY:2019 Student Exhibition
DESCRIPTION:February 9 – March 10\, 2019 \nThe annual Student Exhibition\, a 60-year tradition at the Parrish\, features the work of more than 1\,000 young artists from schools on Eastern Long Island. Working with their art teachers and through art clubs\, the students demonstrate creativity\, enthusiasm\, and technical skill in diverse media\, ranging from painting to sculpture\, drawing and photography. \nThis years’ exhibition includes work created by students in Artist-in-Residence workshops with artist Jeremy Dennis. \nIn addition to the nearly 300 works by students under the direction of their art teachers in 38 public\, private\, and home schools\, the exhibition features work by 350 students who participated in workshops to create works inspired by Dennis’ images currently on view in the museum’s exhibition Every Picture Tells a Story. \nThe Parrish Art Museum’s educational programming is supported\, in part\, by The Stanley and Fiona Druckenmiller Fund\, Institute of Museum and Library Services\, Long Island Community Foundation\, May and Samuel Rudin Family Foundation\, Robert Lehman Foundation\, The John J. McDonnell Margaret T. O’Brien Foundation\, Patricia and David Rung\, William Talbott Hillman Foundation\, Bobbie Braun/The Neuwirth Foundation\, and Town of Southampton. Additional support for the Parrish education programs is provided by the Museum’s annual Spring Fling benefit fundraiser.
URL:https://parrishart.org/event/2019-student-exhibition/2019-03-10/
LOCATION:Parrish Art Museum\, 279 Montauk Highway\, Water Mill\, NY\, 11976\, United States
CATEGORIES:Family Programs
ATTACH;FMTTYPE=image/jpeg:https://parrishart.org/wp-content/uploads/2017/01/Student-DSC8542.jpg
END:VEVENT
BEGIN:VEVENT
DTSTART;TZID=America/New_York:20190310T100000
DTEND;TZID=America/New_York:20190310T170000
DTSTAMP:20260420T160118
CREATED:20190321T170208Z
LAST-MODIFIED:20190507T155747Z
UID:10001277-1552212000-1552237200@parrishart.org
SUMMARY:Every Picture Tells a Story: Work from the Permanent Collection
DESCRIPTION:November 11\, 2018 to October 6\, 2019 \nEach year\, the Museum creates a new exhibition that contextualizes work and amplifies inherent themes by important artists in the Parrish collection of more than 3\,000 works. This year’s seven-gallery installation\, Every Picture Tells a Story\, presents a series of focused exhibitions that explore the many ways that images carry narrative meaning. \nEvery Picture Tells a Story\, the 2018 Permanent Collection Exhibition\, has been made possible\, in part\, by the generous support of Barbara Slifka; Ellen Cantrowitz\, Garrett and Mary Moran; Charlotte Moss and Barry Friedberg\, Jane and David Walentas\, Marie Samuels\, Per Skarstedt\, Deborah Buck\, and a donor who wishes to remain anonymous.
URL:https://parrishart.org/event/every-picture-tells-a-story-work-from-the-permanent-collection/2019-03-10/
LOCATION:Parrish Art Museum\, 279 Montauk Highway\, Water Mill\, NY\, 11976\, United States
CATEGORIES:Exhibitions
ATTACH;FMTTYPE=image/jpeg:https://parrishart.org/wp-content/uploads/2018/11/2000-7-1.jpg
END:VEVENT
BEGIN:VEVENT
DTSTART;TZID=America/New_York:20190311T100000
DTEND;TZID=America/New_York:20190311T170000
DTSTAMP:20260420T160118
CREATED:20190321T170208Z
LAST-MODIFIED:20190507T155747Z
UID:10001278-1552298400-1552323600@parrishart.org
SUMMARY:Every Picture Tells a Story: Work from the Permanent Collection
DESCRIPTION:November 11\, 2018 to October 6\, 2019 \nEach year\, the Museum creates a new exhibition that contextualizes work and amplifies inherent themes by important artists in the Parrish collection of more than 3\,000 works. This year’s seven-gallery installation\, Every Picture Tells a Story\, presents a series of focused exhibitions that explore the many ways that images carry narrative meaning. \nEvery Picture Tells a Story\, the 2018 Permanent Collection Exhibition\, has been made possible\, in part\, by the generous support of Barbara Slifka; Ellen Cantrowitz\, Garrett and Mary Moran; Charlotte Moss and Barry Friedberg\, Jane and David Walentas\, Marie Samuels\, Per Skarstedt\, Deborah Buck\, and a donor who wishes to remain anonymous.
URL:https://parrishart.org/event/every-picture-tells-a-story-work-from-the-permanent-collection/2019-03-11/
LOCATION:Parrish Art Museum\, 279 Montauk Highway\, Water Mill\, NY\, 11976\, United States
CATEGORIES:Exhibitions
ATTACH;FMTTYPE=image/jpeg:https://parrishart.org/wp-content/uploads/2018/11/2000-7-1.jpg
END:VEVENT
BEGIN:VEVENT
DTSTART;VALUE=DATE:20190312
DTEND;VALUE=DATE:20190313
DTSTAMP:20260420T160118
CREATED:20190210T144304Z
LAST-MODIFIED:20190429T194446Z
UID:10000127-1552348800-1552435199@parrishart.org
SUMMARY:Museum Closed on Tuesdays
DESCRIPTION:Museum is Closed on Tuesdays. \nScheduled Workshops with pre-registration will occur.
URL:https://parrishart.org/event/museum-closed-on-tuesdays/2019-03-12/
LOCATION:Parrish Art Museum\, 279 Montauk Highway\, Water Mill\, NY\, 11976\, United States
END:VEVENT
BEGIN:VEVENT
DTSTART;TZID=America/New_York:20190313T100000
DTEND;TZID=America/New_York:20190313T170000
DTSTAMP:20260420T160118
CREATED:20190321T170208Z
LAST-MODIFIED:20190507T155747Z
UID:10001279-1552471200-1552496400@parrishart.org
SUMMARY:Every Picture Tells a Story: Work from the Permanent Collection
DESCRIPTION:November 11\, 2018 to October 6\, 2019 \nEach year\, the Museum creates a new exhibition that contextualizes work and amplifies inherent themes by important artists in the Parrish collection of more than 3\,000 works. This year’s seven-gallery installation\, Every Picture Tells a Story\, presents a series of focused exhibitions that explore the many ways that images carry narrative meaning. \nEvery Picture Tells a Story\, the 2018 Permanent Collection Exhibition\, has been made possible\, in part\, by the generous support of Barbara Slifka; Ellen Cantrowitz\, Garrett and Mary Moran; Charlotte Moss and Barry Friedberg\, Jane and David Walentas\, Marie Samuels\, Per Skarstedt\, Deborah Buck\, and a donor who wishes to remain anonymous.
URL:https://parrishart.org/event/every-picture-tells-a-story-work-from-the-permanent-collection/2019-03-13/
LOCATION:Parrish Art Museum\, 279 Montauk Highway\, Water Mill\, NY\, 11976\, United States
CATEGORIES:Exhibitions
ATTACH;FMTTYPE=image/jpeg:https://parrishart.org/wp-content/uploads/2018/11/2000-7-1.jpg
END:VEVENT
BEGIN:VEVENT
DTSTART;TZID=America/New_York:20190314T100000
DTEND;TZID=America/New_York:20190314T170000
DTSTAMP:20260420T160118
CREATED:20190321T170208Z
LAST-MODIFIED:20190507T155747Z
UID:10001280-1552557600-1552582800@parrishart.org
SUMMARY:Every Picture Tells a Story: Work from the Permanent Collection
DESCRIPTION:November 11\, 2018 to October 6\, 2019 \nEach year\, the Museum creates a new exhibition that contextualizes work and amplifies inherent themes by important artists in the Parrish collection of more than 3\,000 works. This year’s seven-gallery installation\, Every Picture Tells a Story\, presents a series of focused exhibitions that explore the many ways that images carry narrative meaning. \nEvery Picture Tells a Story\, the 2018 Permanent Collection Exhibition\, has been made possible\, in part\, by the generous support of Barbara Slifka; Ellen Cantrowitz\, Garrett and Mary Moran; Charlotte Moss and Barry Friedberg\, Jane and David Walentas\, Marie Samuels\, Per Skarstedt\, Deborah Buck\, and a donor who wishes to remain anonymous.
URL:https://parrishart.org/event/every-picture-tells-a-story-work-from-the-permanent-collection/2019-03-14/
LOCATION:Parrish Art Museum\, 279 Montauk Highway\, Water Mill\, NY\, 11976\, United States
CATEGORIES:Exhibitions
ATTACH;FMTTYPE=image/jpeg:https://parrishart.org/wp-content/uploads/2018/11/2000-7-1.jpg
END:VEVENT
BEGIN:VEVENT
DTSTART;TZID=America/New_York:20190315T100000
DTEND;TZID=America/New_York:20190315T200000
DTSTAMP:20260420T160118
CREATED:20190321T170333Z
LAST-MODIFIED:20190410T155311Z
UID:10001446-1552644000-1552680000@parrishart.org
SUMMARY:Every Picture Tells a Story: Work from the Permanent Collection
DESCRIPTION:November 11\, 2018 to October 6\, 2019 \nEach year\, the Museum creates a new exhibition that contextualizes work and amplifies inherent themes by important artists in the Parrish collection of more than 3\,000 works. This year’s seven-gallery installation\, Every Picture Tells a Story\, presents a series of focused exhibitions that explore the many ways that images carry narrative meaning. \nEvery Picture Tells a Story\, the 2018 Permanent Collection Exhibition\, has been made possible\, in part\, by the generous support of Barbara Slifka; Ellen Cantrowitz\, Garrett and Mary Moran; Charlotte Moss and Barry Friedberg\, Jane and David Walentas\, Marie Samuels\, Per Skarstedt\, Deborah Buck\, and a donor who wishes to remain anonymous.
URL:https://parrishart.org/event/every-picture-tells-a-story/2019-03-15/
LOCATION:Parrish Art Museum\, 279 Montauk Highway\, Water Mill\, NY\, 11976\, United States
CATEGORIES:Exhibitions
ATTACH;FMTTYPE=image/jpeg:https://parrishart.org/wp-content/uploads/2018/11/2000-7-1.jpg
END:VEVENT
BEGIN:VEVENT
DTSTART;TZID=America/New_York:20190315T180000
DTEND;TZID=America/New_York:20190315T200000
DTSTAMP:20260420T160118
CREATED:20190207T160946Z
LAST-MODIFIED:20190321T201828Z
UID:10000823-1552672800-1552680000@parrishart.org
SUMMARY:TALK: PechaKucha Night Hamptons\, Vol. 27
DESCRIPTION:  \n\nAs the official site for the Hamptons\, we join over 700 cities globally in hosting “PechaKucha Nights\,” named for the sound of “chit-chat” in Japanese. The format is simple: each invited presenter gets 20 slides x 20 seconds per slide to talk about living creatively on the East End. This is a great opportunity to establish new relationships\, learn about local resources\, and hear from the many artists\, writers\, musicians\, gardeners\, farmers\, baymen\, winemakers\, chefs\, designers\, architects\, and other creative professionals of our region. \nPresenters: Photographer Tiagne Davis\, Artist Pipi Deer\, Artist Colin Goldberg\, Quail Hill Farm Manager Layton Guenther\, Photographer Lori Hawkins\, Musician/Actress Carolina Kohn\, Artist Bruce Lieberman\, Artist Ronald Weintraub \nSpace is limited; advance reservations are required. \nLearn more about PechaKucha Night Hamptons\, and watch videos of past presentations. \nFriday nights are made possible\, in part\, by Presenting Sponsor\, Bank of America. Additional support provided by The Corcoran Group and Sandy and Stephen Perlbinder.
URL:https://parrishart.org/event/talk-pechakucha-night-hamptons-vol-27/
LOCATION:Parrish Art Museum\, 279 Montauk Highway\, Water Mill\, NY\, 11976\, United States
CATEGORIES:Friday Nights,PechaKucha,Talks
ATTACH;FMTTYPE=image/jpeg:https://parrishart.org/wp-content/uploads/2019/01/PechaKuchaNightHamptonslogo-for-Website-1.jpg
END:VEVENT
BEGIN:VEVENT
DTSTART;TZID=America/New_York:20190316T100000
DTEND;TZID=America/New_York:20190316T170000
DTSTAMP:20260420T160118
CREATED:20190321T170208Z
LAST-MODIFIED:20190507T155747Z
UID:10001281-1552730400-1552755600@parrishart.org
SUMMARY:Every Picture Tells a Story: Work from the Permanent Collection
DESCRIPTION:November 11\, 2018 to October 6\, 2019 \nEach year\, the Museum creates a new exhibition that contextualizes work and amplifies inherent themes by important artists in the Parrish collection of more than 3\,000 works. This year’s seven-gallery installation\, Every Picture Tells a Story\, presents a series of focused exhibitions that explore the many ways that images carry narrative meaning. \nEvery Picture Tells a Story\, the 2018 Permanent Collection Exhibition\, has been made possible\, in part\, by the generous support of Barbara Slifka; Ellen Cantrowitz\, Garrett and Mary Moran; Charlotte Moss and Barry Friedberg\, Jane and David Walentas\, Marie Samuels\, Per Skarstedt\, Deborah Buck\, and a donor who wishes to remain anonymous.
URL:https://parrishart.org/event/every-picture-tells-a-story-work-from-the-permanent-collection/2019-03-16/
LOCATION:Parrish Art Museum\, 279 Montauk Highway\, Water Mill\, NY\, 11976\, United States
CATEGORIES:Exhibitions
ATTACH;FMTTYPE=image/jpeg:https://parrishart.org/wp-content/uploads/2018/11/2000-7-1.jpg
END:VEVENT
END:VCALENDAR