BEGIN:VCALENDAR
VERSION:2.0
PRODID:-//Parrish Art Museum - ECPv6.10.2//NONSGML v1.0//EN
CALSCALE:GREGORIAN
METHOD:PUBLISH
X-ORIGINAL-URL:https://parrishart.org
X-WR-CALDESC:Events for Parrish Art Museum
REFRESH-INTERVAL;VALUE=DURATION:PT1H
X-Robots-Tag:noindex
X-PUBLISHED-TTL:PT1H
BEGIN:VTIMEZONE
TZID:America/New_York
BEGIN:DAYLIGHT
TZOFFSETFROM:-0500
TZOFFSETTO:-0400
TZNAME:EDT
DTSTART:20280312T070000
END:DAYLIGHT
BEGIN:STANDARD
TZOFFSETFROM:-0400
TZOFFSETTO:-0500
TZNAME:EST
DTSTART:20281105T060000
END:STANDARD
END:VTIMEZONE
BEGIN:VEVENT
DTSTART;VALUE=DATE:20281205
DTEND;VALUE=DATE:20281206
DTSTAMP:20260421T001516
CREATED:20241223T224106Z
LAST-MODIFIED:20241223T225157Z
UID:10005194-1859587200-1859673599@parrishart.org
SUMMARY:Galleries Closed; Grounds open 11 AM–5 PM
DESCRIPTION:Museum Galleries are closed on Tuesdays and Wednesdays. \nMuseum Grounds are open 11 AM–5 PM every day. \nScheduled Workshops with pre-registration will occur.
URL:https://parrishart.org/event/galleries-closed-grounds-open-11-am-5-pm/2028-12-05/
LOCATION:Parrish Art Museum\, 279 Montauk Highway\, Water Mill\, NY\, 11976\, United States
ATTACH;FMTTYPE=image/png:https://parrishart.org/wp-content/uploads/2023/01/Exterior_Building_ParrishArtMuseum_architecture_Baroton.png
END:VEVENT
BEGIN:VEVENT
DTSTART;VALUE=DATE:20281206
DTEND;VALUE=DATE:20281207
DTSTAMP:20260421T001516
CREATED:20241223T224106Z
LAST-MODIFIED:20241223T225157Z
UID:10005195-1859673600-1859759999@parrishart.org
SUMMARY:Galleries Closed; Grounds open 11 AM–5 PM
DESCRIPTION:Museum Galleries are closed on Tuesdays and Wednesdays. \nMuseum Grounds are open 11 AM–5 PM every day. \nScheduled Workshops with pre-registration will occur.
URL:https://parrishart.org/event/galleries-closed-grounds-open-11-am-5-pm/2028-12-06/
LOCATION:Parrish Art Museum\, 279 Montauk Highway\, Water Mill\, NY\, 11976\, United States
ATTACH;FMTTYPE=image/png:https://parrishart.org/wp-content/uploads/2023/01/Exterior_Building_ParrishArtMuseum_architecture_Baroton.png
END:VEVENT
BEGIN:VEVENT
DTSTART;VALUE=DATE:20281212
DTEND;VALUE=DATE:20281213
DTSTAMP:20260421T001516
CREATED:20241223T224106Z
LAST-MODIFIED:20241223T225157Z
UID:10005196-1860192000-1860278399@parrishart.org
SUMMARY:Galleries Closed; Grounds open 11 AM–5 PM
DESCRIPTION:Museum Galleries are closed on Tuesdays and Wednesdays. \nMuseum Grounds are open 11 AM–5 PM every day. \nScheduled Workshops with pre-registration will occur.
URL:https://parrishart.org/event/galleries-closed-grounds-open-11-am-5-pm/2028-12-12/
LOCATION:Parrish Art Museum\, 279 Montauk Highway\, Water Mill\, NY\, 11976\, United States
ATTACH;FMTTYPE=image/png:https://parrishart.org/wp-content/uploads/2023/01/Exterior_Building_ParrishArtMuseum_architecture_Baroton.png
END:VEVENT
BEGIN:VEVENT
DTSTART;VALUE=DATE:20281213
DTEND;VALUE=DATE:20281214
DTSTAMP:20260421T001516
CREATED:20241223T224106Z
LAST-MODIFIED:20241223T225157Z
UID:10005197-1860278400-1860364799@parrishart.org
SUMMARY:Galleries Closed; Grounds open 11 AM–5 PM
DESCRIPTION:Museum Galleries are closed on Tuesdays and Wednesdays. \nMuseum Grounds are open 11 AM–5 PM every day. \nScheduled Workshops with pre-registration will occur.
URL:https://parrishart.org/event/galleries-closed-grounds-open-11-am-5-pm/2028-12-13/
LOCATION:Parrish Art Museum\, 279 Montauk Highway\, Water Mill\, NY\, 11976\, United States
ATTACH;FMTTYPE=image/png:https://parrishart.org/wp-content/uploads/2023/01/Exterior_Building_ParrishArtMuseum_architecture_Baroton.png
END:VEVENT
BEGIN:VEVENT
DTSTART;VALUE=DATE:20281219
DTEND;VALUE=DATE:20281220
DTSTAMP:20260421T001516
CREATED:20241223T224106Z
LAST-MODIFIED:20241223T225157Z
UID:10005198-1860796800-1860883199@parrishart.org
SUMMARY:Galleries Closed; Grounds open 11 AM–5 PM
DESCRIPTION:Museum Galleries are closed on Tuesdays and Wednesdays. \nMuseum Grounds are open 11 AM–5 PM every day. \nScheduled Workshops with pre-registration will occur.
URL:https://parrishart.org/event/galleries-closed-grounds-open-11-am-5-pm/2028-12-19/
LOCATION:Parrish Art Museum\, 279 Montauk Highway\, Water Mill\, NY\, 11976\, United States
ATTACH;FMTTYPE=image/png:https://parrishart.org/wp-content/uploads/2023/01/Exterior_Building_ParrishArtMuseum_architecture_Baroton.png
END:VEVENT
BEGIN:VEVENT
DTSTART;VALUE=DATE:20281220
DTEND;VALUE=DATE:20281221
DTSTAMP:20260421T001516
CREATED:20241223T224106Z
LAST-MODIFIED:20241223T225157Z
UID:10005199-1860883200-1860969599@parrishart.org
SUMMARY:Galleries Closed; Grounds open 11 AM–5 PM
DESCRIPTION:Museum Galleries are closed on Tuesdays and Wednesdays. \nMuseum Grounds are open 11 AM–5 PM every day. \nScheduled Workshops with pre-registration will occur.
URL:https://parrishart.org/event/galleries-closed-grounds-open-11-am-5-pm/2028-12-20/
LOCATION:Parrish Art Museum\, 279 Montauk Highway\, Water Mill\, NY\, 11976\, United States
ATTACH;FMTTYPE=image/png:https://parrishart.org/wp-content/uploads/2023/01/Exterior_Building_ParrishArtMuseum_architecture_Baroton.png
END:VEVENT
BEGIN:VEVENT
DTSTART;VALUE=DATE:20281225
DTEND;VALUE=DATE:20281226
DTSTAMP:20260421T001516
CREATED:20251103T193245Z
LAST-MODIFIED:20251103T193245Z
UID:10005535-1861315200-1861401599@parrishart.org
SUMMARY:Christmas Day - Closed
DESCRIPTION:
URL:https://parrishart.org/event/christmas-day-closed/2028-12-25/
LOCATION:Parrish Art Museum\, 279 Montauk Highway\, Water Mill\, NY\, 11976\, United States
ATTACH;FMTTYPE=image/jpeg:https://parrishart.org/wp-content/uploads/2025/11/1980.10.157_w.jpg
END:VEVENT
BEGIN:VEVENT
DTSTART;VALUE=DATE:20281226
DTEND;VALUE=DATE:20281227
DTSTAMP:20260421T001516
CREATED:20241223T224106Z
LAST-MODIFIED:20241223T225157Z
UID:10005200-1861401600-1861487999@parrishart.org
SUMMARY:Galleries Closed; Grounds open 11 AM–5 PM
DESCRIPTION:Museum Galleries are closed on Tuesdays and Wednesdays. \nMuseum Grounds are open 11 AM–5 PM every day. \nScheduled Workshops with pre-registration will occur.
URL:https://parrishart.org/event/galleries-closed-grounds-open-11-am-5-pm/2028-12-26/
LOCATION:Parrish Art Museum\, 279 Montauk Highway\, Water Mill\, NY\, 11976\, United States
ATTACH;FMTTYPE=image/png:https://parrishart.org/wp-content/uploads/2023/01/Exterior_Building_ParrishArtMuseum_architecture_Baroton.png
END:VEVENT
BEGIN:VEVENT
DTSTART;VALUE=DATE:20281227
DTEND;VALUE=DATE:20281228
DTSTAMP:20260421T001516
CREATED:20241223T224106Z
LAST-MODIFIED:20241223T225157Z
UID:10005201-1861488000-1861574399@parrishart.org
SUMMARY:Galleries Closed; Grounds open 11 AM–5 PM
DESCRIPTION:Museum Galleries are closed on Tuesdays and Wednesdays. \nMuseum Grounds are open 11 AM–5 PM every day. \nScheduled Workshops with pre-registration will occur.
URL:https://parrishart.org/event/galleries-closed-grounds-open-11-am-5-pm/2028-12-27/
LOCATION:Parrish Art Museum\, 279 Montauk Highway\, Water Mill\, NY\, 11976\, United States
ATTACH;FMTTYPE=image/png:https://parrishart.org/wp-content/uploads/2023/01/Exterior_Building_ParrishArtMuseum_architecture_Baroton.png
END:VEVENT
END:VCALENDAR