BEGIN:VCALENDAR
VERSION:2.0
PRODID:-//Parrish Art Museum - ECPv6.10.2//NONSGML v1.0//EN
CALSCALE:GREGORIAN
METHOD:PUBLISH
X-ORIGINAL-URL:https://parrishart.org
X-WR-CALDESC:Events for Parrish Art Museum
REFRESH-INTERVAL;VALUE=DURATION:PT1H
X-Robots-Tag:noindex
X-PUBLISHED-TTL:PT1H
BEGIN:VTIMEZONE
TZID:America/New_York
BEGIN:DAYLIGHT
TZOFFSETFROM:-0500
TZOFFSETTO:-0400
TZNAME:EDT
DTSTART:20280312T070000
END:DAYLIGHT
BEGIN:STANDARD
TZOFFSETFROM:-0400
TZOFFSETTO:-0500
TZNAME:EST
DTSTART:20281105T060000
END:STANDARD
END:VTIMEZONE
BEGIN:VEVENT
DTSTART;VALUE=DATE:20281101
DTEND;VALUE=DATE:20281102
DTSTAMP:20260420T094649
CREATED:20241223T224106Z
LAST-MODIFIED:20241223T225157Z
UID:10005185-1856649600-1856735999@parrishart.org
SUMMARY:Galleries Closed; Grounds open 11 AM–5 PM
DESCRIPTION:Museum Galleries are closed on Tuesdays and Wednesdays. \nMuseum Grounds are open 11 AM–5 PM every day. \nScheduled Workshops with pre-registration will occur.
URL:https://parrishart.org/event/galleries-closed-grounds-open-11-am-5-pm/2028-11-01/
LOCATION:Parrish Art Museum\, 279 Montauk Highway\, Water Mill\, NY\, 11976\, United States
ATTACH;FMTTYPE=image/png:https://parrishart.org/wp-content/uploads/2023/01/Exterior_Building_ParrishArtMuseum_architecture_Baroton.png
END:VEVENT
BEGIN:VEVENT
DTSTART;VALUE=DATE:20281107
DTEND;VALUE=DATE:20281108
DTSTAMP:20260420T094649
CREATED:20241223T224106Z
LAST-MODIFIED:20241223T225157Z
UID:10005186-1857168000-1857254399@parrishart.org
SUMMARY:Galleries Closed; Grounds open 11 AM–5 PM
DESCRIPTION:Museum Galleries are closed on Tuesdays and Wednesdays. \nMuseum Grounds are open 11 AM–5 PM every day. \nScheduled Workshops with pre-registration will occur.
URL:https://parrishart.org/event/galleries-closed-grounds-open-11-am-5-pm/2028-11-07/
LOCATION:Parrish Art Museum\, 279 Montauk Highway\, Water Mill\, NY\, 11976\, United States
ATTACH;FMTTYPE=image/png:https://parrishart.org/wp-content/uploads/2023/01/Exterior_Building_ParrishArtMuseum_architecture_Baroton.png
END:VEVENT
BEGIN:VEVENT
DTSTART;VALUE=DATE:20281108
DTEND;VALUE=DATE:20281109
DTSTAMP:20260420T094649
CREATED:20241223T224106Z
LAST-MODIFIED:20241223T225157Z
UID:10005187-1857254400-1857340799@parrishart.org
SUMMARY:Galleries Closed; Grounds open 11 AM–5 PM
DESCRIPTION:Museum Galleries are closed on Tuesdays and Wednesdays. \nMuseum Grounds are open 11 AM–5 PM every day. \nScheduled Workshops with pre-registration will occur.
URL:https://parrishart.org/event/galleries-closed-grounds-open-11-am-5-pm/2028-11-08/
LOCATION:Parrish Art Museum\, 279 Montauk Highway\, Water Mill\, NY\, 11976\, United States
ATTACH;FMTTYPE=image/png:https://parrishart.org/wp-content/uploads/2023/01/Exterior_Building_ParrishArtMuseum_architecture_Baroton.png
END:VEVENT
BEGIN:VEVENT
DTSTART;VALUE=DATE:20281114
DTEND;VALUE=DATE:20281115
DTSTAMP:20260420T094649
CREATED:20241223T224106Z
LAST-MODIFIED:20241223T225157Z
UID:10005188-1857772800-1857859199@parrishart.org
SUMMARY:Galleries Closed; Grounds open 11 AM–5 PM
DESCRIPTION:Museum Galleries are closed on Tuesdays and Wednesdays. \nMuseum Grounds are open 11 AM–5 PM every day. \nScheduled Workshops with pre-registration will occur.
URL:https://parrishart.org/event/galleries-closed-grounds-open-11-am-5-pm/2028-11-14/
LOCATION:Parrish Art Museum\, 279 Montauk Highway\, Water Mill\, NY\, 11976\, United States
ATTACH;FMTTYPE=image/png:https://parrishart.org/wp-content/uploads/2023/01/Exterior_Building_ParrishArtMuseum_architecture_Baroton.png
END:VEVENT
BEGIN:VEVENT
DTSTART;VALUE=DATE:20281115
DTEND;VALUE=DATE:20281116
DTSTAMP:20260420T094649
CREATED:20241223T224106Z
LAST-MODIFIED:20241223T225157Z
UID:10005189-1857859200-1857945599@parrishart.org
SUMMARY:Galleries Closed; Grounds open 11 AM–5 PM
DESCRIPTION:Museum Galleries are closed on Tuesdays and Wednesdays. \nMuseum Grounds are open 11 AM–5 PM every day. \nScheduled Workshops with pre-registration will occur.
URL:https://parrishart.org/event/galleries-closed-grounds-open-11-am-5-pm/2028-11-15/
LOCATION:Parrish Art Museum\, 279 Montauk Highway\, Water Mill\, NY\, 11976\, United States
ATTACH;FMTTYPE=image/png:https://parrishart.org/wp-content/uploads/2023/01/Exterior_Building_ParrishArtMuseum_architecture_Baroton.png
END:VEVENT
BEGIN:VEVENT
DTSTART;VALUE=DATE:20281121
DTEND;VALUE=DATE:20281122
DTSTAMP:20260420T094649
CREATED:20241223T224106Z
LAST-MODIFIED:20241223T225157Z
UID:10005190-1858377600-1858463999@parrishart.org
SUMMARY:Galleries Closed; Grounds open 11 AM–5 PM
DESCRIPTION:Museum Galleries are closed on Tuesdays and Wednesdays. \nMuseum Grounds are open 11 AM–5 PM every day. \nScheduled Workshops with pre-registration will occur.
URL:https://parrishart.org/event/galleries-closed-grounds-open-11-am-5-pm/2028-11-21/
LOCATION:Parrish Art Museum\, 279 Montauk Highway\, Water Mill\, NY\, 11976\, United States
ATTACH;FMTTYPE=image/png:https://parrishart.org/wp-content/uploads/2023/01/Exterior_Building_ParrishArtMuseum_architecture_Baroton.png
END:VEVENT
BEGIN:VEVENT
DTSTART;VALUE=DATE:20281122
DTEND;VALUE=DATE:20281123
DTSTAMP:20260420T094650
CREATED:20241223T224106Z
LAST-MODIFIED:20241223T225157Z
UID:10005191-1858464000-1858550399@parrishart.org
SUMMARY:Galleries Closed; Grounds open 11 AM–5 PM
DESCRIPTION:Museum Galleries are closed on Tuesdays and Wednesdays. \nMuseum Grounds are open 11 AM–5 PM every day. \nScheduled Workshops with pre-registration will occur.
URL:https://parrishart.org/event/galleries-closed-grounds-open-11-am-5-pm/2028-11-22/
LOCATION:Parrish Art Museum\, 279 Montauk Highway\, Water Mill\, NY\, 11976\, United States
ATTACH;FMTTYPE=image/png:https://parrishart.org/wp-content/uploads/2023/01/Exterior_Building_ParrishArtMuseum_architecture_Baroton.png
END:VEVENT
BEGIN:VEVENT
DTSTART;VALUE=DATE:20281123
DTEND;VALUE=DATE:20281124
DTSTAMP:20260420T094650
CREATED:20241125T214241Z
LAST-MODIFIED:20241125T215458Z
UID:10004034-1858550400-1858636799@parrishart.org
SUMMARY:Thanksgiving - Closed
DESCRIPTION:
URL:https://parrishart.org/event/thanksgiving-day-museum-is-closed/2028-11-23/
LOCATION:Parrish Art Museum\, 279 Montauk Highway\, Water Mill\, NY\, 11976\, United States
ATTACH;FMTTYPE=image/jpeg:https://parrishart.org/wp-content/uploads/2024/11/1980.10.36.jpg
END:VEVENT
BEGIN:VEVENT
DTSTART;VALUE=DATE:20281128
DTEND;VALUE=DATE:20281129
DTSTAMP:20260420T094650
CREATED:20241223T224106Z
LAST-MODIFIED:20241223T225157Z
UID:10005192-1858982400-1859068799@parrishart.org
SUMMARY:Galleries Closed; Grounds open 11 AM–5 PM
DESCRIPTION:Museum Galleries are closed on Tuesdays and Wednesdays. \nMuseum Grounds are open 11 AM–5 PM every day. \nScheduled Workshops with pre-registration will occur.
URL:https://parrishart.org/event/galleries-closed-grounds-open-11-am-5-pm/2028-11-28/
LOCATION:Parrish Art Museum\, 279 Montauk Highway\, Water Mill\, NY\, 11976\, United States
ATTACH;FMTTYPE=image/png:https://parrishart.org/wp-content/uploads/2023/01/Exterior_Building_ParrishArtMuseum_architecture_Baroton.png
END:VEVENT
BEGIN:VEVENT
DTSTART;VALUE=DATE:20281129
DTEND;VALUE=DATE:20281130
DTSTAMP:20260420T094650
CREATED:20241223T224106Z
LAST-MODIFIED:20241223T225157Z
UID:10005193-1859068800-1859155199@parrishart.org
SUMMARY:Galleries Closed; Grounds open 11 AM–5 PM
DESCRIPTION:Museum Galleries are closed on Tuesdays and Wednesdays. \nMuseum Grounds are open 11 AM–5 PM every day. \nScheduled Workshops with pre-registration will occur.
URL:https://parrishart.org/event/galleries-closed-grounds-open-11-am-5-pm/2028-11-29/
LOCATION:Parrish Art Museum\, 279 Montauk Highway\, Water Mill\, NY\, 11976\, United States
ATTACH;FMTTYPE=image/png:https://parrishart.org/wp-content/uploads/2023/01/Exterior_Building_ParrishArtMuseum_architecture_Baroton.png
END:VEVENT
END:VCALENDAR