BEGIN:VCALENDAR
VERSION:2.0
PRODID:-//Parrish Art Museum - ECPv6.10.2//NONSGML v1.0//EN
CALSCALE:GREGORIAN
METHOD:PUBLISH
X-WR-CALNAME:Parrish Art Museum
X-ORIGINAL-URL:https://parrishart.org
X-WR-CALDESC:Events for Parrish Art Museum
REFRESH-INTERVAL;VALUE=DURATION:PT1H
X-Robots-Tag:noindex
X-PUBLISHED-TTL:PT1H
BEGIN:VTIMEZONE
TZID:America/New_York
BEGIN:DAYLIGHT
TZOFFSETFROM:-0500
TZOFFSETTO:-0400
TZNAME:EDT
DTSTART:20280312T070000
END:DAYLIGHT
BEGIN:STANDARD
TZOFFSETFROM:-0400
TZOFFSETTO:-0500
TZNAME:EST
DTSTART:20281105T060000
END:STANDARD
END:VTIMEZONE
BEGIN:VEVENT
DTSTART;VALUE=DATE:20281003
DTEND;VALUE=DATE:20281004
DTSTAMP:20260419T154950
CREATED:20241223T224106Z
LAST-MODIFIED:20241223T225157Z
UID:10005176-1854144000-1854230399@parrishart.org
SUMMARY:Galleries Closed; Grounds open 11 AM–5 PM
DESCRIPTION:Museum Galleries are closed on Tuesdays and Wednesdays. \nMuseum Grounds are open 11 AM–5 PM every day. \nScheduled Workshops with pre-registration will occur.
URL:https://parrishart.org/event/galleries-closed-grounds-open-11-am-5-pm/2028-10-03/
LOCATION:Parrish Art Museum\, 279 Montauk Highway\, Water Mill\, NY\, 11976\, United States
ATTACH;FMTTYPE=image/png:https://parrishart.org/wp-content/uploads/2023/01/Exterior_Building_ParrishArtMuseum_architecture_Baroton.png
END:VEVENT
BEGIN:VEVENT
DTSTART;VALUE=DATE:20281004
DTEND;VALUE=DATE:20281005
DTSTAMP:20260419T154950
CREATED:20241223T224106Z
LAST-MODIFIED:20241223T225157Z
UID:10005177-1854230400-1854316799@parrishart.org
SUMMARY:Galleries Closed; Grounds open 11 AM–5 PM
DESCRIPTION:Museum Galleries are closed on Tuesdays and Wednesdays. \nMuseum Grounds are open 11 AM–5 PM every day. \nScheduled Workshops with pre-registration will occur.
URL:https://parrishart.org/event/galleries-closed-grounds-open-11-am-5-pm/2028-10-04/
LOCATION:Parrish Art Museum\, 279 Montauk Highway\, Water Mill\, NY\, 11976\, United States
ATTACH;FMTTYPE=image/png:https://parrishart.org/wp-content/uploads/2023/01/Exterior_Building_ParrishArtMuseum_architecture_Baroton.png
END:VEVENT
BEGIN:VEVENT
DTSTART;VALUE=DATE:20281010
DTEND;VALUE=DATE:20281011
DTSTAMP:20260419T154950
CREATED:20241223T224106Z
LAST-MODIFIED:20241223T225157Z
UID:10005178-1854748800-1854835199@parrishart.org
SUMMARY:Galleries Closed; Grounds open 11 AM–5 PM
DESCRIPTION:Museum Galleries are closed on Tuesdays and Wednesdays. \nMuseum Grounds are open 11 AM–5 PM every day. \nScheduled Workshops with pre-registration will occur.
URL:https://parrishart.org/event/galleries-closed-grounds-open-11-am-5-pm/2028-10-10/
LOCATION:Parrish Art Museum\, 279 Montauk Highway\, Water Mill\, NY\, 11976\, United States
ATTACH;FMTTYPE=image/png:https://parrishart.org/wp-content/uploads/2023/01/Exterior_Building_ParrishArtMuseum_architecture_Baroton.png
END:VEVENT
BEGIN:VEVENT
DTSTART;VALUE=DATE:20281011
DTEND;VALUE=DATE:20281012
DTSTAMP:20260419T154950
CREATED:20241223T224106Z
LAST-MODIFIED:20241223T225157Z
UID:10005179-1854835200-1854921599@parrishart.org
SUMMARY:Galleries Closed; Grounds open 11 AM–5 PM
DESCRIPTION:Museum Galleries are closed on Tuesdays and Wednesdays. \nMuseum Grounds are open 11 AM–5 PM every day. \nScheduled Workshops with pre-registration will occur.
URL:https://parrishart.org/event/galleries-closed-grounds-open-11-am-5-pm/2028-10-11/
LOCATION:Parrish Art Museum\, 279 Montauk Highway\, Water Mill\, NY\, 11976\, United States
ATTACH;FMTTYPE=image/png:https://parrishart.org/wp-content/uploads/2023/01/Exterior_Building_ParrishArtMuseum_architecture_Baroton.png
END:VEVENT
BEGIN:VEVENT
DTSTART;VALUE=DATE:20281017
DTEND;VALUE=DATE:20281018
DTSTAMP:20260419T154950
CREATED:20241223T224106Z
LAST-MODIFIED:20241223T225157Z
UID:10005180-1855353600-1855439999@parrishart.org
SUMMARY:Galleries Closed; Grounds open 11 AM–5 PM
DESCRIPTION:Museum Galleries are closed on Tuesdays and Wednesdays. \nMuseum Grounds are open 11 AM–5 PM every day. \nScheduled Workshops with pre-registration will occur.
URL:https://parrishart.org/event/galleries-closed-grounds-open-11-am-5-pm/2028-10-17/
LOCATION:Parrish Art Museum\, 279 Montauk Highway\, Water Mill\, NY\, 11976\, United States
ATTACH;FMTTYPE=image/png:https://parrishart.org/wp-content/uploads/2023/01/Exterior_Building_ParrishArtMuseum_architecture_Baroton.png
END:VEVENT
BEGIN:VEVENT
DTSTART;VALUE=DATE:20281018
DTEND;VALUE=DATE:20281019
DTSTAMP:20260419T154950
CREATED:20241223T224106Z
LAST-MODIFIED:20241223T225157Z
UID:10005181-1855440000-1855526399@parrishart.org
SUMMARY:Galleries Closed; Grounds open 11 AM–5 PM
DESCRIPTION:Museum Galleries are closed on Tuesdays and Wednesdays. \nMuseum Grounds are open 11 AM–5 PM every day. \nScheduled Workshops with pre-registration will occur.
URL:https://parrishart.org/event/galleries-closed-grounds-open-11-am-5-pm/2028-10-18/
LOCATION:Parrish Art Museum\, 279 Montauk Highway\, Water Mill\, NY\, 11976\, United States
ATTACH;FMTTYPE=image/png:https://parrishart.org/wp-content/uploads/2023/01/Exterior_Building_ParrishArtMuseum_architecture_Baroton.png
END:VEVENT
BEGIN:VEVENT
DTSTART;VALUE=DATE:20281024
DTEND;VALUE=DATE:20281025
DTSTAMP:20260419T154950
CREATED:20241223T224106Z
LAST-MODIFIED:20241223T225157Z
UID:10005182-1855958400-1856044799@parrishart.org
SUMMARY:Galleries Closed; Grounds open 11 AM–5 PM
DESCRIPTION:Museum Galleries are closed on Tuesdays and Wednesdays. \nMuseum Grounds are open 11 AM–5 PM every day. \nScheduled Workshops with pre-registration will occur.
URL:https://parrishart.org/event/galleries-closed-grounds-open-11-am-5-pm/2028-10-24/
LOCATION:Parrish Art Museum\, 279 Montauk Highway\, Water Mill\, NY\, 11976\, United States
ATTACH;FMTTYPE=image/png:https://parrishart.org/wp-content/uploads/2023/01/Exterior_Building_ParrishArtMuseum_architecture_Baroton.png
END:VEVENT
BEGIN:VEVENT
DTSTART;VALUE=DATE:20281025
DTEND;VALUE=DATE:20281026
DTSTAMP:20260419T154951
CREATED:20241223T224106Z
LAST-MODIFIED:20241223T225157Z
UID:10005183-1856044800-1856131199@parrishart.org
SUMMARY:Galleries Closed; Grounds open 11 AM–5 PM
DESCRIPTION:Museum Galleries are closed on Tuesdays and Wednesdays. \nMuseum Grounds are open 11 AM–5 PM every day. \nScheduled Workshops with pre-registration will occur.
URL:https://parrishart.org/event/galleries-closed-grounds-open-11-am-5-pm/2028-10-25/
LOCATION:Parrish Art Museum\, 279 Montauk Highway\, Water Mill\, NY\, 11976\, United States
ATTACH;FMTTYPE=image/png:https://parrishart.org/wp-content/uploads/2023/01/Exterior_Building_ParrishArtMuseum_architecture_Baroton.png
END:VEVENT
BEGIN:VEVENT
DTSTART;VALUE=DATE:20281031
DTEND;VALUE=DATE:20281101
DTSTAMP:20260419T154951
CREATED:20241223T224106Z
LAST-MODIFIED:20241223T225157Z
UID:10005184-1856563200-1856649599@parrishart.org
SUMMARY:Galleries Closed; Grounds open 11 AM–5 PM
DESCRIPTION:Museum Galleries are closed on Tuesdays and Wednesdays. \nMuseum Grounds are open 11 AM–5 PM every day. \nScheduled Workshops with pre-registration will occur.
URL:https://parrishart.org/event/galleries-closed-grounds-open-11-am-5-pm/2028-10-31/
LOCATION:Parrish Art Museum\, 279 Montauk Highway\, Water Mill\, NY\, 11976\, United States
ATTACH;FMTTYPE=image/png:https://parrishart.org/wp-content/uploads/2023/01/Exterior_Building_ParrishArtMuseum_architecture_Baroton.png
END:VEVENT
END:VCALENDAR