BEGIN:VCALENDAR
VERSION:2.0
PRODID:-//Parrish Art Museum - ECPv6.10.2//NONSGML v1.0//EN
CALSCALE:GREGORIAN
METHOD:PUBLISH
X-WR-CALNAME:Parrish Art Museum
X-ORIGINAL-URL:https://parrishart.org
X-WR-CALDESC:Events for Parrish Art Museum
REFRESH-INTERVAL;VALUE=DURATION:PT1H
X-Robots-Tag:noindex
X-PUBLISHED-TTL:PT1H
BEGIN:VTIMEZONE
TZID:America/New_York
BEGIN:DAYLIGHT
TZOFFSETFROM:-0500
TZOFFSETTO:-0400
TZNAME:EDT
DTSTART:20210314T070000
END:DAYLIGHT
BEGIN:STANDARD
TZOFFSETFROM:-0400
TZOFFSETTO:-0500
TZNAME:EST
DTSTART:20211107T060000
END:STANDARD
END:VTIMEZONE
BEGIN:VEVENT
DTSTART;TZID=America/New_York:20210723T200000
DTEND;TZID=America/New_York:20210723T223000
DTSTAMP:20260422T131506
CREATED:20210702T212931Z
LAST-MODIFIED:20220825T120732Z
UID:10002916-1627070400-1627079400@parrishart.org
SUMMARY:Outdoor Black Film Festival: The Last Black Man in San Francisco and elephant
DESCRIPTION:The Parrish Art Museum is partnering with Bridgehampton Child Care & Recreational Center to present an outdoor Black Film Festival on July 23 and July 30 featuring feature films and shorts. Entrance opens at 8 pm. Film will begin after dark\, at approximately 8:30 pm. The event takes place outdoors\, please bring your own chairs\, no Museum seating is available. Please use the link below to register. \n$15 | $5 Parrish Members | Friends of BHCCRC\nFree for Students and Children \nREGISTER \nelephant\n2020\, NR\, 15 minutes\nDirector: Gladys San Juan \nelephant is a short film about Nicole\, a woman in her late 30s who appears to have it all; a caring husband\, two children and a good job. But Nicole is suffering from a crippling depression that\, due to the stigma attached to mental illness\, she is trying to keep secret. Set over 24 hours\, The Elephant shows how a series of otherwise minor events\, coupled with Nicole’s dissociation from family and friends\, lead her to a state of utter desperation. \nThe Last Black Man in San Francisco\n2019\, R\, 121 minutes\nDirector: Joe Talbot \nJimmie Fails dreams of reclaiming the Victorian home his grandfather built in the heart of San Francisco. Joined on his quest by his best friend Mont\, Jimmie searches for belonging in a rapidly changing city that seems to have left them behind. As he struggles to reconnect with his family and reconstruct the community he longs for\, his hopes blind him to the reality of his situation. \nA wistful odyssey populated by skaters\, squatters\, street preachers\, playwrights\, and other locals on the margins\, The Last Black Man in San Francisco is a poignant and sweeping story of hometowns and how they’re made—and kept alive—by the people who love them. \nAll sales are final\, non-transferable\, and non-refundable. \nThe event takes place outdoors\, please bring your own chairs\, no Museum seating is available.  \nYou must wear a mask to access the event. Face coverings must be worn when in aisles or moving through spaces. \nNo outside food or drink is permitted. Individually packaged food and drinks will be available for purchase through the cafe vendor\, Elegant Affairs. \nRestrooms will be open during the event. Hand sanitizer and wipes will be available. The Parrish is being regularly disinfected for the safety of our staff and visitors. \nNo pets are allowed on the Museum grounds or in the galleries. \n  \nFriday Nights at the Parrish are made possible\, in part\, by Presenting Sponsor:Additional support provided by The Corcoran Group and Sandy and Stephen Perlbinder.
URL:https://parrishart.org/event/outdoor-black-film-festival-the-last-black-man-in-san-francisco-and-elephant/
LOCATION:Parrish Art Museum\, 279 Montauk Highway\, Water Mill\, NY\, 11976\, United States
CATEGORIES:Film,Friday Nights,Upcoming
ATTACH;FMTTYPE=image/png:https://parrishart.org/wp-content/uploads/2021/07/ParrishArtMuseum_TheLastBlackManinSanFrancisco.png
END:VEVENT
END:VCALENDAR