BEGIN:VCALENDAR
VERSION:2.0
PRODID:-//Parrish Art Museum - ECPv6.10.2//NONSGML v1.0//EN
CALSCALE:GREGORIAN
METHOD:PUBLISH
X-WR-CALNAME:Parrish Art Museum
X-ORIGINAL-URL:https://parrishart.org
X-WR-CALDESC:Events for Parrish Art Museum
REFRESH-INTERVAL;VALUE=DURATION:PT1H
X-Robots-Tag:noindex
X-PUBLISHED-TTL:PT1H
BEGIN:VTIMEZONE
TZID:America/New_York
BEGIN:DAYLIGHT
TZOFFSETFROM:-0500
TZOFFSETTO:-0400
TZNAME:EDT
DTSTART:20210314T070000
END:DAYLIGHT
BEGIN:STANDARD
TZOFFSETFROM:-0400
TZOFFSETTO:-0500
TZNAME:EST
DTSTART:20211107T060000
END:STANDARD
END:VTIMEZONE
BEGIN:VEVENT
DTSTART;TZID=America/New_York:20210702T180000
DTEND;TZID=America/New_York:20210702T193000
DTSTAMP:20260422T032859
CREATED:20210601T222716Z
LAST-MODIFIED:20210916T200900Z
UID:10002125-1625248800-1625254200@parrishart.org
SUMMARY:Jazz on the Terrace: The Seth Weaver Quartet
DESCRIPTION:Join us for our first outdoor Jazz concert of the season featuring The Seth Weaver Quartet! You may also watch the livestream of the concert on the Parrish’s YouTube channel.\n \nThe spaces for in-person attendance have sold out\, please use the link below watch the livestream online.\nThe event takes place outdoors on the Museum’s Terrace and Event Lawn\, rain or shine. Please bring your own chairs\, no Museum seating is available.\nSeth Weaver has rapidly established a reputation as one of the most exciting new jazz names on the NYC jazz scene. Whether through his brilliant improvised trombone solos\, rich baritone vocals\, original compositions\, or his dedicated teaching\, his passion for music and unique talent shines through. Weaver’s latest project is a big band album titled “Truth\,” released in March 2020\, and was showcased at Birdland in an April 2020 concert. \nWeaver has performed at Dizzy’s\, Carnegie Hall\, Kennedy Center\, and Bass Performance Hall\, to name a few\, and has performed in Amsterdam and Dublin. He has shared the stage with Ben Folds\, Alfredo “Chocolate” Armenteros\, Larry Harlow\, Bucky Pizzarelli\, Michael Dease\, Ulysses Owens Jr.\, Adam Neely\, Luis Bonilla\, and Manhattan Transfer. He was featured as a guest artist with the New London Big Band\, and served as artist in residence at Millersville University. He appeared on TV for “An American Big Band Christmas\,” broadcast nationally. \nWeaver is a sought after composer and arranger and his music has been performed all over the world. His brilliant composition “Frost” debuted at Carnegie Hall in 2018\, as did his composition “The Hudson\,” in 2016. He composed the original score for the off-Broadway play\, “For What It’s Worth.” Weaver’s transcription and analysis of Michael Dease’s album “Coming Home” is available through Warwick Music Publications. \nOriginally from Tennessee\, Weaver was the winner of the Texas State Jazz Trombone Competition and was one of three finalists in the International Trombone Association’s Carl Fontana Jazz Competition two years in a row. He won the American Trombone Workshop’s National Jazz Competition in 2017. In addition to his big band album release\, Weaver has a Big Band EP and a single titled “Isle of Skye” for an Irish fusion project in the works. \nAdvance ticket purchase with pre-event registration is required.\nAll tickets are sold pre-event and online only. No sales at the door. All sales are final\, non-transferable\, and non-refundable.\nThe event takes place outdoors on the Museum’s Terrace and Event Lawn. Please bring your own chairs\, no Museum seating is available. \nYou must wear a mask to access the event. Face coverings must be worn when in aisles or moving through spaces.\nNo outside food or drink is permitted. Individually packaged food and drinks will be available for purchase through the cafe vendor\, Elegant Affairs. \nRestrooms will be open during the event. Hand sanitizer and wipes will be available. The Parrish is being regularly disinfected for the safety of our staff and visitors.\nNo pets are allowed on the Museum grounds or in the galleries.\n\n  \nFriday Nights are made possible\, in part\, by Presenting Sponsor:\nAdditional support provided by The Corcoran Group and Sandy and Stephen Perlbinder.
URL:https://parrishart.org/event/jazz-on-the-terrace-the-seth-weaver-quartet/
LOCATION:Parrish Art Museum\, 279 Montauk Highway\, Water Mill\, NY\, 11976\, United States
CATEGORIES:Friday Nights,Music,Upcoming
ATTACH;FMTTYPE=image/jpeg:https://parrishart.org/wp-content/uploads/2021/06/sethweaver-58_Sara-Bill-scaled.jpg
END:VEVENT
END:VCALENDAR