BEGIN:VCALENDAR
VERSION:2.0
PRODID:-//Parrish Art Museum - ECPv6.10.2//NONSGML v1.0//EN
CALSCALE:GREGORIAN
METHOD:PUBLISH
X-ORIGINAL-URL:https://parrishart.org
X-WR-CALDESC:Events for Parrish Art Museum
REFRESH-INTERVAL;VALUE=DURATION:PT1H
X-Robots-Tag:noindex
X-PUBLISHED-TTL:PT1H
BEGIN:VTIMEZONE
TZID:America/New_York
BEGIN:DAYLIGHT
TZOFFSETFROM:-0500
TZOFFSETTO:-0400
TZNAME:EDT
DTSTART:20210314T070000
END:DAYLIGHT
BEGIN:STANDARD
TZOFFSETFROM:-0400
TZOFFSETTO:-0500
TZNAME:EST
DTSTART:20211107T060000
END:STANDARD
END:VTIMEZONE
BEGIN:VEVENT
DTSTART;TZID=America/New_York:20210604T180000
DTEND;TZID=America/New_York:20210604T200000
DTSTAMP:20260423T143438
CREATED:20210511T155444Z
LAST-MODIFIED:20210603T153109Z
UID:10002890-1622829600-1622836800@parrishart.org
SUMMARY:Talk and Film: The Proposal
DESCRIPTION:Please Note: Due to weather\, the program has moved indoors\, with an earlier start time of 6 pm.\nJoin us in the Lichtenstein Theater for The Proposal\, co-presented with Hamptons Doc Fest\, in collaboration with Dia. The screening will be preceded by a conversation with Senior Curator Corinne Erni\, Filmmaker and Artist Jill Magid\, and Dia Art Foundation Associate Curator Matilde Guidelli-Guidi. \nREGISTER \nKnown as “the artist among architects”\, Luis Barragán is among the world’s most celebrated architects of the 20th century. Upon his death in 1988\, much of his work was locked away in a Swiss bunker\, hidden from the world’s view. In an attempt to resurrect Barragán’s life and art\, boundary redefining artist Jill Magid creates a daring proposition that becomes a fascinating artwork in itself–a high-wire act of negotiation that explores how far an artist will go to democratize access to art. \nAbout Jill Magid\nAmerican artist Jill Magid’s work is deeply ingrained in her lived experience\, exploring and blurring the boundaries between art and life. Through her performance-based practice\, Magid has initiated intimate relations with a number of organizations and structures of authority. She explores the emotional\, philosophical\, and legal tensions between the individual and ‘protective’ institutions\, such as intelligence agencies or the police. To work alongside or within large organizations\, Magid makes use of institutional quirks\, systemic loopholes that allow her to make contact with people ‘on the inside’. Her work tends to be characterized by the dynamics of seduction\, the resulting narratives often taking the form of a love story. It is typical of Magid’s practice that she follows the rules of engagement with an institution to the letter – sometimes to the point of absurdity. \n2018\, Documentary\, 83 minutes\nDirector: Jill Magid\n$15 | $5 Parrish Members\nFree for Students\nAdvance ticket purchase with pre-event registration is required.\nAll tickets are sold pre-event and online only. No sales at the door. All sales are final\, non-transferable\, and non-refundable.\nThe event takes place in the Lichtenstein Theater with limited\, socially distanced seating.\nYou must wear a mask throughout the entire program. \nRestrooms will be open during the event. Hand sanitizer and wipes will be available. The Parrish is being regularly disinfected for the safety of our staff and visitors.\n\n\n\n\n  \nFriday Nights are made possible\, in part\, by Presenting Sponsor:\nAdditional support provided by The Corcoran Group and Sandy and Stephen Perlbinder.
URL:https://parrishart.org/event/film-the-proposal/
LOCATION:Parrish Art Museum\, 279 Montauk Highway\, Water Mill\, NY\, 11976\, United States
CATEGORIES:Film,Friday Nights,Upcoming
ATTACH;FMTTYPE=image/jpeg:https://parrishart.org/wp-content/uploads/2021/05/Film-Still-from-The-Proposal.jpg
END:VEVENT
END:VCALENDAR