BEGIN:VCALENDAR
VERSION:2.0
PRODID:-//Parrish Art Museum - ECPv6.10.2//NONSGML v1.0//EN
CALSCALE:GREGORIAN
METHOD:PUBLISH
X-WR-CALNAME:Parrish Art Museum
X-ORIGINAL-URL:https://parrishart.org
X-WR-CALDESC:Events for Parrish Art Museum
REFRESH-INTERVAL;VALUE=DURATION:PT1H
X-Robots-Tag:noindex
X-PUBLISHED-TTL:PT1H
BEGIN:VTIMEZONE
TZID:America/New_York
BEGIN:DAYLIGHT
TZOFFSETFROM:-0500
TZOFFSETTO:-0400
TZNAME:EDT
DTSTART:20210314T070000
END:DAYLIGHT
BEGIN:STANDARD
TZOFFSETFROM:-0400
TZOFFSETTO:-0500
TZNAME:EST
DTSTART:20211107T060000
END:STANDARD
END:VTIMEZONE
BEGIN:VEVENT
DTSTART;TZID=America/New_York:20210702T180000
DTEND;TZID=America/New_York:20210702T193000
DTSTAMP:20260421T210515
CREATED:20210601T222716Z
LAST-MODIFIED:20210916T200900Z
UID:10002125-1625248800-1625254200@parrishart.org
SUMMARY:Jazz on the Terrace: The Seth Weaver Quartet
DESCRIPTION:Join us for our first outdoor Jazz concert of the season featuring The Seth Weaver Quartet! You may also watch the livestream of the concert on the Parrish’s YouTube channel.\n \nThe spaces for in-person attendance have sold out\, please use the link below watch the livestream online.\nThe event takes place outdoors on the Museum’s Terrace and Event Lawn\, rain or shine. Please bring your own chairs\, no Museum seating is available.\nSeth Weaver has rapidly established a reputation as one of the most exciting new jazz names on the NYC jazz scene. Whether through his brilliant improvised trombone solos\, rich baritone vocals\, original compositions\, or his dedicated teaching\, his passion for music and unique talent shines through. Weaver’s latest project is a big band album titled “Truth\,” released in March 2020\, and was showcased at Birdland in an April 2020 concert. \nWeaver has performed at Dizzy’s\, Carnegie Hall\, Kennedy Center\, and Bass Performance Hall\, to name a few\, and has performed in Amsterdam and Dublin. He has shared the stage with Ben Folds\, Alfredo “Chocolate” Armenteros\, Larry Harlow\, Bucky Pizzarelli\, Michael Dease\, Ulysses Owens Jr.\, Adam Neely\, Luis Bonilla\, and Manhattan Transfer. He was featured as a guest artist with the New London Big Band\, and served as artist in residence at Millersville University. He appeared on TV for “An American Big Band Christmas\,” broadcast nationally. \nWeaver is a sought after composer and arranger and his music has been performed all over the world. His brilliant composition “Frost” debuted at Carnegie Hall in 2018\, as did his composition “The Hudson\,” in 2016. He composed the original score for the off-Broadway play\, “For What It’s Worth.” Weaver’s transcription and analysis of Michael Dease’s album “Coming Home” is available through Warwick Music Publications. \nOriginally from Tennessee\, Weaver was the winner of the Texas State Jazz Trombone Competition and was one of three finalists in the International Trombone Association’s Carl Fontana Jazz Competition two years in a row. He won the American Trombone Workshop’s National Jazz Competition in 2017. In addition to his big band album release\, Weaver has a Big Band EP and a single titled “Isle of Skye” for an Irish fusion project in the works. \nAdvance ticket purchase with pre-event registration is required.\nAll tickets are sold pre-event and online only. No sales at the door. All sales are final\, non-transferable\, and non-refundable.\nThe event takes place outdoors on the Museum’s Terrace and Event Lawn. Please bring your own chairs\, no Museum seating is available. \nYou must wear a mask to access the event. Face coverings must be worn when in aisles or moving through spaces.\nNo outside food or drink is permitted. Individually packaged food and drinks will be available for purchase through the cafe vendor\, Elegant Affairs. \nRestrooms will be open during the event. Hand sanitizer and wipes will be available. The Parrish is being regularly disinfected for the safety of our staff and visitors.\nNo pets are allowed on the Museum grounds or in the galleries.\n\n  \nFriday Nights are made possible\, in part\, by Presenting Sponsor:\nAdditional support provided by The Corcoran Group and Sandy and Stephen Perlbinder.
URL:https://parrishart.org/event/jazz-on-the-terrace-the-seth-weaver-quartet/
LOCATION:Parrish Art Museum\, 279 Montauk Highway\, Water Mill\, NY\, 11976\, United States
CATEGORIES:Friday Nights,Music,Upcoming
ATTACH;FMTTYPE=image/jpeg:https://parrishart.org/wp-content/uploads/2021/06/sethweaver-58_Sara-Bill-scaled.jpg
END:VEVENT
BEGIN:VEVENT
DTSTART;TZID=America/New_York:20210709T180000
DTEND;TZID=America/New_York:20210709T190000
DTSTAMP:20260421T210515
CREATED:20210630T143734Z
LAST-MODIFIED:20210630T143920Z
UID:10002914-1625853600-1625857200@parrishart.org
SUMMARY:Recorded Online Talk: Tomashi Jackson\, K-Sue Park\, Kelly Dennis\, and Corinne Erni
DESCRIPTION:Enjoy a recorded conversation with Tomashi Jackson\, before the opening of her new exhibition\, The Land Claim on July 11. The talk also features K-Sue Park\, Associate Professor of Law at Georgetown University Law Center; Kelly Dennis\, a member of the Shinnecock Nation and attorney specializing in Federal American Indian law; and Corinne Erni\, Senior Curator of ArtsReach and Special Projects\, who moderates the discussion. The Land Claim focuses on the historic and contemporary lived experiences of Indigenous\, Black\, and Latinx families on the East End of Long Island. In her work for the exhibition\, Jackson juxtaposes current and historical racial segregation in the region\, similar to her work in the 2019 Whitney Biennial. \nPlease use the link below to register for the online talk. After registering\, you will receive a link to watch the program on the Parrish’s YouTube channel.\nREGISTER  \nAbout the Participants\nKelly Dennis is an attorney specializing in Federal American Indian law. She has represented her tribe\, the Shinnecock Indian Nation\, and other sovereign tribal nations on matters such as land rights\, civil rights\, cultural and natural resources protection\, as well as tribal governance and business development. She continues to represent individual tribe members on education law\, family law\, small business\, and other matters as an Of-Counsel Attorney with The Law Offices of Tela L. Troge\, PLLC located in Southampton\, New York. Dennis integrates her legal background with her passion for the arts through social justice advocacy efforts for the rights and welfare of indigenous peoples. As such\, she has served as the Public Programs & Residency Coordinator at The Watermill Center (WMC)\, an interdisciplinary laboratory for the arts and humanities located in Water Mill\, New York. \nK-Sue Park’s scholarship examines the creation of the American real estate system and the historical connections between property law\, immigration law\, and American Indian law. Prior to Georgetown\, she was the Critical Race Studies Fellow at UCLA School of Law and an Equal Justice Works Fellow and staff attorney in El Paso\, where she investigated predatory mortgage lending schemes. Park earned her B.A. summa cum laude\, Phi Beta Kappa honors from Cornell University\, where she was a College Scholar\, her M.Phil with Distinction in Social and Political Sciences from the University of Cambridge\, her J.D. cum laude from Harvard Law School\, where she was a Presidential Scholar\, and her Ph.D. in Rhetoric from UC Berkeley\, where she was a Javits Fellow. A former Fulbright Scholar\, Park’s writings have appeared in the Harvard Law Review\, Law & Society Review\, and The New York Times. \nAbout Tomashi Jackson\nDrawing centrally from Josef Albers’s research on the relativity of color and the unconscious processes by which the brain organizes and reconciles information\, Jackson’s work bridges gaps between geometric experimentation and the systematization of injustice\, incorporating images printed and hand painted from photographs and materials chosen for their relevance into formalist compositions. She uses properties of color perception as an aesthetic strategy to investigate the value of human life in public space. Jackson’s research driven projects and visual interrogation of shared language around societal and chromatic color offers a narrative framework from which she constructs her own language of abstraction. \nTomashi Jackson was born in Houston and raised in Los Angeles. She earned her MFA in Painting and Printmaking from Yale University School of Art in 2016; a Master of Science in Art\, Culture and Technology from the MIT School of Architecture and Planning in 2012\, and a BFA from Cooper Union in 2010. Her solo exhibitions include Forever My Lady at Night Gallery\, Los Angeles (2020)\, Time Out of Mind at Tilton Gallery (2019)\, Los Angeles \, Interstate Love Song at the Zuckerman Museum of Art\, Kennesaw\, Georgia (2018)\, and The Subliminal is Now at Tilton Gallery (2016). Her work was included in the 2019 Whitney Biennial and additional group exhibitions at The Los Angeles Museum of Contemporary Art (LACMA)\, Mass MoCA\, The Bakalar & Paine Galleries at the Massachusetts College of Art\, Boston\, and the Contemporary Art Center\, New Orleans\, as well as in the public collections of the Whitney Museum of American Art\, LACMA\, and the Baltimore Museum of Art. \nJackson was a 2019 Resident Artist at the Skowhegan School of Painting & Sculpture and the 2019 Resident Artist at the ARCAthens Residency Program\, Athens\, Greece. She has taught at the Rhode Island School of Design\, the Massachusetts College of Art\, Boston\, and The Cooper Union for the Advancement of Science and Art\, NY\, and she has been a visiting artist lecturer at Boston University\, New York University\, Yale University\, and School of Visual Arts\, NY. She lives and works in Cambridge and New York City. Her work is represented by Tilton Gallery in New York City and Night Gallery in Los Angeles\, CA. \nFriday Nights at the Parrish are made possible\, in part\, by Presenting Sponsor:Additional support provided by The Corcoran Group and Sandy and Stephen Perlbinder.
URL:https://parrishart.org/event/recorded-online-talk-tomashi-jackson-k-sue-park-kelly-dennis-and-corinne-erni/
LOCATION:Parrish Art Museum\, 279 Montauk Highway\, Water Mill\, NY\, 11976\, United States
CATEGORIES:Friday Nights,Talks,Upcoming
ATTACH;FMTTYPE=image/jpeg:https://parrishart.org/wp-content/uploads/2020/06/Tomashi-Park-Kelly_hires.jpg
END:VEVENT
BEGIN:VEVENT
DTSTART;TZID=America/New_York:20210716T180000
DTEND;TZID=America/New_York:20210716T193000
DTSTAMP:20260421T210515
CREATED:20210604T202500Z
LAST-MODIFIED:20211026T155558Z
UID:10002129-1626458400-1626463800@parrishart.org
SUMMARY:Jazz on the Terrace: Morris Goldberg & SafroJazz with Diego Urcola & Bakithi Kumalo
DESCRIPTION:We are pleased to partner with The Jam Session\, Inc. as a venue for the first annual Hamptons Jazz Fest 2021 in presenting Morris Goldberg & SafroJazz with Diego Urcola & Bakithi Kumalo! The concert is being offered free of charge thanks to the generosity of The Jam Session\, in collaboration with a major donor and life-long jazz enthusiast who celebrate this true American art form and the return of live music. You may also watch the livestream of the concert on our YouTube channel. \n \nMorris Goldberg was born in Cape Town\, South Africa. He came to New York to study at the Manhattan School of Music\, where he received both his bachelor’s and master’s degrees. \nGoldberg has worked and toured with Miriam Makeba\, Hugh Masekela\, and Harry Belafonte\, among many others. He recorded for Paul Simon on the Graceland album\, playing soprano sax and the pennywhistle solo on “You Can Call Me Al”. He also served as the woodwind specialist on The Rosie O’Donnell Show for the six years. Every morning\, the show would open with a shot of his Yamaha alto saxophone’s bell. In addition\, he played for many artists including Tony Bennett and Phil Collins. \nGoldberg formed his own group called Ojoyo\, which specializes in South African flavored jazz – Safrojazz. The group has recorded three albums of original music\, and played at many Jazz festivals and clubs throughout the United States with Hugh Masekela. \nHe teaches at the Ross School in East Hampton and performs throughout New York City and Long Island. \nAdvance ticket purchase with pre-event registration is required.\nAll tickets are sold pre-event and online only. No sales at the door. All sales are final\, non-transferable\, and non-refundable.\nThe event takes place outdoors on the Museum’s Terrace and Event Lawn. Please bring your own chairs\, no Museum seating is available. \nYou must wear a mask to access the event. Face coverings must be worn when in aisles or moving through spaces.\nNo outside food or drink is permitted. Individually packaged food and drinks will be available for purchase through the cafe vendor\, Elegant Affairs. \nRestrooms will be open during the event. Hand sanitizer and wipes will be available. The Parrish is being regularly disinfected for the safety of our staff and visitors.\nNo pets are allowed on the Museum grounds or in the galleries.\n\n  \nFriday Nights are made possible\, in part\, by Presenting Sponsor:\n \nAdditional support provided by The Corcoran Group and Sandy and Stephen Perlbinder.
URL:https://parrishart.org/event/jazz-on-the-terrace-morris-goldberg-safrojazz/
LOCATION:Parrish Art Museum\, 279 Montauk Highway\, Water Mill\, NY\, 11976\, United States
CATEGORIES:Friday Nights,Music,Upcoming
ATTACH;FMTTYPE=image/png:https://parrishart.org/wp-content/uploads/2021/06/MorrisGoldberg_FridayNights_Programming_ParrishArtMuseum_07132021.png
END:VEVENT
BEGIN:VEVENT
DTSTART;TZID=America/New_York:20210717T113000
DTEND;TZID=America/New_York:20210717T130000
DTSTAMP:20260421T210515
CREATED:20210608T004957Z
LAST-MODIFIED:20210610T202528Z
UID:10002899-1626521400-1626526800@parrishart.org
SUMMARY:Contemporaries Circle Tour of Affinities for Abstraction
DESCRIPTION:REGISTER \nJoin Museum Chief Curator Alicia Longwell for an intimate look at the Museum’s newest special exhibition\, Affinities for Abstraction: Women Artists on Eastern Long Island\, 1950-2020 (on view through July 18\, 2021). Afterwards\, unwind in great company on the Museum’s Terrace. \nThis event is for Parrish Contemporaries Circle Members and emerging collectors and art-lovers interested in learning more about PCC Membership.  There is limited space and advanced reservations are required. \nFor more information\, to join or upgrade your Membership\, please contact us at membership@parrishart.org or 631-283-2118. \n\nThis event was organized by the Parrish Contemporaries Circle Committee.  Current Members: \n\nChair Christine Berry\, Berry Campbell\nKurt Carstensen\, AMG Parade\nKelcey Edwards\, Iron Gate East\nElena Frampton\, Frampton Co.\nChelsea Hrynick Browne\, Artist\nJohn S. Kiely\, Blank Rome LLP\nHeidi Lee Komaromi\, HLK Art Group\nJoseph Lesko\, Global Capital Strategies\nSusan Vecsey\, Artist\nKara Winters\, Eric Firestone Gallery
URL:https://parrishart.org/event/pcc-affinities-exhibition-tour/
LOCATION:Parrish Art Museum\, 279 Montauk Highway\, Water Mill\, NY\, 11976\, United States
CATEGORIES:Exhibitions,Member Events,Talks,Upcoming
ATTACH;FMTTYPE=image/jpeg:https://parrishart.org/wp-content/uploads/2021/02/Parrish_May2021_037-scaled.jpeg
END:VEVENT
BEGIN:VEVENT
DTSTART;TZID=America/New_York:20210723T200000
DTEND;TZID=America/New_York:20210723T223000
DTSTAMP:20260421T210515
CREATED:20210702T212931Z
LAST-MODIFIED:20220825T120732Z
UID:10002916-1627070400-1627079400@parrishart.org
SUMMARY:Outdoor Black Film Festival: The Last Black Man in San Francisco and elephant
DESCRIPTION:The Parrish Art Museum is partnering with Bridgehampton Child Care & Recreational Center to present an outdoor Black Film Festival on July 23 and July 30 featuring feature films and shorts. Entrance opens at 8 pm. Film will begin after dark\, at approximately 8:30 pm. The event takes place outdoors\, please bring your own chairs\, no Museum seating is available. Please use the link below to register. \n$15 | $5 Parrish Members | Friends of BHCCRC\nFree for Students and Children \nREGISTER \nelephant\n2020\, NR\, 15 minutes\nDirector: Gladys San Juan \nelephant is a short film about Nicole\, a woman in her late 30s who appears to have it all; a caring husband\, two children and a good job. But Nicole is suffering from a crippling depression that\, due to the stigma attached to mental illness\, she is trying to keep secret. Set over 24 hours\, The Elephant shows how a series of otherwise minor events\, coupled with Nicole’s dissociation from family and friends\, lead her to a state of utter desperation. \nThe Last Black Man in San Francisco\n2019\, R\, 121 minutes\nDirector: Joe Talbot \nJimmie Fails dreams of reclaiming the Victorian home his grandfather built in the heart of San Francisco. Joined on his quest by his best friend Mont\, Jimmie searches for belonging in a rapidly changing city that seems to have left them behind. As he struggles to reconnect with his family and reconstruct the community he longs for\, his hopes blind him to the reality of his situation. \nA wistful odyssey populated by skaters\, squatters\, street preachers\, playwrights\, and other locals on the margins\, The Last Black Man in San Francisco is a poignant and sweeping story of hometowns and how they’re made—and kept alive—by the people who love them. \nAll sales are final\, non-transferable\, and non-refundable. \nThe event takes place outdoors\, please bring your own chairs\, no Museum seating is available.  \nYou must wear a mask to access the event. Face coverings must be worn when in aisles or moving through spaces. \nNo outside food or drink is permitted. Individually packaged food and drinks will be available for purchase through the cafe vendor\, Elegant Affairs. \nRestrooms will be open during the event. Hand sanitizer and wipes will be available. The Parrish is being regularly disinfected for the safety of our staff and visitors. \nNo pets are allowed on the Museum grounds or in the galleries. \n  \nFriday Nights at the Parrish are made possible\, in part\, by Presenting Sponsor:Additional support provided by The Corcoran Group and Sandy and Stephen Perlbinder.
URL:https://parrishart.org/event/outdoor-black-film-festival-the-last-black-man-in-san-francisco-and-elephant/
LOCATION:Parrish Art Museum\, 279 Montauk Highway\, Water Mill\, NY\, 11976\, United States
CATEGORIES:Film,Friday Nights,Upcoming
ATTACH;FMTTYPE=image/png:https://parrishart.org/wp-content/uploads/2021/07/ParrishArtMuseum_TheLastBlackManinSanFrancisco.png
END:VEVENT
END:VCALENDAR