BEGIN:VCALENDAR
VERSION:2.0
PRODID:-//Parrish Art Museum - ECPv6.10.2//NONSGML v1.0//EN
CALSCALE:GREGORIAN
METHOD:PUBLISH
X-ORIGINAL-URL:https://parrishart.org
X-WR-CALDESC:Events for Parrish Art Museum
REFRESH-INTERVAL;VALUE=DURATION:PT1H
X-Robots-Tag:noindex
X-PUBLISHED-TTL:PT1H
BEGIN:VTIMEZONE
TZID:America/New_York
BEGIN:DAYLIGHT
TZOFFSETFROM:-0500
TZOFFSETTO:-0400
TZNAME:EDT
DTSTART:20210314T070000
END:DAYLIGHT
BEGIN:STANDARD
TZOFFSETFROM:-0400
TZOFFSETTO:-0500
TZNAME:EST
DTSTART:20211107T060000
END:STANDARD
END:VTIMEZONE
BEGIN:VEVENT
DTSTART;TZID=America/New_York:20211015T190000
DTEND;TZID=America/New_York:20211015T203000
DTSTAMP:20260420T003519
CREATED:20210920T144008Z
LAST-MODIFIED:20211026T172319Z
UID:10002971-1634324400-1634329800@parrishart.org
SUMMARY:Talk | Justin Beal & Katie Yamasaki
DESCRIPTION:  \nJustin Beal will discuss his new book\, Sandfuture\, an account of the life and work of the architect Minoru Yamasaki with Yamasaki’s granddaughter\, the muralist and children’s book author\, Katie Yamasaki. \nSandfuture is also a book about an artist interrogating art and architecture’s role in culture as New York changes drastically after a decade bracketed by terrorism and natural disaster. From the central thread of Yamasaki’s life\, Sandfuture spirals outward to include reflections on a wide range of subjects\, from the figure of the architect in literature and film and transformations in the contemporary art market to the perils of sick buildings and the broader social and political implications of how\, and for whom\, cities are built. \nABOUT JUSTIN BEAL \nJustin Beal is an artist with an extensive exhibition history in the United States and Europe. Beal graduated from Yale University with a degree in architecture and design and continued his studies at the Whitney Independent Study Program and the University of Southern California. His work has been reviewed in the New York Times\, the New Yorker\, Artforum\, Frieze\, Art in America\, Interview\, and the Los Angeles Times and is included in the permanent collections of the Albright Knox Museum\, the Hammer Museum\, and the Museum of Contemporary Art Los Angeles. Beal currently teaches at Hunter College. \nABOUT KATIE YAMASAKI \nKatie Yamasaki is a muralist and children’s book artist. She has painted over 80 murals with diverse communities around the world that explore local issues of social justice. Her children’s books focus on stories from underrepresented communities. Yamasaki co-authored Everything Naomi Loved\, with Ian Lendler for Norton Young Readers\, about facing the hard changes of gentrification. When the Cousins Came and Fish for Jimmy recount personal family stories about the internment camps of WWII and growing up in a multi-racial family. Yamasaki earned her MFA from the School of Visual Arts in NYC\, where she served on the faculty for several years. She worked for 14 years as a public school Spanish and Art teacher in both the Detroit and NYC public schools. \nAdvance ticket purchase with pre-event registration is required. All tickets are sold pre-event and online only. No sales at the door. All sales are final\, non-transferable\, and non-refundable.\nThis indoor event requires all attendees to show proof of their vaccination status or recent negative COVID-19 test within 72 hours. Medical-grade face masks must be worn at all times and will be provided to anyone who needs one. To expedite your check-in process\, you may email proof of vaccine to healthfirst@parrishart.org  with the event title in your subject line.\nFriday Nights are made possible\, in part\, by Presenting Sponsor:\n \nAdditional support provided by The Corcoran Group and Sandy and Stephen Perlbinder.
URL:https://parrishart.org/event/talk-justin-beal-katie-yamasaki/
LOCATION:NY
CATEGORIES:Book Signings,Friday Nights,Talks
ATTACH;FMTTYPE=image/png:https://parrishart.org/wp-content/uploads/2021/09/MinoruYamasaki_PrincetonUniversity_BalthazarKorab_ParrishArtMuseum.png
END:VEVENT
END:VCALENDAR