BEGIN:VCALENDAR
VERSION:2.0
PRODID:-//Parrish Art Museum - ECPv6.10.2//NONSGML v1.0//EN
CALSCALE:GREGORIAN
METHOD:PUBLISH
X-WR-CALNAME:Parrish Art Museum
X-ORIGINAL-URL:https://parrishart.org
X-WR-CALDESC:Events for Parrish Art Museum
REFRESH-INTERVAL;VALUE=DURATION:PT1H
X-Robots-Tag:noindex
X-PUBLISHED-TTL:PT1H
BEGIN:VTIMEZONE
TZID:America/New_York
BEGIN:DAYLIGHT
TZOFFSETFROM:-0500
TZOFFSETTO:-0400
TZNAME:EDT
DTSTART:20210314T070000
END:DAYLIGHT
BEGIN:STANDARD
TZOFFSETFROM:-0400
TZOFFSETTO:-0500
TZNAME:EST
DTSTART:20211107T060000
END:STANDARD
END:VTIMEZONE
BEGIN:VEVENT
DTSTART;TZID=America/New_York:20210718T110000
DTEND;TZID=America/New_York:20210718T120000
DTSTAMP:20260420T190826
CREATED:20210712T155746Z
LAST-MODIFIED:20220307T212557Z
UID:10002917-1626606000-1626609600@parrishart.org
SUMMARY:Conversation: Gwen Smith & Beth Coleman with Corinne Erni
DESCRIPTION:Join artist Gwen Smith and research scientist and artist Beth Coleman in a conversation about Smith’s The Black Woman Project and their upcoming collaboration on the creation of The Black Woman Project Foundation\, followed by a book signing. The talk will be introduced by Parrish Director Kelly Taxter and moderated by Senior Curator Corinne Erni. Attend the program in the Lichtenstein Theater or watch the livestream on our YouTube channel. Masks are required throughout the program. \nGwen Smith’s The Black Woman Project (Vol. 1 & 2) is a collection of her painted portraits of renowned Black women. Smith uses selfies to reference each time she entered her studio over a period of two and a half years\, creating a rhythm by merging her identity as a Black woman with her subjects. Some of the women Smith chooses to paint are artists\, scientists\, educators\, politicians\, writers\, poets\, and performers\, and provide the impetus for Smith’s ongoing self-exploration. \nBeth Coleman is a research scientist and artist. She is Associate Professor of Data & Cities at the Institute of Communication\, Culture\, Information and Technology and Faculty of Information\, University of Toronto\, where she directs the City as Platform lab. She is the co-founder of SoundLab Cultural Alchemy\, multimedia art and sound platform. A 2021 Google Artists and Machines Intelligence awardee\, Coleman is currently working on “Speculative AI: Octavia Butler and Other Possible Worlds.” \n  \nREGISTER FOR IN-PERSON \nREGISTER FOR LIVESTREAM \n  \nA book signing will take place after the talk. The Black Woman Project (Vol. 1 & 2)\, Soft Network handkerchiefs\, and new zines will be available for sale in-person at the Museum shop.
URL:https://parrishart.org/event/gwen-smith-in-conversation-and-beth-coleman-with-corinne-erni/
LOCATION:Parrish Art Museum\, 279 Montauk Highway\, Water Mill\, NY\, 11976\, United States
CATEGORIES:Book Signings,Talks
ATTACH;FMTTYPE=image/png:https://parrishart.org/wp-content/uploads/2021/07/TheBlackWomanProject_GwenSmith_Programming_ParrishArtMuseum_.png
END:VEVENT
END:VCALENDAR