BEGIN:VCALENDAR
VERSION:2.0
PRODID:-//Parrish Art Museum - ECPv6.10.2//NONSGML v1.0//EN
CALSCALE:GREGORIAN
METHOD:PUBLISH
X-ORIGINAL-URL:https://parrishart.org
X-WR-CALDESC:Events for Parrish Art Museum
REFRESH-INTERVAL;VALUE=DURATION:PT1H
X-Robots-Tag:noindex
X-PUBLISHED-TTL:PT1H
BEGIN:VTIMEZONE
TZID:America/New_York
BEGIN:DAYLIGHT
TZOFFSETFROM:-0500
TZOFFSETTO:-0400
TZNAME:EDT
DTSTART:20210314T070000
END:DAYLIGHT
BEGIN:STANDARD
TZOFFSETFROM:-0400
TZOFFSETTO:-0500
TZNAME:EST
DTSTART:20211107T060000
END:STANDARD
END:VTIMEZONE
BEGIN:VEVENT
DTSTART;TZID=America/New_York:20210625T180000
DTEND;TZID=America/New_York:20210625T190000
DTSTAMP:20260421T004904
CREATED:20210618T183235Z
LAST-MODIFIED:20210627T161845Z
UID:10002907-1624644000-1624647600@parrishart.org
SUMMARY:Livestream Talk: Alicia Longwell with Claire A. Nivola\, Adrian Nivola\, and Teresa Kittler
DESCRIPTION:Join Chief Curator Alicia G. Longwell in a livestream conversation with children’s book author Claire A. Nivola; Brooklyn-based artist Adrian Nivola; and Dr. Teresa Kittler\, Scholar-in-Residence at Magazzino as they explore the work of Ruth Nivola.\n\nRuth Guggenheim Nivola (American\, born Germany\, 1917–2008) grew up in Europe before settling in the U.S. in 1939 at the outbreak of World War II. She and her husband\, the Sardinian-born sculptor Costantino Nivola\, came to New York and eventually bought a small farmhouse in Springs\, East Hampton\, near friends and neighbors Saul Steinberg\, Frederick Kiesler\, and Harold Rosenberg. \nSome of Ruth Nivola’s extraordinary artwork\, whose richness of material\, craft\, and beauty defies such traditional categories as sculpture or ornament\, talisman or adornment\, is currently on view at the Parrish in the exhibition\,  Affinities for Abstraction: Women Artists on Eastern Long Island\, 1950-2020 and will be the subject of an in-depth conversation among those who know her work best: her daughter\, well−known children’s book author Claire A. Nivola; Brooklyn-based artist Adrian Nivola\, who often spent time with his grandmother when she was creating her pieces; and Dr. Teresa Kittler\, Scholar-in-Residence at Magazzino\, an artspace devoted to Italian art in Cold Spring\, New York\, where she has curated the current exhibition Nivola: Sandscapes.  \n  \n  \n\nFriday Nights at the Parrish are made possible\, in part\, by Presenting Sponsor:Additional support provided by The Corcoran Group and Sandy and Stephen Perlbinder.
URL:https://parrishart.org/event/livestream-talk-alicia-longwell-with-claire-nivola-adrian-nivola-and-teresa-kittler/
LOCATION:Parrish Art Museum\, 279 Montauk Highway\, Water Mill\, NY\, 11976\, United States
CATEGORIES:Friday Nights,Talks,Upcoming
ATTACH;FMTTYPE=image/jpeg:https://parrishart.org/wp-content/uploads/2021/06/RuthGuggenheim-Nivola_ParrishArtMuseum.jpg
END:VEVENT
END:VCALENDAR