BEGIN:VCALENDAR
VERSION:2.0
PRODID:-//Parrish Art Museum - ECPv6.10.2//NONSGML v1.0//EN
CALSCALE:GREGORIAN
METHOD:PUBLISH
X-WR-CALNAME:Parrish Art Museum
X-ORIGINAL-URL:https://parrishart.org
X-WR-CALDESC:Events for Parrish Art Museum
REFRESH-INTERVAL;VALUE=DURATION:PT1H
X-Robots-Tag:noindex
X-PUBLISHED-TTL:PT1H
BEGIN:VTIMEZONE
TZID:America/New_York
BEGIN:DAYLIGHT
TZOFFSETFROM:-0500
TZOFFSETTO:-0400
TZNAME:EDT
DTSTART:20210314T070000
END:DAYLIGHT
BEGIN:STANDARD
TZOFFSETFROM:-0400
TZOFFSETTO:-0500
TZNAME:EST
DTSTART:20211107T060000
END:STANDARD
END:VTIMEZONE
BEGIN:VEVENT
DTSTART;TZID=America/New_York:20210611T180000
DTEND;TZID=America/New_York:20210611T190000
DTSTAMP:20260421T224048
CREATED:20210607T230528Z
LAST-MODIFIED:20210630T165212Z
UID:10002898-1623434400-1623438000@parrishart.org
SUMMARY:Talk: Alicia Longwell and Michelle Stuart
DESCRIPTION:Join us for an intimate conversation between longtime friends\, Chief Curator Alicia G. Longwell and Michelle Stuart\, in a broad ranging exchange about the artist’s approach to nature and abstraction and how that process has evolved throughout her career. Stuart is a participating artist in Affinities for Abstraction: Women Artists on Eastern Long Island\, 1950-2020\, an exhibition with works by a multigenerational roster of 42 artists who expanded the language of abstraction–and called the Hamptons home. \nPlease see the links below to attend the program in the Lichtenstein Theater or to watch the livestream on the Parrish’s YouTube channel. Socially distanced seating in the theater is limited and masks are required throughout the program.\nAbout Michelle Stuart\nSince the 1960s\, Michelle Stuart (b.1933) has created work that stems from her lifelong interest in the natural world and the universe. Her multifaceted body of work includes large-scale earth works\, complex multi-media installations\, earth drawings\, encaustic paintings\, sculptural objects\, drawings and prints. The photographic image has been an ancillary part of her work in the past; it is currently the primary medium. Stuart has also written and published artist’s books. Her work references a range of influences\, from history\, astronomy\, botany and her extensive travels to ancient archaeological sites. \n\nAdvance ticket purchase with pre-event registration is required.\nAll tickets are sold pre-event and online only. No sales at the door. All sales are final\, non-transferable\, and non-refundable.\nThe event takes place in the Lichtenstein Theater with limited\, socially distanced seating.\nYou must wear a mask throughout the entire program. \nRestrooms will be open during the event. Hand sanitizer and wipes will be available. The Parrish is being regularly disinfected for the safety of our staff and visitors.\n\nFriday Nights at the Parrish are made possible\, in part\, by Presenting Sponsor:Additional support provided by The Corcoran Group and Sandy and Stephen Perlbinder.
URL:https://parrishart.org/event/alicia-longwell-and-michelle-stuart/
LOCATION:Parrish Art Museum\, 279 Montauk Highway\, Water Mill\, NY\, 11976\, United States
CATEGORIES:Friday Nights,Talks,Upcoming
ATTACH;FMTTYPE=image/jpeg:https://parrishart.org/wp-content/uploads/2021/06/1-Stuart_final.jpg
END:VEVENT
END:VCALENDAR