BEGIN:VCALENDAR
VERSION:2.0
PRODID:-//Parrish Art Museum - ECPv6.10.2//NONSGML v1.0//EN
CALSCALE:GREGORIAN
METHOD:PUBLISH
X-WR-CALNAME:Parrish Art Museum
X-ORIGINAL-URL:https://parrishart.org
X-WR-CALDESC:Events for Parrish Art Museum
REFRESH-INTERVAL;VALUE=DURATION:PT1H
X-Robots-Tag:noindex
X-PUBLISHED-TTL:PT1H
BEGIN:VTIMEZONE
TZID:America/New_York
BEGIN:DAYLIGHT
TZOFFSETFROM:-0500
TZOFFSETTO:-0400
TZNAME:EDT
DTSTART:20210314T070000
END:DAYLIGHT
BEGIN:STANDARD
TZOFFSETFROM:-0400
TZOFFSETTO:-0500
TZNAME:EST
DTSTART:20211107T060000
END:STANDARD
END:VTIMEZONE
BEGIN:VEVENT
DTSTART;TZID=America/New_York:20211023T150000
DTEND;TZID=America/New_York:20211023T160000
DTSTAMP:20260420T181209
CREATED:20211005T020426Z
LAST-MODIFIED:20211026T172428Z
UID:10002988-1635001200-1635004800@parrishart.org
SUMMARY:Talk |  Roy Lichtenstein and Pop Art: Before & After the Dots
DESCRIPTION:One of the progenitors of Pop Art\, Roy Lichtenstein’s work of the 1950s reveals much about the preoccupations of a younger generation of artists in the post-war U.S. as they attempted to work their way through and out of the shadows of Abstract Expressionism. Lichtenstein’s wide-ranging explorations of subject matter and form would lead to his groundbreaking Pop paintings\, first shown in New York in 1962\, ushering in a new attitude towards art from which there was no turning back. \nOn this closing weekend of Roy Lichtenstein: History in the Making\, 1948-1960\, join Dorothy Lichtenstein\, former director of the pioneering Paul Bianchini Gallery\, New York\, who worked closely with many of the Pop artists\, and Donna De Salvo\, Senior Adjunct Curator\, Dia Art Foundation\, and Curator of Hand-Painted Pop: American Art in Transition\, 1955-1962\, for a lively conversation about this legendary artist and pivotal period in art in the United States. \nABOUT DONNA DE SALVO \nDonna De Salvo is a curator\, writer\, and consultant who has worked with numerous national and international artists and museum collections.  She is currently Senior Adjunct Curator\, Special Projects\, Dia Art Foundation. She held several positions at the Whitney Museum of American Art\, becoming its first Chief Curator and Deputy Director for Programs where she oversaw the museum’s curatorial department and program of exhibitions and acquisitions and was centrally involved in the development and design of the Whitney’s new building and exhibition galleries. \nABOUT DOROTHY LICHTENSTEIN \nDorothy Lichtenstein is President of the Roy Lichtenstein Foundation\, which is dedicated to the encouragement of a broad understanding of the art of Roy Lichtenstein and the artists of his time. After studying art history at Arcadia University (formerly Beaver College)\, she became director of the pioneering Bianchini Art Gallery in New York\, organizing exhibitions and projects dealing with emerging Pop art. She is equally committed to scientific research as she also serves on the Leadership Council of the New York Stem Cell Foundation and is a recipient of the Chevalier of Arts and Letters from the French Government. \nAdvanced registration is recommended. Limited tickets will be available at the door. This program is offered at no cost in conjunction with the third Welcome Day on October 23\nThis indoor event requires all attendees to show proof of their vaccination status or recent negative COVID-19 test within 72 hours. Medical-grade face masks must be worn at all times and will be provided to anyone who needs one. To expedite your check-in process\, you may email proof of vaccine to healthfirst@parrishart.org  with the event title in your subject line.
URL:https://parrishart.org/event/talk-donna-de-salvo-dorothy-lichtenstein-on-roy-lichtenstein/
LOCATION:Parrish Art Museum\, 279 Montauk Highway\, Water Mill\, NY\, 11976\, United States
CATEGORIES:Talks
ATTACH;FMTTYPE=image/png:https://parrishart.org/wp-content/uploads/2021/10/RoyLichtenstein_DonnaDeSalvo_ParrishArtMuseum.png
END:VEVENT
END:VCALENDAR