BEGIN:VCALENDAR
VERSION:2.0
PRODID:-//Parrish Art Museum - ECPv6.10.2//NONSGML v1.0//EN
CALSCALE:GREGORIAN
METHOD:PUBLISH
X-ORIGINAL-URL:https://parrishart.org
X-WR-CALDESC:Events for Parrish Art Museum
REFRESH-INTERVAL;VALUE=DURATION:PT1H
X-Robots-Tag:noindex
X-PUBLISHED-TTL:PT1H
BEGIN:VTIMEZONE
TZID:America/New_York
BEGIN:DAYLIGHT
TZOFFSETFROM:-0500
TZOFFSETTO:-0400
TZNAME:EDT
DTSTART:20210314T070000
END:DAYLIGHT
BEGIN:STANDARD
TZOFFSETFROM:-0400
TZOFFSETTO:-0500
TZNAME:EST
DTSTART:20211107T060000
END:STANDARD
END:VTIMEZONE
BEGIN:VEVENT
DTSTART;TZID=America/New_York:20210618T180000
DTEND;TZID=America/New_York:20210618T193000
DTSTAMP:20260421T185813
CREATED:20210511T175044Z
LAST-MODIFIED:20210622T195055Z
UID:10002891-1624039200-1624044600@parrishart.org
SUMMARY:PechaKucha Night Hamptons\, Vol. 33
DESCRIPTION:As the official site for the Hamptons\, we join over 700 cities globally in hosting PechaKucha Nights\, named for the sound of “chit-chat” in Japanese. The format is simple: each invited presenter gets 20 images x 20 seconds per image to talk about living creatively. This is a great opportunity to establish new relationships\, learn about local resources\, and hear from the many creatives who call Long Island home. \nPresenters: Artist Michael De Feo; Photographer Jaime Lopez; Artist Steven Molina Contreras; Artist/Art Educator Joyce Raimondo; Photographer Matthew Raynor; Artist and Gallery Owner Mark Van Wagner; Artist Susan Vecsey\nLearn more about PechaKucha Night Hamptons.\nAdvance ticket purchase with pre-event registration is required.\nAll tickets are sold pre-event and online only. No sales at the door. All sales are final\, non-transferable\, and non-refundable.\nThe event takes place in the Lichtenstein Theater.\nYou must wear a mask throughout the entire program. \nRestrooms will be open during the event. Hand sanitizer and wipes will be available. The Parrish is being regularly disinfected for the safety of our staff and visitors.\n\nFriday Nights are made possible\, in part\, by Presenting Sponsor:\nAdditional support provided by The Corcoran Group and Sandy and Stephen Perlbinder.
URL:https://parrishart.org/event/pechakucha-night-hamptons-vol-33/
LOCATION:Parrish Art Museum\, 279 Montauk Highway\, Water Mill\, NY\, 11976\, United States
CATEGORIES:Friday Nights,Talks,Upcoming
ATTACH;FMTTYPE=image/jpeg:https://parrishart.org/wp-content/uploads/2021/02/PechaKucha-Hamptons-208FC7-1.jpg
END:VEVENT
END:VCALENDAR