BEGIN:VCALENDAR
VERSION:2.0
PRODID:-//Parrish Art Museum - ECPv6.10.2//NONSGML v1.0//EN
CALSCALE:GREGORIAN
METHOD:PUBLISH
X-WR-CALNAME:Parrish Art Museum
X-ORIGINAL-URL:https://parrishart.org
X-WR-CALDESC:Events for Parrish Art Museum
REFRESH-INTERVAL;VALUE=DURATION:PT1H
X-Robots-Tag:noindex
X-PUBLISHED-TTL:PT1H
BEGIN:VTIMEZONE
TZID:America/New_York
BEGIN:DAYLIGHT
TZOFFSETFROM:-0500
TZOFFSETTO:-0400
TZNAME:EDT
DTSTART:20210314T070000
END:DAYLIGHT
BEGIN:STANDARD
TZOFFSETFROM:-0400
TZOFFSETTO:-0500
TZNAME:EST
DTSTART:20211107T060000
END:STANDARD
END:VTIMEZONE
BEGIN:VEVENT
DTSTART;TZID=America/New_York:20210420T170000
DTEND;TZID=America/New_York:20210420T180000
DTSTAMP:20260425T174657
CREATED:20210406T194601Z
LAST-MODIFIED:20210426T171540Z
UID:10002815-1618938000-1618941600@parrishart.org
SUMMARY:Live-Stream Talk: Proenza Schouler
DESCRIPTION:Jack McCollough and Lazaro Hernandez\, co-founders and designers of Proenza Schouler\, and Parrish Art Museum Director Kelly Taxter discuss the intersection of fashion\, art\, architecture\, and nature. Proenza Schouler’s presentation of its Fall Winter 2021 collection at New York Fashion Week was filmed in and on the grounds of the Museum in Water Mill\, New York\, and included Ella Emhoff in her modeling debut.
URL:https://parrishart.org/event/proenzaschouler/
LOCATION:Parrish Art Museum\, 279 Montauk Highway\, Water Mill\, NY\, 11976\, United States
CATEGORIES:Talks,Upcoming
ATTACH;FMTTYPE=image/jpeg:https://parrishart.org/wp-content/uploads/2021/04/Proenza-Schouler_Lazaro-Hernandez-Jack-McCollough_Daniel-Weiss-copy-scaled.jpg
END:VEVENT
END:VCALENDAR