BEGIN:VCALENDAR
VERSION:2.0
PRODID:-//Parrish Art Museum - ECPv6.10.2//NONSGML v1.0//EN
CALSCALE:GREGORIAN
METHOD:PUBLISH
X-WR-CALNAME:Parrish Art Museum
X-ORIGINAL-URL:https://parrishart.org
X-WR-CALDESC:Events for Parrish Art Museum
REFRESH-INTERVAL;VALUE=DURATION:PT1H
X-Robots-Tag:noindex
X-PUBLISHED-TTL:PT1H
BEGIN:VTIMEZONE
TZID:America/New_York
BEGIN:DAYLIGHT
TZOFFSETFROM:-0500
TZOFFSETTO:-0400
TZNAME:EDT
DTSTART:20210314T070000
END:DAYLIGHT
BEGIN:STANDARD
TZOFFSETFROM:-0400
TZOFFSETTO:-0500
TZNAME:EST
DTSTART:20211107T060000
END:STANDARD
END:VTIMEZONE
BEGIN:VEVENT
DTSTART;TZID=America/New_York:20211007T120000
DTEND;TZID=America/New_York:20211007T130000
DTSTAMP:20260419T175857
CREATED:20210816T235432Z
LAST-MODIFIED:20211015T201610Z
UID:10002927-1633608000-1633611600@parrishart.org
SUMMARY:Talk | Roy Lichtenstein: Look\, Mickey
DESCRIPTION:Conversation 3/3 of Brown Bag Lunch talk series by Alicia Longwell on Roy Lichtenstein\n\nIn a series of three informal lunchtime talks\, Lewis B. and Dorothy Cullman Chief Curator Alicia Longwell will explore the world of Roy Lichtenstein. \nOur story ends at the close of the 1950s\, just on the cusp of full-blown Pop Art\, when Lichtenstein is exhibiting in New York and immersing himself in the heady art world of Alan Kaprow’s “Happenings\,” Claes Oldenburg’s soft sculpture\, and Jim Dine’s oversized hearts. \nThe talk takes place in the Lichtenstein Theater with tables and chairs.  The Parrish Café will be open and we invite you to purchase lunch before the start of the program and then bring your meal into the Lichtenstein Theater. \nKeeping in accordance with the CDC\, state\, local guidelines\, and rapidly evolving health risks in our community related to the COVID-19 pandemic\, the Parrish is requiring all museum visitors and event attendees to wear medical-grade face masks indoors and out.\nAdvance registration is required. This indoor event requires all attendees to show proof of vaccination (vaccine card/Excelsior Pass) or a negative PCR test within 72 hours. To help us expedite the check-in process\, we encourage all guests to send their proof in advance by emailing it to healthfirst@parrishart.org. Please put the event title in your subject line.\n  \n 
URL:https://parrishart.org/event/talk-roy-lichtenstein-look-mickey/
LOCATION:Parrish Art Museum\, 279 Montauk Highway\, Water Mill\, NY\, 11976\, United States
CATEGORIES:Talks
ATTACH;FMTTYPE=image/png:https://parrishart.org/wp-content/uploads/2021/08/RoyLichtenstein_VariationsNo7_ParrishArtMuseum_EventSlider_web.png
END:VEVENT
BEGIN:VEVENT
DTSTART;TZID=America/New_York:20211008T180000
DTEND;TZID=America/New_York:20211008T190000
DTSTAMP:20260419T175857
CREATED:20210820T201812Z
LAST-MODIFIED:20211026T172210Z
UID:10002936-1633716000-1633719600@parrishart.org
SUMMARY:Talk | 2021 Road Show Artist: Darlene Charneco with Corinne Erni
DESCRIPTION:  \nJoin artist Darlene Charneco in conversation with Corinne Erni\, Senior Curator of ArtsReach and Special Project\, as they discuss Charneco’s 2021 Parrish Road Show exhibition Symbiosome Schoolhouse. The site-specific exhibition is on view through October 24 at Oysterponds Historical Society in Orient\, in both the Old Point Schoolhouse and on the Historical Society grounds. Charneco presents new works on paper\, sculpture\, and video\, as well as the artist’s signature wall reliefs which she calls Touchmaps\, created largely while in residency at the William Steeple Davis Trust in Orient. \nABOUT DARLENE CHARNECO \nDarlene Charneco (b. 1971\, New York City) attended Stony Brook University for MFA Studies and Long Island University Southampton for her BFA. Exhibiting throughout the U.S. and globally\, she participated in PINTA Fair London and the Korean International Art Fair. Charneco’s work is part of Guild Hall Museum’s permanent collection\, and was featured in the Princeton Architectural Press book The Map as Art: Contemporary Artists Explore Cartography by Katherine Harmon\, and How Architecture Learned to Speculate by Mihall & Serbest through the University of Stuttgart. Charneco was awarded the 2017 Pollock-Krasner Foundation Grant. \nABOUT PARRISH ROAD SHOW \nNow in its tenth year\, Parrish Road Show is the Museum’s off-site project designed to encourage engagement and interaction between artists and the communities outside the Museum’s walls. Each year\, selected artists work with the Parrish and partner venues to create new work and to provide unique opportunities for visitors to see and experience art in unexpected places\, from public parks and highways to historical sites and community centers. \nThis indoor event requires all attendees to show proof of their vaccination status or recent negative COVID test (within 72 hours). Medical grade face masks must be worn all times. Masks will be provided to anyone who needs one. \nTo help us expedite the check-in process\, we encourage all guests to send their proof in advance by emailing it to healthfirst@parrishart.org. Please put the event title in your subject line.
URL:https://parrishart.org/event/road-show-artist-talk-darlene-charneco-with-corinne-erni/
LOCATION:Parrish Art Museum\, 279 Montauk Highway\, Water Mill\, NY\, 11976\, United States
CATEGORIES:Friday Nights,Talks
ATTACH;FMTTYPE=image/png:https://parrishart.org/wp-content/uploads/2021/08/DarleneCharneco_ParrishArtMuseum.png
END:VEVENT
BEGIN:VEVENT
DTSTART;TZID=America/New_York:20211015T190000
DTEND;TZID=America/New_York:20211015T203000
DTSTAMP:20260419T175857
CREATED:20210920T144008Z
LAST-MODIFIED:20211026T172319Z
UID:10002971-1634324400-1634329800@parrishart.org
SUMMARY:Talk | Justin Beal & Katie Yamasaki
DESCRIPTION:  \nJustin Beal will discuss his new book\, Sandfuture\, an account of the life and work of the architect Minoru Yamasaki with Yamasaki’s granddaughter\, the muralist and children’s book author\, Katie Yamasaki. \nSandfuture is also a book about an artist interrogating art and architecture’s role in culture as New York changes drastically after a decade bracketed by terrorism and natural disaster. From the central thread of Yamasaki’s life\, Sandfuture spirals outward to include reflections on a wide range of subjects\, from the figure of the architect in literature and film and transformations in the contemporary art market to the perils of sick buildings and the broader social and political implications of how\, and for whom\, cities are built. \nABOUT JUSTIN BEAL \nJustin Beal is an artist with an extensive exhibition history in the United States and Europe. Beal graduated from Yale University with a degree in architecture and design and continued his studies at the Whitney Independent Study Program and the University of Southern California. His work has been reviewed in the New York Times\, the New Yorker\, Artforum\, Frieze\, Art in America\, Interview\, and the Los Angeles Times and is included in the permanent collections of the Albright Knox Museum\, the Hammer Museum\, and the Museum of Contemporary Art Los Angeles. Beal currently teaches at Hunter College. \nABOUT KATIE YAMASAKI \nKatie Yamasaki is a muralist and children’s book artist. She has painted over 80 murals with diverse communities around the world that explore local issues of social justice. Her children’s books focus on stories from underrepresented communities. Yamasaki co-authored Everything Naomi Loved\, with Ian Lendler for Norton Young Readers\, about facing the hard changes of gentrification. When the Cousins Came and Fish for Jimmy recount personal family stories about the internment camps of WWII and growing up in a multi-racial family. Yamasaki earned her MFA from the School of Visual Arts in NYC\, where she served on the faculty for several years. She worked for 14 years as a public school Spanish and Art teacher in both the Detroit and NYC public schools. \nAdvance ticket purchase with pre-event registration is required. All tickets are sold pre-event and online only. No sales at the door. All sales are final\, non-transferable\, and non-refundable.\nThis indoor event requires all attendees to show proof of their vaccination status or recent negative COVID-19 test within 72 hours. Medical-grade face masks must be worn at all times and will be provided to anyone who needs one. To expedite your check-in process\, you may email proof of vaccine to healthfirst@parrishart.org  with the event title in your subject line.\nFriday Nights are made possible\, in part\, by Presenting Sponsor:\n \nAdditional support provided by The Corcoran Group and Sandy and Stephen Perlbinder.
URL:https://parrishart.org/event/talk-justin-beal-katie-yamasaki/
LOCATION:NY
CATEGORIES:Book Signings,Friday Nights,Talks
ATTACH;FMTTYPE=image/png:https://parrishart.org/wp-content/uploads/2021/09/MinoruYamasaki_PrincetonUniversity_BalthazarKorab_ParrishArtMuseum.png
END:VEVENT
BEGIN:VEVENT
DTSTART;TZID=America/New_York:20211021T163000
DTEND;TZID=America/New_York:20211021T180000
DTSTAMP:20260419T175857
CREATED:20210924T211750Z
LAST-MODIFIED:20211018T142440Z
UID:10002972-1634833800-1634839200@parrishart.org
SUMMARY:The Art of Influencing
DESCRIPTION:REGISTER\n  \nDefining and executing a social media strategy may seem overwhelming with the rapid changes in the industry and the many hats you already wear—but it doesn’t have to be. Come hear local business owners share their unique stories and strategies for gaining visibility and connecting with their audience. How did they get started? How did they decide which platform would be most effective for promoting and marketing their business? What were the challenges? And how did they leverage graphic and editorial elements to boost and support brand recognition? Hearing their stories will give you fresh ideas\, and maybe the boost of confidence you need to get started. \nWe will kick off our evening with an introduction by Parrish Art Museum Digital Manager\, Alexandra Paul Zotov\, who will share her insights gained from working with leading institutions and organizations in New York and beyond. \nGuest presenters include Amber Otto\, owner of Eastport General Store\, Julie Alvarado and Joe Sarasky of Badilla Painters\, and Vanessa Gordon\, CEO and Publisher\, East End Taste Magazine. \nABOUT AMBER OTTO | Eastport General Store \nAfter growing up in Montauk and following careers in retail\, interior design\, and construction\, Amber Otto opened the Eastport General Store in 2020 to provide a unique community-oriented shopping experience and bring new vibrancy to the small hamlet’s business district. A modern take on traditional general stores of the past\, Eastport General Store focuses on local\, handmade\, and artisan products sourced from other small mom-and-pop companies.” \nABOUT JULIE ALVARADO | Badilla Painters \nAs Associate Manager for Badilla Painters\, Julie Alvarado’s hands-on approach to the details for all of the Badilla Painters projects has made her an important part of the strategy team for social media marketing and branding. Alvarado holds a Bachelor’s degree in finance and a Master’s degree in Business Administration from State University of New York at Stony Brook. Her expertise in business finance and years of detailed real estate project responsibilities have helped make Badilla Painters the premier painting and refinishing company throughout the Hamptons and Manhattan. \nABOUT VANESSA GORDON | East End Taste Magazine \nVanessa Gordon is the CEO and Publisher of East End Taste Magazine\, a digital publication based in the Hamptons and part-time in the UK. Gordon is also the Founder and Host of the Hamptons Interactive Brunch\, an annual summer event series in New York. She lives in the Hamptons with her husband and two children. You can find Gordon @EastEndTaste on most major social media platforms. Her soon-to-launch personal Instagram account is @vanessapgordon \nABOUT ALEXANDRA PAUL ZOTOV | Parrish Art Museum \nCommitted to the accessibility and advancement of socially engaged work\, Zotov concepts\, crafts\, and positions communications for physical and digital engagements. Before her present position at the Parrish\, she worked with artists such as Marina Abramovic\, Young Thug\, Rashid Johnson\, and Jenny Holzer to translate and share their creative perspectives at the Venice Biennale\, Art Basel\, Art Basel Miami Beach\, the Guggenheim\, among others. Her words and work have previously appeared in publications such as Vogue\, SUITED\, Harper’s Bazaar\, NOWNESS\, Flaunt\, and Office Magazine. \nThis event will be followed by The Art of Influencing: Practice and Reflections on November 18 at 4:30 PM\, which will circle back to the themes and strategies introduced in Part One. The event will provide a comfortable and informal forum for sharing your successes and challenges. To get the best experience we encourage you to attend both events. Stacey Cohen\, President and CEO\, Co-Communications\, will help us kick off the event. \nThere is limited capacity for this event. Event is intended for active Business Members and their guests\, and all local business owners. \nYou must RSVP to attend. Please feel free to arrive early and visit the Museum galleries. \nThis indoor event requires all attendees to be fully vaccinated or show proof of recent negative PCR test. medical grade face masks must be worn at all times. Masks will be provided to anyone who needs one. To expedite your check-in process we recommend sending your proof in advance by emailing it to healthfirst@parrishart.org. Please put the event title (The Art of Influencing) in your subject line.
URL:https://parrishart.org/event/the-art-of-influencing/
LOCATION:Parrish Art Museum\, 279 Montauk Highway\, Water Mill\, NY\, 11976\, United States
CATEGORIES:Member Events,Talks,Upcoming
ATTACH;FMTTYPE=image/png:https://parrishart.org/wp-content/uploads/2021/09/EventSlider_web_Template.png
END:VEVENT
BEGIN:VEVENT
DTSTART;TZID=America/New_York:20211023T150000
DTEND;TZID=America/New_York:20211023T160000
DTSTAMP:20260419T175857
CREATED:20211005T020426Z
LAST-MODIFIED:20211026T172428Z
UID:10002988-1635001200-1635004800@parrishart.org
SUMMARY:Talk |  Roy Lichtenstein and Pop Art: Before & After the Dots
DESCRIPTION:One of the progenitors of Pop Art\, Roy Lichtenstein’s work of the 1950s reveals much about the preoccupations of a younger generation of artists in the post-war U.S. as they attempted to work their way through and out of the shadows of Abstract Expressionism. Lichtenstein’s wide-ranging explorations of subject matter and form would lead to his groundbreaking Pop paintings\, first shown in New York in 1962\, ushering in a new attitude towards art from which there was no turning back. \nOn this closing weekend of Roy Lichtenstein: History in the Making\, 1948-1960\, join Dorothy Lichtenstein\, former director of the pioneering Paul Bianchini Gallery\, New York\, who worked closely with many of the Pop artists\, and Donna De Salvo\, Senior Adjunct Curator\, Dia Art Foundation\, and Curator of Hand-Painted Pop: American Art in Transition\, 1955-1962\, for a lively conversation about this legendary artist and pivotal period in art in the United States. \nABOUT DONNA DE SALVO \nDonna De Salvo is a curator\, writer\, and consultant who has worked with numerous national and international artists and museum collections.  She is currently Senior Adjunct Curator\, Special Projects\, Dia Art Foundation. She held several positions at the Whitney Museum of American Art\, becoming its first Chief Curator and Deputy Director for Programs where she oversaw the museum’s curatorial department and program of exhibitions and acquisitions and was centrally involved in the development and design of the Whitney’s new building and exhibition galleries. \nABOUT DOROTHY LICHTENSTEIN \nDorothy Lichtenstein is President of the Roy Lichtenstein Foundation\, which is dedicated to the encouragement of a broad understanding of the art of Roy Lichtenstein and the artists of his time. After studying art history at Arcadia University (formerly Beaver College)\, she became director of the pioneering Bianchini Art Gallery in New York\, organizing exhibitions and projects dealing with emerging Pop art. She is equally committed to scientific research as she also serves on the Leadership Council of the New York Stem Cell Foundation and is a recipient of the Chevalier of Arts and Letters from the French Government. \nAdvanced registration is recommended. Limited tickets will be available at the door. This program is offered at no cost in conjunction with the third Welcome Day on October 23\nThis indoor event requires all attendees to show proof of their vaccination status or recent negative COVID-19 test within 72 hours. Medical-grade face masks must be worn at all times and will be provided to anyone who needs one. To expedite your check-in process\, you may email proof of vaccine to healthfirst@parrishart.org  with the event title in your subject line.
URL:https://parrishart.org/event/talk-donna-de-salvo-dorothy-lichtenstein-on-roy-lichtenstein/
LOCATION:Parrish Art Museum\, 279 Montauk Highway\, Water Mill\, NY\, 11976\, United States
CATEGORIES:Talks
ATTACH;FMTTYPE=image/png:https://parrishart.org/wp-content/uploads/2021/10/RoyLichtenstein_DonnaDeSalvo_ParrishArtMuseum.png
END:VEVENT
BEGIN:VEVENT
DTSTART;TZID=America/New_York:20211029T180000
DTEND;TZID=America/New_York:20211029T200000
DTSTAMP:20260419T175857
CREATED:20211018T182805Z
LAST-MODIFIED:20220307T211917Z
UID:10002998-1635530400-1635537600@parrishart.org
SUMMARY:Panel & Round Table | Reflections from The Land Claim Collaborators
DESCRIPTION:TICKETS   LIVESTREAM\n \nFOLLOWED BY A LIGHT RECEPTION\nSpend an evening with some of the artists\, historians\, keepers of heritage\, and advocates who generously contributed the stories and images of their families and communities to Tomashi Jackson’s The Land Claim exhibition and helped unearth many untold stories of communities of color on the East End. Join us in the Theater for an illustrated panel as they bring to life the people in the images that informed Jackson’s paintings—documenting family and community life\, moments of struggle and celebration\, work and everyday life\, public spaces\, and historical sites.\nTomashi Jackson: The Land Claim is a multipart exhibition centered on the historic and contemporary lived experiences of Indigenous\, Black\, and Latinx families on the East End of Long Island\, on view at the Museum through November 7. \n  \nBonnie Cannon | Executive Director of the Bridgehampton Child Care & Recreational Center (BHCCRC) \nJeremy Dennis | Fine art photographer and Shinnecock Indian Nation member \nKelly Dennis | Attorney specializing in Federal Indian law and Secretary of the Shinnecock Council of Trustees \nDr. Georgette Grier-Key | Executive Director and Chief Curator of the Eastville Community Historical Society \nMinerva Perez| Executive Director of OLA (Organización Latino-Americana) of Eastern Long Island \nTela Loretta Troge | Attorney and counselor at law \nRichard “Juni” Wingfield | A long-time community liaison for the Southampton School District \nWe thank Donnamarie Barnes\, Curator\, and Archivist for Sylvester Manor Educational Farm in Shelter Island\, who cannot be with us that evening. \nThis indoor event requires all attendees to show proof of their vaccination status or recent negative COVID-19 test within 72 hours. Medical-grade face masks must be worn at all times and will be provided to anyone who needs one. To expedite your check-in process\, you may email proof of vaccine to healthfirst@parrishart.org  with the event title in your subject line.\n 
URL:https://parrishart.org/event/panel-round-table-reflections-from-the-land-claim-collaborators/
LOCATION:Parrish Art Museum\, 279 Montauk Highway\, Water Mill\, NY\, 11976\, United States
CATEGORIES:Exhibitions,Talks
ATTACH;FMTTYPE=image/png:https://parrishart.org/wp-content/uploads/2021/10/TomashiJackson_Among-Heirs_ParrishArtMuseum.png
END:VEVENT
END:VCALENDAR