BEGIN:VCALENDAR
VERSION:2.0
PRODID:-//Parrish Art Museum - ECPv6.10.2//NONSGML v1.0//EN
CALSCALE:GREGORIAN
METHOD:PUBLISH
X-ORIGINAL-URL:https://parrishart.org
X-WR-CALDESC:Events for Parrish Art Museum
REFRESH-INTERVAL;VALUE=DURATION:PT1H
X-Robots-Tag:noindex
X-PUBLISHED-TTL:PT1H
BEGIN:VTIMEZONE
TZID:America/New_York
BEGIN:DAYLIGHT
TZOFFSETFROM:-0500
TZOFFSETTO:-0400
TZNAME:EDT
DTSTART:20210314T070000
END:DAYLIGHT
BEGIN:STANDARD
TZOFFSETFROM:-0400
TZOFFSETTO:-0500
TZNAME:EST
DTSTART:20211107T060000
END:STANDARD
END:VTIMEZONE
BEGIN:VEVENT
DTSTART;TZID=America/New_York:20210910T180000
DTEND;TZID=America/New_York:20210910T200000
DTSTAMP:20260419T175510
CREATED:20210811T180021Z
LAST-MODIFIED:20211026T171852Z
UID:10002925-1631296800-1631304000@parrishart.org
SUMMARY:Talk & Book Signing | Justin Beal: Sandfuture
DESCRIPTION:Join artist Justin Beal\, introduced by Parrish Director Kelly Taxter\, about Sandfuture (MIT Press September 2021)\, his forthcoming book about the life of World Trade Center architect Minoru Yamasaki (1912–1986)\, who remains on the margins of history despite the enormous influence of his work on American architecture and society. \nPresented on the eve of the 20th anniversary of 9/11\, Sandfuture is also a book about an artist interrogating art and architecture’s role in culture as New York changes drastically after a decade bracketed by terrorism and natural disaster. From the central thread of Yamasaki’s life\, Sandfuture spirals outward to include reflections on a wide range of subjects\, from the figure of the architect in literature and film and transformations in the contemporary art market to the perils of sick buildings and the broader social and political implications of how\, and for whom\, cities are built. \n  \nABOUT JUSTIN BEAL \nJustin Beal is an artist with an extensive exhibition history in the United States and Europe. Beal graduated from Yale University with a degree in architecture and design and continued his studies at the Whitney Independent Study Program and the University of Southern California. His work has been reviewed in the New York Times\, the New Yorker\, Artforum\, Frieze\, Art in America\, Interview and the Los Angeles Times and is included in the permanent collections of the Albright Knox Museum\, the Hammer Museum\, and the Museum of Contemporary Art Los Angeles. Beal currently teaches at Hunter College. \nABOUT MINORU YAMASAKI \nThe son of Japanese immigrants in Seattle\, Minoru Yamasaki overcame endemic racism in both his country and his profession to rise to prominence with a humanistic approach to modern architecture—an unorthodox style exemplified by projects including the McGregor Memorial Conference Center\, the Century Plaza Hotel in Los Angeles\, and the Dhahran Airfield in Saudi Arabia. In 1963\, Yamasaki appeared on the cover of Time magazine\, but the critical rebuke of the World Trade Center and the spectacular demise of the Pruitt-Igoe apartments in St. Louis pushed him to the margins of the profession in the latter half of his career. Today\, Yamasaki remains largely unknown despite his enormous influence on the history of American architecture and the astonishing coincidence that his two best-known projects were both destroyed on live television. \nAdvance ticket purchase with pre-event registration is required.\nAll tickets are sold pre-event and online only. No sales at the door. All sales are final\, non-transferable\, and non-refundable.\nThis indoor event requires all attendees to show proof of vaccination (vaccine card/Excelsior Pass) or a negative PCR test within 72 hours. To help us expedite the check-in process\, we encourage all guests to send their proof in advance by emailing it to healthfirst@parrishart.org. Please put the event title in your subject line.\nRestrooms will be open during the event. Hand sanitizer and wipes will be available\, with surfaces disinfected regularly for the safety of our staff and visitors.\nNo pets are allowed on the Museum grounds or in the galleries.\n  \nFriday Nights at the Parrish are made possible\, in part\, by Presenting Sponsor:\n\nAdditional support provided by The Corcoran Group and Sandy and Stephen Perlbinder.
URL:https://parrishart.org/event/talk-book-signing-justin-beal-on-sandfuture/
LOCATION:Parrish Art Museum\, 279 Montauk Highway\, Water Mill\, NY\, 11976\, United States
CATEGORIES:Book Signings,Friday Nights,Talks
ATTACH;FMTTYPE=image/png:https://parrishart.org/wp-content/uploads/2021/08/MinoruYamasaki_JustinBeal_Sandfutures_PArrishArtMuseum.png
END:VEVENT
BEGIN:VEVENT
DTSTART;TZID=America/New_York:20210918T100000
DTEND;TZID=America/New_York:20210918T113000
DTSTAMP:20260419T175510
CREATED:20210607T183944Z
LAST-MODIFIED:20210917T141645Z
UID:10002137-1631959200-1631964600@parrishart.org
SUMMARY:Tour | Behind the Vault
DESCRIPTION:REGISTER \nMembers at the Patron level and above are invited to an exclusive look behind the Museum’s closed doors\, exploring the art vault and other restricted areas. Alicia Longwell\, Lewis B. and Dorothy Cullman Chief Curator\, Art and Education will lead the tour\, followed by individually packaged light refreshments in The Fairholme Foundation Board Room. \nSpace is limited for this Giving Circle Members-only event; reservations required. \nThis indoor event requires all attendees to show proof of their vaccination status or recent negative COVID test (within 72 hours). Medical grade face masks must be worn all times. Masks will be provided to anyone who needs one. \nNot a Member at the Patron level or above? Join today! \nFor more information\, to join or upgrade your membership\, please contact e-mail membership@parrishart.org or call 631-283-2118.
URL:https://parrishart.org/event/giving-circle-members-behind-the-scenes-tour/
LOCATION:Parrish Art Museum\, 279 Montauk Highway\, Water Mill\, NY\, 11976\, United States
CATEGORIES:Member Events,Talks
ATTACH;FMTTYPE=image/jpeg:https://parrishart.org/wp-content/uploads/2016/11/de-Kooning-Untitled-XXXVIII.jpg
END:VEVENT
BEGIN:VEVENT
DTSTART;TZID=America/New_York:20210923T120000
DTEND;TZID=America/New_York:20210923T130000
DTSTAMP:20260419T175510
CREATED:20210817T140625Z
LAST-MODIFIED:20211015T201433Z
UID:10002929-1632398400-1632402000@parrishart.org
SUMMARY:Talk | Roy Lichtenstein: Self-Portrait at An Easel
DESCRIPTION:Conversation 1/3 of Brown Bag Lunch talk series by Alicia Longwell on Roy Lichtenstein. \n\nIn a series of three informal lunchtime talks\, Lewis B. and Dorothy Cullman Chief Curator Alicia Longwell will explore the world of Roy Lichtenstein. \nLichtenstein looks back in this painting that evokes early Renaissance style and folk-art flourishes\, topped off by a bowler hat\, announcing the arrival of a young artist who will take the long view to the past. \nThis indoor event requires all attendees to show proof of vaccination (vaccine card/Excelsior Pass) or a negative PCR test within 72 hours. To help us expedite the check-in process\, we encourage all guests to send their proof in advance by emailing it to healthfirst@parrishart.org. Please put the event title in your subject line.\n  \n  \n 
URL:https://parrishart.org/event/talk-roy-lichtenstein-self-portrait-at-easel/
LOCATION:Parrish Art Museum\, 279 Montauk Highway\, Water Mill\, NY\, 11976\, United States
CATEGORIES:Talks
ATTACH;FMTTYPE=image/png:https://parrishart.org/wp-content/uploads/2021/08/RoyLichtenstein_SelfPortrait_ParrishArtMuseum_EventSlider_web.png
END:VEVENT
BEGIN:VEVENT
DTSTART;TZID=America/New_York:20210930T120000
DTEND;TZID=America/New_York:20210930T130000
DTSTAMP:20260419T175510
CREATED:20210817T000904Z
LAST-MODIFIED:20211015T201524Z
UID:10002928-1633003200-1633006800@parrishart.org
SUMMARY:Talk | Roy Lichtenstein: Mythic America
DESCRIPTION:Conversation 2/3 of Brown Bag Lunch talk series by Alicia Longwell on Roy Lichtenstein. \n\nIn a series of three informal lunchtime talks\, Lewis B. and Dorothy Cullman Chief Curator Alicia Longwell will explore the world of Roy Lichtenstein. \nStoried heroes like cowboys\, gunslingers\, and even General George Washington crossing the Delaware River are fair game in Lichtenstein’s scrutiny of legendary characters and the histrionics of the American narrative past. \nThe talk takes place in the Lichtenstein Theater with tables and chairs.  The Parrish Café will be open and we invite you to purchase lunch before the start of the program and then bring your meal into the Lichtenstein Theater. \nKeeping in accordance with the CDC\, state\, local guidelines\, and rapidly evolving health risks in our community related to the COVID-19 pandemic\, the Parrish is requiring all museum visitors and event attendees to wear medical-grade face masks indoors and out.\nAdvanced registration is required. This indoor event requires all attendees to show proof of vaccination (vaccine card/Excelsior Pass) or a negative PCR test within 72 hours. To help us expedite the check-in process\, we encourage all guests to send their proof in advance by emailing it to healthfirst@parrishart.org. Please put the event title (Mythic America) in your subject line.\n 
URL:https://parrishart.org/event/talk-roy-lichtenstein-mythic-america/
LOCATION:Parrish Art Museum\, 279 Montauk Highway\, Water Mill\, NY\, 11976\, United States
CATEGORIES:Talks
ATTACH;FMTTYPE=image/png:https://parrishart.org/wp-content/uploads/2021/08/RoyLichtenstein_WashingtonCrossingTheDelaware_ParrishArtMuseum_EventSlider_web.png
END:VEVENT
END:VCALENDAR