BEGIN:VCALENDAR
VERSION:2.0
PRODID:-//Parrish Art Museum - ECPv6.10.2//NONSGML v1.0//EN
CALSCALE:GREGORIAN
METHOD:PUBLISH
X-ORIGINAL-URL:https://parrishart.org
X-WR-CALDESC:Events for Parrish Art Museum
REFRESH-INTERVAL;VALUE=DURATION:PT1H
X-Robots-Tag:noindex
X-PUBLISHED-TTL:PT1H
BEGIN:VTIMEZONE
TZID:America/New_York
BEGIN:DAYLIGHT
TZOFFSETFROM:-0500
TZOFFSETTO:-0400
TZNAME:EDT
DTSTART:20240310T070000
END:DAYLIGHT
BEGIN:STANDARD
TZOFFSETFROM:-0400
TZOFFSETTO:-0500
TZNAME:EST
DTSTART:20241103T060000
END:STANDARD
END:VTIMEZONE
BEGIN:VEVENT
DTSTART;TZID=America/New_York:20241018T144500
DTEND;TZID=America/New_York:20241018T163000
DTSTAMP:20260425T184355
CREATED:20240814T223229Z
LAST-MODIFIED:20240814T223229Z
UID:10003937-1729262700-1729269000@parrishart.org
SUMMARY:Arts & Eats: Tie Dye Mixer
DESCRIPTION:REGISTER \nHigh school students in Grades 9-12 are invited to spend a Friday afternoon at the Museum connecting with art and friends. Create a new tie-dye shirt or bring your own cotton-based clothes to upcycle while enjoying free pizza and soda! \nFree event\, registration required.
URL:https://parrishart.org/event/arts-eats-tie-dye-mixer/
LOCATION:Parrish Art Museum\, 279 Montauk Highway\, Water Mill\, NY\, 11976\, United States
CATEGORIES:Students
ATTACH;FMTTYPE=image/jpeg:https://parrishart.org/wp-content/uploads/2024/08/Tie-dye-scaled-1.jpg
END:VEVENT
END:VCALENDAR