BEGIN:VCALENDAR
VERSION:2.0
PRODID:-//Parrish Art Museum - ECPv6.10.2//NONSGML v1.0//EN
CALSCALE:GREGORIAN
METHOD:PUBLISH
X-WR-CALNAME:Parrish Art Museum
X-ORIGINAL-URL:https://parrishart.org
X-WR-CALDESC:Events for Parrish Art Museum
REFRESH-INTERVAL;VALUE=DURATION:PT1H
X-Robots-Tag:noindex
X-PUBLISHED-TTL:PT1H
BEGIN:VTIMEZONE
TZID:America/New_York
BEGIN:DAYLIGHT
TZOFFSETFROM:-0500
TZOFFSETTO:-0400
TZNAME:EDT
DTSTART:20240310T070000
END:DAYLIGHT
BEGIN:STANDARD
TZOFFSETFROM:-0400
TZOFFSETTO:-0500
TZNAME:EST
DTSTART:20241103T060000
END:STANDARD
END:VTIMEZONE
BEGIN:VEVENT
DTSTART;TZID=America/New_York:20241115T144500
DTEND;TZID=America/New_York:20241115T163000
DTSTAMP:20260424T070147
CREATED:20240814T223921Z
LAST-MODIFIED:20240814T224626Z
UID:10003938-1731681900-1731688200@parrishart.org
SUMMARY:Arts & Eats: Personal Symbolism
DESCRIPTION:REGISTER \nHigh school students in Grades 9-12 are invited to spend a Friday afternoon at the Museum connecting with art and friends. Tour the exhibition Audrey Flack: Mid-Century to Post-Pop Baroque and create accessories inspired by your own personal symbols while enjoying free pizza and soda. \nFree event. Registration required.
URL:https://parrishart.org/event/arts-eats-personal-symbolism/
LOCATION:Parrish Art Museum\, 279 Montauk Highway\, Water Mill\, NY\, 11976\, United States
CATEGORIES:Students
ATTACH;FMTTYPE=image/jpeg:https://parrishart.org/wp-content/uploads/2024/07/A-Brush-with-Destiny-hi-res.jpg
END:VEVENT
END:VCALENDAR