BEGIN:VCALENDAR
VERSION:2.0
PRODID:-//Parrish Art Museum - ECPv6.10.2//NONSGML v1.0//EN
CALSCALE:GREGORIAN
METHOD:PUBLISH
X-WR-CALNAME:Parrish Art Museum
X-ORIGINAL-URL:https://parrishart.org
X-WR-CALDESC:Events for Parrish Art Museum
REFRESH-INTERVAL;VALUE=DURATION:PT1H
X-Robots-Tag:noindex
X-PUBLISHED-TTL:PT1H
BEGIN:VTIMEZONE
TZID:America/New_York
BEGIN:DAYLIGHT
TZOFFSETFROM:-0500
TZOFFSETTO:-0400
TZNAME:EDT
DTSTART:20260308T070000
END:DAYLIGHT
BEGIN:STANDARD
TZOFFSETFROM:-0400
TZOFFSETTO:-0500
TZNAME:EST
DTSTART:20261101T060000
END:STANDARD
END:VTIMEZONE
BEGIN:VEVENT
DTSTART;TZID=America/New_York:20260222T140000
DTEND;TZID=America/New_York:20260222T150000
DTSTAMP:20260423T194847
CREATED:20260121T193046Z
LAST-MODIFIED:20260221T142045Z
UID:10005626-1771768800-1771772400@parrishart.org
SUMMARY:Artist-Led Closing Tour | Nina Yankowitz: In the Out/Out the In (Canceled)
DESCRIPTION:*Due to inclement weather\, this event has been canceled. All ticketholders will be notified and refunds will be available. \n  \nFree for Members | Free for Resident Benefits PassHolders | $25 Guests of Member | $30 Adults | Free for Students & Children \nJoin us for a special tour led by the artist before the closing of the exhibition Nina Yankowitz: In the Out/Out the In. \nAdvance registration is recommended. Limited spaces will be available at the door. \n  \nAbout the Exhibition\nThe Parrish Art Museum presents Nina Yankowitz: In the Out/Out the In\, the first retrospective of Nina Yankowitz (American\, b. 1946)\, whose six-decade career has continually expanded the boundaries of painting\, sculpture\, sound\, video\, and installation. Yankowitz came to prominence in the 1960s in New York\, where she experimented with the material and technical possibilities of canvas\, cardboard\, paint sprayers\, and sewing equipment to create abstract paintings. A founding member of the Heresies Collective (1976–1993)\, Yankowitz’s early approach to painting was informed by the feminist movement\, Process art\, and the legacy of Abstract Expressionism. She also participated in the countercultural scenes of Greenwich Village and upstate New York\, and her collaborations with the experimental Group 212 Inter-Media Project encouraged her interest in performance and new media. In the following decades\, her practice branched out into sculpture\, sound and video art\, and interactive installations that harness the technology behind social media platforms and video games. \nNina Yankowitz: In the Out/Out the In is organized by the Museum of Fine Arts\, St. Petersburg\, FL\, and is curated by Katherine Pill\, Senior Curator of Contemporary Art. The presentation at the Parrish is organized by Corinne Erni\, The Lewis B. and Dorothy Cullman Chief Curator of Art and Education\, with Scout Hutchinson\, The FLAG Art Foundation Associate Curator of Contemporary Art at the Parrish Art Museum. \n\nExhibition Support\nThe presentation of Nina Yankowitz: In the Out/Out the In at the Parrish Art Museum is made possible thanks to the generous support of Eric Firestone Gallery; Helen Frankenthaler Foundation; Sherri and Darren Cohen; County of Suffolk; Stephanie Neville and Alan Beller; Sandy and Stephen Perlbinder; Wolf Kahn Foundation; Jane Wesman and Donald Savelson; The Evelyn Toll Family Foundation; and René and Marie-France Kern. \n \nThe Parrish Art Museum’s programs are made possible\, in part\, by the New York State Council on the Arts with the support of Governor Kathy Hochul and the New York State Legislature\, and by the property taxpayers from the Southampton School District and the Tuckahoe Common School District.
URL:https://parrishart.org/event/artist-led-closing-tour-nina-yankowitz-in-the-out-out-the-in/
LOCATION:Parrish Art Museum\, 279 Montauk Highway\, Water Mill\, NY\, 11976\, United States
CATEGORIES:Exhibitions,Public Tours
ATTACH;FMTTYPE=image/jpeg:https://parrishart.org/wp-content/uploads/2025/10/DSC07733-scaled.jpg
END:VEVENT
END:VCALENDAR