BEGIN:VCALENDAR
VERSION:2.0
PRODID:-//Parrish Art Museum - ECPv6.10.2//NONSGML v1.0//EN
CALSCALE:GREGORIAN
METHOD:PUBLISH
X-ORIGINAL-URL:https://parrishart.org
X-WR-CALDESC:Events for Parrish Art Museum
REFRESH-INTERVAL;VALUE=DURATION:PT1H
X-Robots-Tag:noindex
X-PUBLISHED-TTL:PT1H
BEGIN:VTIMEZONE
TZID:America/New_York
BEGIN:DAYLIGHT
TZOFFSETFROM:-0500
TZOFFSETTO:-0400
TZNAME:EDT
DTSTART:20210314T070000
END:DAYLIGHT
BEGIN:STANDARD
TZOFFSETFROM:-0400
TZOFFSETTO:-0500
TZNAME:EST
DTSTART:20211107T060000
END:STANDARD
END:VTIMEZONE
BEGIN:VEVENT
DTSTART;TZID=America/New_York:20211001T100000
DTEND;TZID=America/New_York:20211001T113000
DTSTAMP:20260423T135506
CREATED:20210902T194908Z
LAST-MODIFIED:20210917T160742Z
UID:10002956-1633082400-1633087800@parrishart.org
SUMMARY:Pop-Up | Art & Meditation
DESCRIPTION:REGISTER \nTake some of the stress and hurry out of your life this Fall. Join Founder of Vie Wellbeing and Meditation Guide for Aduri\, Julie Sacks\, and Jesal Trivedi\, Founder of Aduri\, for a fully immersive Art & Meditation experience. Sacks will lead a sensory meditation class for Giving and Contemporary Circle Members\, incorporating current exhibits into the Meditation for a deeper experience of both. This event is private and begins before the Museum opens. \nTo create a more immersive meditation experience\, the class will leverage haptic technology from the Aduri cushion. Through this technology\, participants are better able to connect with their breath and engage in a unique synchronized group breathwork experience. Attendees will be first to experience the launch of Art & Meditation classes at the Museum\, which will run every Friday morning through October. Come meet Julie\, experience our current exhibitions through a new lens\, and enjoy complimentary refreshments on the Terrace. \nSpace is limited for this event; reservations are required. \n  \n\nABOUT JULIE SACKS\n\n \n  \nJulie Sacks is a Bespoke Meditation Guide who connects authentically with those seeking to achieve personal growth through empowering meditation experiences. She is the founder of Vie Wellbeing\, a modern meditation platform that offers bespoke 1:1 sessions\, wellbeing journeys\, and a subscription platform to help you live your best life. \n  \n  \n  \nONGOING PROGRAMMING \nThroughout the month of October\, Julie will lead outdoor\, weekly meditation sessions. Each class will continue to be uniquely inspired by different works of art throughout the museum. This event is open to all members and their guests. \n\n  \nNot a Contemporary Circle Member or Member at the Patron level or above? Join today! \nFor more information\, to join or upgrade your membership\, please contact e-mail membership@parrishart.org or call 631-283-2118 \n  \n\nThis event requires all attendees to show proof of vaccination (vaccine card/Excelsior Pass) or a negative PCR test within 72 hours. To help us expedite the check-in process\, we encourage all guests to send their proof in advance by emailing it to healthfirst@parrishart.org with the event title (Art & Meditation Pop-Up) in your subject line. \n\n\n 
URL:https://parrishart.org/event/art-meditation-pop-up/
LOCATION:Parrish Art Museum\, 279 Montauk Highway\, Water Mill\, NY\, 11976\, United States
CATEGORIES:Classes and Workshops,Member Events
ATTACH;FMTTYPE=image/png:https://parrishart.org/wp-content/uploads/2021/09/ShadowDance_CarolHunt_ParrishArtMuseum.png
END:VEVENT
END:VCALENDAR