BEGIN:VCALENDAR
VERSION:2.0
PRODID:-//Parrish Art Museum - ECPv6.10.2//NONSGML v1.0//EN
CALSCALE:GREGORIAN
METHOD:PUBLISH
X-ORIGINAL-URL:https://parrishart.org
X-WR-CALDESC:Events for Parrish Art Museum
REFRESH-INTERVAL;VALUE=DURATION:PT1H
X-Robots-Tag:noindex
X-PUBLISHED-TTL:PT1H
BEGIN:VTIMEZONE
TZID:America/New_York
BEGIN:DAYLIGHT
TZOFFSETFROM:-0500
TZOFFSETTO:-0400
TZNAME:EDT
DTSTART:20210314T070000
END:DAYLIGHT
BEGIN:STANDARD
TZOFFSETFROM:-0400
TZOFFSETTO:-0500
TZNAME:EST
DTSTART:20211107T060000
END:STANDARD
END:VTIMEZONE
BEGIN:VEVENT
DTSTART;TZID=America/New_York:20210806T173000
DTEND;TZID=America/New_York:20210806T183000
DTSTAMP:20260424T101658
CREATED:20210519T142255Z
LAST-MODIFIED:20210608T200759Z
UID:10002894-1628271000-1628274600@parrishart.org
SUMMARY:Business Member Meet-Up
DESCRIPTION:Business Members are invited to enjoy networking with fellow art-loving business leaders of the East End prior the Museum’s Jazz on the Terrace event.  Enjoy drink specials from the Museum Café and conversation al fresco while you mix and mingle with culturally engaged entrepreneurs.  Then stick around for an outdoor performance by Michael Sarian’s New Aurora Quartet. \nThere is limited capacity for this event\, intended for active Business Members and invited guests.  Not a Member?  Join today! \nREGISTER \nAbout the Jazz on the Terrace Performance\nMichael Sarian’s New Aurora Quartet\, 6-7:30 pm \nTrumpeter and composer Michael Sarian has been praised for his “unique compositional and instrumental voice… reminiscent of [his] lyrical contemporaries such as Ralph Alessi\, Ambrose Akinmusire or Avishai Cohen…certainly deserving of a large audience and much recognition.” (Friedrich Kunzmann\, All About Jazz) \nBorn in Toronto and raised in Buenos Aires\, Michael relocated to New York City in 2012 to pursue a master’s degree in Jazz Studies at New York University\, where he studied with great musicians such as Laurie Frink\, Alan Ferber\, Brad Shepik\, Ralph Alessi\, and Mike Rodriguez. Michael has performed at the Montreux Jazz Festival\, BRIC JazzFest\, Getxo Blues Festival\, Blue Note Jazz Club\, Jazz at Lincoln Center\, The Beacon Theater\, Central Park SummerStage\, Teatro Colón\, has appeared on WNYC’s Soundcheck with John Schaefer\, NPR’s World Cafe\, and many more. \nHis fourth album as a bandleader\, New Aurora\, released September 4 with ears&eyes Records\, features a new acoustic quartet with Michael’s horn at the fore-front of the ensemble. \n\nThis event is planned and sponsored by the Parrish Business Council\, a volunteer committee of East End professionals serving culturally engaged business leaders and organizations by providing programming and networking opportunities for Parrish Business Members. Current Councilpersons: \n\nLiz Brodar\, White Fences Inn\nKeith Davis\, The Golden Pear Café \nEmil K. Everett\, New Amsterdam\, LLC\nErik Fredrickson\, Fredrickson Consulting Group\nNadine Homann\, NH Design Studios Inc.\nChelsea Hrynick Browne\, Artist\nAleksandra Kardwell\, Hamptons Employment Agency\nRobin L. Long\, Esq. Attorney at Law\nDiana Pepi Stott\, Pepi Design Group\, LLC\nLisa Saladino\, The Hackett Group\, Merrill Lynch\nDiane Tucci\, Long Island Winterfest\n\n 
URL:https://parrishart.org/event/business-member-meet-up-2/
LOCATION:Parrish Art Museum\, 279 Montauk Highway\, Water Mill\, NY\, 11976\, United States
CATEGORIES:Friday Nights,Member Events
ATTACH;FMTTYPE=image/jpeg:https://parrishart.org/wp-content/uploads/2021/05/2021-05-Open-For-Business-scaled.jpg
END:VEVENT
END:VCALENDAR