BEGIN:VCALENDAR
VERSION:2.0
PRODID:-//Parrish Art Museum - ECPv6.10.2//NONSGML v1.0//EN
CALSCALE:GREGORIAN
METHOD:PUBLISH
X-WR-CALNAME:Parrish Art Museum
X-ORIGINAL-URL:https://parrishart.org
X-WR-CALDESC:Events for Parrish Art Museum
REFRESH-INTERVAL;VALUE=DURATION:PT1H
X-Robots-Tag:noindex
X-PUBLISHED-TTL:PT1H
BEGIN:VTIMEZONE
TZID:America/New_York
BEGIN:DAYLIGHT
TZOFFSETFROM:-0500
TZOFFSETTO:-0400
TZNAME:EDT
DTSTART:20240310T070000
END:DAYLIGHT
BEGIN:STANDARD
TZOFFSETFROM:-0400
TZOFFSETTO:-0500
TZNAME:EST
DTSTART:20241103T060000
END:STANDARD
END:VTIMEZONE
BEGIN:VEVENT
DTSTART;TZID=America/New_York:20240126T180000
DTEND;TZID=America/New_York:20240126T180000
DTSTAMP:20260425T123514
CREATED:20231218T174246Z
LAST-MODIFIED:20240124T170327Z
UID:10003714-1706292000-1706292000@parrishart.org
SUMMARY:Gallery Talk | Artists Choose Parrish\, Part II
DESCRIPTION:REGISTER \n$10 Members | $20 Adults | $18 Seniors | $15 Member’s Guest | Free for Students & Children \nPlease note that there is limited capacity for Gallery Talks; space is limited to 15 guests. \nJoin us for a gallery talk with artist Donald Sultan who will discuss his approach to pairing his work with works from the Parrish collection for Artists Choose Parrish\, a landmark exhibition that celebrates the Parrish’s 125th anniversary and honors the East End’s rich artistic legacy. The program will take place in the galleries among the works Sultan selected for the exhibition. \nSultan is one of forty-one artists with deep local roots who were invited to select works from the collection to be shown along with their own. Choosing works by Charles Burchfield\, R.M. Fischer\, Valerie Jaudon\, Roy Lichtenstein\, Donald Lipski\, Dan Rizzie\, and Keith Sonnier\, he says: “All of the art I chose is abstract in nature even if it contains a kind of image—the images are loaded. They are art historical torn from the natural world but not bound by it. The artists are all mature and yet have a certainty of their craft. There is no guesswork in the making\, only in the message.” \nArtists Choose Parrish is organized by Corinne Erni\, Lewis B. and Dorothy Cullman Chief Curator\, Art and Education\, with additional support from Kaitlin Halloran\, Assistant Curator and Publications Coordinator\, and Brianna L. Hernández\, Assistant Curator. \nAbout \nDONALD SULTAN (b. 1951\, Asheville\, NC) earned his BFA from the University of North Carolina\, Chapel Hill\, and MFA from the School of the Art Institute in Chicago before establishing himself in New York in 1975. Since his solo debut in 1977\, Sultan has excelled as a distinguished painter\, printmaker\, and sculptor. Renowned for seamlessly merging traditional and modern elements\, Sultan’s large-scale paintings\, often classified as still lifes\, present bold compositions employing industrial materials like tar and concrete\, contributing to the unique texture and character of his pieces. Sultan’s art\, described by him as a blend of basic geometric and organic forms with a formal purity\, has left an indelible mark on contemporary art. Sultan’s subjects evolve organically\, maintaining powerful statements amid abstraction. His work\, showcased globally in solo and group exhibitions\, is a part of prestigious permanent collections\, including The Museum of Modern Art\, the Dallas Museum of Art\, and the Metropolitan Museum of Art. \nAdvance ticket purchase with pre-event registration is recommended. Limited tickets will be available at the door. All sales are final\, non-transferable\, and non-refundable. \nFriday Nights are made possible\, in part\, by The Corcoran Group.
URL:https://parrishart.org/event/talk-artists-choose-parrish-2/
LOCATION:Parrish Art Museum\, 279 Montauk Highway\, Water Mill\, NY\, 11976\, United States
CATEGORIES:Friday Nights,Talks
ATTACH;FMTTYPE=image/jpeg:https://parrishart.org/wp-content/uploads/2024/01/SULTAN_2022-1-2.jpg
END:VEVENT
END:VCALENDAR