BEGIN:VCALENDAR
VERSION:2.0
PRODID:-//Parrish Art Museum - ECPv6.10.2//NONSGML v1.0//EN
CALSCALE:GREGORIAN
METHOD:PUBLISH
X-WR-CALNAME:Parrish Art Museum
X-ORIGINAL-URL:https://parrishart.org
X-WR-CALDESC:Events for Parrish Art Museum
REFRESH-INTERVAL;VALUE=DURATION:PT1H
X-Robots-Tag:noindex
X-PUBLISHED-TTL:PT1H
BEGIN:VTIMEZONE
TZID:America/New_York
BEGIN:DAYLIGHT
TZOFFSETFROM:-0500
TZOFFSETTO:-0400
TZNAME:EDT
DTSTART:20240310T070000
END:DAYLIGHT
BEGIN:STANDARD
TZOFFSETFROM:-0400
TZOFFSETTO:-0500
TZNAME:EST
DTSTART:20241103T060000
END:STANDARD
END:VTIMEZONE
BEGIN:VEVENT
DTSTART;TZID=America/New_York:20240308T180000
DTEND;TZID=America/New_York:20240308T180000
DTSTAMP:20260421T144245
CREATED:20240118T205934Z
LAST-MODIFIED:20240218T205649Z
UID:10003743-1709920800-1709920800@parrishart.org
SUMMARY:Talk | International Women’s Day: Women Artists in Beyond the Horizon
DESCRIPTION:REGISTER \n$10 Members | $20 Adults | $18 Seniors | $15 Member’s Guest | Free for Students & Children \nAs the Parrish celebrates International Women’s Day\, join us for a conversation with artists Renate Aller\, April Gornik\, and Susan Vecsey\, each on view in Beyond the Horizon: Interpretations of the Landscape from Women in the Permanent Collection\, moderated by Assistant Curator Brianna L. Hernández. The exhibition includes mural-sized representational oil paintings\, expressionistic watercolors and pastel drawings\, and intimate mixed-media abstractions\, from the unique visual language of women artists from the Parrish’s permanent collection. In a conversation centered around the exhibition\, visual styles experiences of the landscape\, the program celebrates and recognizes the accomplishments of women artists within the Parrish collection and across the East End. \nFriday Nights are made possible\, in part by The Corcoran Group.
URL:https://parrishart.org/event/talk-international-womens-day-women-artists-in-beyond-the-horizon/
LOCATION:Parrish Art Museum\, 279 Montauk Highway\, Water Mill\, NY\, 11976\, United States
CATEGORIES:Friday Nights,Talks
ATTACH;FMTTYPE=image/jpeg:https://parrishart.org/wp-content/uploads/2023/11/1996.3.jpg
END:VEVENT
END:VCALENDAR