BEGIN:VCALENDAR
VERSION:2.0
PRODID:-//Parrish Art Museum - ECPv6.10.2//NONSGML v1.0//EN
CALSCALE:GREGORIAN
METHOD:PUBLISH
X-ORIGINAL-URL:https://parrishart.org
X-WR-CALDESC:Events for Parrish Art Museum
REFRESH-INTERVAL;VALUE=DURATION:PT1H
X-Robots-Tag:noindex
X-PUBLISHED-TTL:PT1H
BEGIN:VTIMEZONE
TZID:America/New_York
BEGIN:DAYLIGHT
TZOFFSETFROM:-0500
TZOFFSETTO:-0400
TZNAME:EDT
DTSTART:20230312T070000
END:DAYLIGHT
BEGIN:STANDARD
TZOFFSETFROM:-0400
TZOFFSETTO:-0500
TZNAME:EST
DTSTART:20231105T060000
END:STANDARD
END:VTIMEZONE
BEGIN:VEVENT
DTSTART;TZID=America/New_York:20231110T173000
DTEND;TZID=America/New_York:20231110T200000
DTSTAMP:20260423T194430
CREATED:20231016T215633Z
LAST-MODIFIED:20231106T220253Z
UID:10003699-1699637400-1699646400@parrishart.org
SUMMARY:Black Film Festival\, Part II | Haiti Is A Nation of Artists
DESCRIPTION:TICKETS \nMembers $10 | Adults (Nonmembers) $16 | Students $10 | Children $5 | Friends of BHCCRC $13 \n5:30 pm Tour of Artists Choose Parrish \n6 pm Light Reception \n6:30 pm Introductions and Film screening \n7:30 pm Film discussion \nJoin us for the conclusion of the Black Film Festival with a screening of Haiti Is A Nation of Artists\, followed by a Zoom discussion with film director Jacquil Constant. The Black Film Festival is organized in collaboration with the Bridgehampton Child Care and Recreational Center\, Empact\, Suffolk County Office of Minority Health\, and the Witness Project of Long Island. \nAbout the Film\nDirected and produced by Jacquil Constant\, Haiti Is A Nation of Artists tells the story of Haitian artists creating transformational art after a devastating earthquake that struck Haiti on January 12\, 2010. The documentary depicts the humanity of Haitian culture through the lens of a Haitian-American filmmaker who seeks to uplift the rich diversity of Haiti and its historical legacy. The film\, affectionately named after an interaction Constant had with Carine Fabius\, an art curator in West Hollywood\, went on to screen at Cannes Film Festival in 2022. \nAbout the Director\nAs an independent filmmaker\, Jacquil Constant has emerged as a leader in Haitian film\, dedicated to portraying the rich tapestry of Haitian art and culture in a different yet authentic light. Constant received a Bachelor of Arts degree in Film Production and a Master of Arts in Interdisciplinary Studies with an emphasis in Pan African Studies and Cinema Television and Arts from California State University Northridge (CSUN). In 2006\, Constant established his own production company\, Constant Production\, which has various music videos\, short films\, and commercial productions to its credit. Constant’s career has led him to work with networks such as MTV\, BET\, and VHI where he worked in various capacities including production\, post-production\, and casting of reality television shows\, and is the founder of the first-ever Haiti International Film Festival in Southern California. \nFriday Nights are generously supported by The Corcoran Group. The Black Film Festival is supported by Suffolk County Office of Cultural Affairs.
URL:https://parrishart.org/event/black-film-festival-part-ii-haiti-is-a-nation-of-artists/
LOCATION:Parrish Art Museum\, 279 Montauk Highway\, Water Mill\, NY\, 11976\, United States
CATEGORIES:Film,Friday Nights
ATTACH;FMTTYPE=image/jpeg:https://parrishart.org/wp-content/uploads/2023/10/Haiti-Is-A-Nation-of-Artists.jpg
END:VEVENT
END:VCALENDAR