BEGIN:VCALENDAR
VERSION:2.0
PRODID:-//Parrish Art Museum - ECPv6.10.2//NONSGML v1.0//EN
CALSCALE:GREGORIAN
METHOD:PUBLISH
X-WR-CALNAME:Parrish Art Museum
X-ORIGINAL-URL:https://parrishart.org
X-WR-CALDESC:Events for Parrish Art Museum
REFRESH-INTERVAL;VALUE=DURATION:PT1H
X-Robots-Tag:noindex
X-PUBLISHED-TTL:PT1H
BEGIN:VTIMEZONE
TZID:America/New_York
BEGIN:DAYLIGHT
TZOFFSETFROM:-0500
TZOFFSETTO:-0400
TZNAME:EDT
DTSTART:20240310T070000
END:DAYLIGHT
BEGIN:STANDARD
TZOFFSETFROM:-0400
TZOFFSETTO:-0500
TZNAME:EST
DTSTART:20241103T060000
END:STANDARD
END:VTIMEZONE
BEGIN:VEVENT
DTSTART;TZID=America/New_York:20241101T180000
DTEND;TZID=America/New_York:20241101T194500
DTSTAMP:20260420T192636
CREATED:20240904T135040Z
LAST-MODIFIED:20241024T153802Z
UID:10003989-1730484000-1730490300@parrishart.org
SUMMARY:Film & Talk | Queen of Hearts: Audrey Flack
DESCRIPTION:REGISTER \n$13 Museum Members | $20 Adults & Resident Passholders | $18 Seniors | $15 Member’s Guest | $10 Students | $5 Children \nQueen of Hearts: Audrey Flack\, 2019\, 75 min.\, Directed by Deborah Shaffer. \nJoin us for a screening of Queen of Hearts: Audrey Flack\, as the Parrish commemorates Flack’s life and career\, in conjunction with Audrey Flack: Mid-Century to Post-Pop Baroque\, on view from October 14\, 2024 through April 6\, 2025. After the screening\, Director Deborah Shaffer and Louis K. Meisel will join in conversation with Corinne Erni\, Lewis B. and Dorothy Cullman Chief Curator\, Art & Education\, as they discuss their relationships with Flack throughout her career and during the film production. \nAbout Audrey Flack\nAudrey Flack (1931–2024) was an internationally recognized painter and sculptor and a pioneer of photorealism. Flack taught and lectured extensively both nationally and internationally\, was awarded the Augustus St. Gaudens Medal from Cooper Union\, and was an honorary Albert Dorne Professor at Bridgeport University. Among many major museums around the world\, her work also resides in The Metropolitan Museum of Art\, Solomon R. Guggenheim Museum\, Whitney Museum of American Art\, National Museum of Women in the Arts\, Butler Institute of American Art\, National Gallery of Australia\, Pennsylvania Academy of Fine Art\, and the Allen Memorial Art Museum\, as well as at the Parrish Art Museum. Additionally\, she is the first woman artist\, along with Mary Cassatt\, to be included in Janson’s History of Art text. \nAbout the Film\nAt 88 years-old\, Audrey Flack holds a unique place in the history of contemporary art in America. Feminist\, rebel\, mother\, painter\, sculptor\, and teacher\, Audrey’s often controversial 40-year career evolved from abstract expressionism in the 1950s to photorealism in the 1970s. One of the first women ever included in the famed Janson’s History of Art\, Audrey continues to create\, explore\, and inspire with her unique style and indomitable spirit. Queen of Hearts follows Flack as she takes her work in a brand-new direction and reveals her long-term struggles as the mother of a child with autism. Flack has something deep and genuine to communicate to the world. She is a provocateur and a rebel\, an example and an inspiration. Queen of Hearts is a moving portrait of an artist who is still testing\, still experimenting\, still searching. \nFriday Nights are made possible by support from The Corcoran Group. Support for films at the Parrish is provided in part by Suffolk County Office of Cultural Affairs.
URL:https://parrishart.org/event/film-talk-queen-of-hearts-audrey-flack/
LOCATION:Parrish Art Museum\, 279 Montauk Highway\, Water Mill\, NY\, 11976\, United States
CATEGORIES:Exhibitions,Film,Friday Nights,Talks
ATTACH;FMTTYPE=image/webp:https://parrishart.org/wp-content/uploads/2024/09/Audrey-Flack.webp
END:VEVENT
BEGIN:VEVENT
DTSTART;TZID=America/New_York:20241108T170000
DTEND;TZID=America/New_York:20241108T210000
DTSTAMP:20260420T192636
CREATED:20241017T160556Z
LAST-MODIFIED:20241104T205047Z
UID:10004029-1731085200-1731099600@parrishart.org
SUMMARY:Film | 5th Annual Black Film Festival\, Part II
DESCRIPTION:REGISTER \n$13 Members | $13 Friends of BHCCRC | $20 Adults & Resident Benefit Pass | $18 Seniors | $15 Member’s Guest | Free for Students & Children \nCan You Bring It: Bill T. Jones and D-Man in the Waters\, 2020\, 94 min.\, Directed by Rosalynde LeBlanc and Tom Hurwitz \nJoin us for the 5th Annual Black Film Festival\, Part II\, as the Parrish continues its annual collaboration with the Bridgehampton Child Care and Recreational Center\, Suffolk County Office of Minority Health\, the Witness Project of Long Island\, and Black Public Media. The Black Film Festival\, Part II\, will screen Can You Bring It: Bill T. Jones and D-Man in the Waters\, a feature documentary that traces the history and legacy of one of the most important works of art to come out of the age of AIDS—Bill T. Jones’ tour de force ballet “D-Man in the Waters.” The screening is followed by a panel with Producer and Co-Director Rosalynde LeBlanc; social worker\, poet\, and activist Lora Rene Tucker; and John Oppenheimer\, M.D\, Stony Brook Southampton Hospital. \nThe Black Film Festival presents award-winning short and feature films and documentaries that highlight the work of black filmmakers as well as stories that describe and elevate black lives and experiences\, touching on current sociopolitical topics\, art\, music\, performance\, mental and physical health\, among others. Films are selected by a committee representing the Parrish Art Museum\, Bridgehampton Child Care and Recreational Center\, the Witness Project of Long Island\, and the Suffolk County Department of Health Services\, Office of Minority Health\, as well as a small group of dedicated individuals. \nAbout the Film\nIn 1989\, D-Man in the Waters gave physical manifestation to the fear\, anger\, grief\, and hope for salvation that the Bill T. Jones/Arnie Zane Company felt as they were embattled by the AIDS pandemic. As a group of young dancers reconstructs the dance in the present day\, they learn about this often-forgotten history and deepen their understanding of the power of art in a time of plague. The film begins in a dance studio in present day where Rosalynde LeBlanc begins to teach D-Man in the Waters to university student dancers. Ms. LeBlanc was a member of the Bill T. Jones/Arnie Zane Company and Jones has since entrusted her with his legacy in the teaching of his pieces at colleges around the country. \nSchedule\n5 PM | Museum Tour of exhibitions on view\, led by Chief Curator Corinne Erni\n6 PM | Screening of Can You Bring It: Bill T. Jones and D-Man in the Waters\n7:45 PM | Post-film Q&A and Discussion\n8–9 PM | Post-film Reception \nSupport for the Black Film Festival is provided by Suffolk County Office of Cultural Affairs; Support for Friday Nights is provided by The Corcoran Group.
URL:https://parrishart.org/event/film-5th-annual-black-film-festival-part-ii/
LOCATION:Parrish Art Museum\, 279 Montauk Highway\, Water Mill\, NY\, 11976\, United States
CATEGORIES:Film,Friday Nights
ATTACH;FMTTYPE=image/jpeg:https://parrishart.org/wp-content/uploads/2024/10/2_CanYouBringIt_BillTJones_DMan_photo_better-scaled.jpg
END:VEVENT
BEGIN:VEVENT
DTSTART;TZID=America/New_York:20241115T180000
DTEND;TZID=America/New_York:20241115T193000
DTSTAMP:20260420T192636
CREATED:20240920T182947Z
LAST-MODIFIED:20241112T144342Z
UID:10004002-1731693600-1731699000@parrishart.org
SUMMARY:Talk | FRESH PAINT: Derrick Adams
DESCRIPTION:REGISTER \n$20 Adults & Resident Benefits PassHolder | $10 Members | $18 Seniors | Free for Students & Children \nAs we celebrate the installment of FRESH PAINT featuring Derrick Adams’ work on view in the Creativity Lounge\, join us for a conversation in the Lichtenstein Theater with artist Derrick Adams\, Folasade Ologundudu\, who was commissioned to write the text that accompanies Adams’ work\, and Mónica Ramírez-Montagut\, Ph.D.\, Executive Director of the Parrish. \nFRESH PAINT spotlights the latest works by both emerging and established artists\, fostering a direct response to contemporary issues and cultural movements\, on a rotating basis. FRESH PAINT is a collaboration with the FLAG Art Foundation and is accompanied by educational initiatives\, including ARTscope\, a teen council program offering participants a comprehensive exploration of the visual arts\, career pathways\, and practical experience in museum operations. \nAbout Derrick Adams\nDerrick Adams is a multidisciplinary artist living and working in Brooklyn\, New York. Adams’ work celebrates and expands the dialogue around contemporary Black life and culture through scenes of normalcy and perseverance. \nDerrick Adams received his BFA from Pratt Institute\, New York\, in 1996 and graduated with an MFA from Columbia University\, New York\, in 2003. In addition to his critically acclaimed art practice\, Adams has held numerous teaching positions and is currently a tenured assistant professor in the School of Visual\, Media and Performing Arts at CUNY Brooklyn College. He also holds an honorary doctorate from Maryland Institute College of Art. \nIn 2022\, Adams established Charm City Cultural Cultivation\, a non-profit organization to support and encourage underserved communities in the city of Baltimore through events conducted by three entities: The Last Resort Artist Retreat\, a residency program that subscribes to the concept of leisure as therapy for the Black creative; The Black Baltimore Digital Database\, a collaborative counter-institutional space for collecting\, storing\, and safekeeping the data of local archival initiatives; and Zora’s Den\, an online community of Black women writers started in January 2017\, which has since expanded to in-person writing workshops\, a writers’ circle\, and a monthly reading series that strive to promote instruction\, support\, and social engagement. \nAbout Folasade Ologundudu\nFolasade Ologundudu is an independent producer\, writer\, curator\, and multidisciplinary artist based in New York. Her practice seeks to uncover ideas related to the universal human condition through text-based work\, photography\, and film. She has written art criticism\, profiles\, interviews\, and essays for ArtForum\, ARTnews\, Cultured Magazine\, Sculpture Magazine\, and Frieze\, among other publications. Ologundudu is also the founder of Light Work\, a creative media platform rooted at the intersection of art\, education\, and culture. Through her podcast\, Everything Is Connected\, she holds conversations with artists\, curators\, and entrepreneurs deeply rooted in visual arts and community building. \nFriday Nights are made possible by The Corcoran Group.
URL:https://parrishart.org/event/talk-fresh-paint-derrick-adams/
LOCATION:Parrish Art Museum\, 279 Montauk Highway\, Water Mill\, NY\, 11976\, United States
CATEGORIES:Exhibitions,Friday Nights,Talks
ATTACH;FMTTYPE=image/webp:https://parrishart.org/wp-content/uploads/2024/09/2024.11.15-Talk-Derrick-Adams-collage.webp
END:VEVENT
BEGIN:VEVENT
DTSTART;TZID=America/New_York:20241122T180000
DTEND;TZID=America/New_York:20241122T190000
DTSTAMP:20260420T192636
CREATED:20241003T181032Z
LAST-MODIFIED:20241120T154212Z
UID:10004024-1732298400-1732302000@parrishart.org
SUMMARY:Talk | Klaus Ottmann on Charlotte Park: The Life of Forms in Color (Postponed)
DESCRIPTION:*This event has been postponed until further notice. \n$20 Adults & Resident Passholders | $13 Members | $15 Member’s Guest | $18 Seniors | Free for Students and Children \nJoin us for a discussion on artist Charlotte Park by Klaus Ottmann\, Robert Lehman Curator\, as Ottmann delves into Park’s work in abstraction\, color\, and form\, often related to the environment where she lived and worked. The exhibition follows Park’s abstractions of color and form\, inspired by organic life\, from her diffident embraces of color from the mid-1950s through playful and assertive compositions in the 1980s. Learn more here about Charlotte Park: The Life of Forms in Color\, on view from October 27\, 2024 to March 2\, 2025. \nFriday Nights are made possible\, in part\, thanks to The Corcoran Group.
URL:https://parrishart.org/event/talk-klaus-ottmann-on-charlotte-park-the-life-of-forms-in-color/
LOCATION:Parrish Art Museum\, 279 Montauk Highway\, Water Mill\, NY\, 11976\, United States
CATEGORIES:Friday Nights,Talks
ATTACH;FMTTYPE=image/jpeg:https://parrishart.org/wp-content/uploads/2024/07/2002.20.jpg
END:VEVENT
END:VCALENDAR