BEGIN:VCALENDAR
VERSION:2.0
PRODID:-//Parrish Art Museum - ECPv6.10.2//NONSGML v1.0//EN
CALSCALE:GREGORIAN
METHOD:PUBLISH
X-ORIGINAL-URL:https://parrishart.org
X-WR-CALDESC:Events for Parrish Art Museum
REFRESH-INTERVAL;VALUE=DURATION:PT1H
X-Robots-Tag:noindex
X-PUBLISHED-TTL:PT1H
BEGIN:VTIMEZONE
TZID:America/New_York
BEGIN:DAYLIGHT
TZOFFSETFROM:-0500
TZOFFSETTO:-0400
TZNAME:EDT
DTSTART:20240310T070000
END:DAYLIGHT
BEGIN:STANDARD
TZOFFSETFROM:-0400
TZOFFSETTO:-0500
TZNAME:EST
DTSTART:20241103T060000
END:STANDARD
END:VTIMEZONE
BEGIN:VEVENT
DTSTART;TZID=America/New_York:20240607T180000
DTEND;TZID=America/New_York:20240607T190000
DTSTAMP:20260420T003631
CREATED:20240513T175120Z
LAST-MODIFIED:20240601T165727Z
UID:10003800-1717783200-1717786800@parrishart.org
SUMMARY:Talk | Food Matters: The Big Picture
DESCRIPTION:REGISTER \n$10 Members | $20 Adults & Resident Benefit Pass | $18 Seniors | $15 Member’s Guest | Free for Students & Children \nJoin us for a PechaKucha-style discussion on specific food and agriculture-related topics\, with presentations from individuals on the East End. Delving into topics of food security\, sustainable agricultural practices\, food service and farm-related labor\, and more. In conjunction with The Art of Food: From the Collections of Jordan D. Schnitzer and His Family Foundation\, Food Matters: The Big Picture looks at local impact within the greater food and agriculture system as it relates to our communities across the East End of Long Island. \nPresenters:\nMiranda Capriotti\nMegan Chaskey\nBeatriz Detres\nRandi Shubin Dresner\nJohn “Barley” Dunne\nAugie Feueborn\nDarr Reilly\nNoemi Sanchez\nJennifer Schaeffer \nFood Matters is a collaboration between the Parrish Art Museum and FoodLab at Stony Brook University. Friday Nights are generously supported by The Corcoran Group.
URL:https://parrishart.org/event/talk-food-matters-the-big-picture/
LOCATION:Parrish Art Museum\, 279 Montauk Highway\, Water Mill\, NY\, 11976\, United States
CATEGORIES:Friday Nights,PechaKucha,Talks
ATTACH;FMTTYPE=image/jpeg:https://parrishart.org/wp-content/uploads/2024/06/IMG_1254-scaled-e1715625718188.jpg
END:VEVENT
BEGIN:VEVENT
DTSTART;TZID=America/New_York:20240614T180000
DTEND;TZID=America/New_York:20240614T190000
DTSTAMP:20260420T003631
CREATED:20240513T175811Z
LAST-MODIFIED:20240529T185240Z
UID:10003801-1718388000-1718391600@parrishart.org
SUMMARY:Gallery Talk | Beyond the Horizon
DESCRIPTION:REGISTER \n$10 Members | $20 Adults & Resident Benefit Pass | $18 Seniors | $15 Member’s Guest | Free for Students & Children \nOn the closing weekend\, join us for a gallery talk with artists Sandi Haber Fifield and Laurie Lambrecht\, both on view in Beyond the Horizon: Interpretations of the Landscape from Women in the Permanent Collection\, moderated by Assistant Curator Brianna L. Hernández. The exhibition includes mural-sized representational oil paintings\, expressionistic watercolors and pastel drawings\, and intimate mixed-media abstractions\, from the unique visual language of women artists from the Parrish’s permanent collection. In a conversation centered around the exhibition\, the program celebrates and recognizes the accomplishments of women artists within the Parrish collection and across the East End. \nFriday Nights are generously supported by The Corcoran Group.
URL:https://parrishart.org/event/gallery-talk-beyond-the-horizon/
LOCATION:Parrish Art Museum\, 279 Montauk Highway\, Water Mill\, NY\, 11976\, United States
CATEGORIES:Friday Nights,PechaKucha,Talks
ATTACH;FMTTYPE=image/jpeg:https://parrishart.org/wp-content/uploads/2024/05/GJM0864-small-scaled.jpg
END:VEVENT
BEGIN:VEVENT
DTSTART;TZID=America/New_York:20240621T180000
DTEND;TZID=America/New_York:20240621T200000
DTSTAMP:20260420T003631
CREATED:20240610T153836Z
LAST-MODIFIED:20240613T191238Z
UID:10003814-1718992800-1719000000@parrishart.org
SUMMARY:Film | Juneteenth: Faith and Freedom
DESCRIPTION:REGISTER \n$13 Members | $20 Adults | $18 Seniors | $15 Member’s Guest | $10 Students | $5 Children \n2022\, 75 min. \nAs we commemorate Juneteenth\, join us for a documentary screening of Juneteenth: Faith and Freedom\, co-presented with the Eastville Community Historical Society and Southampton African American Museum. \nA Critics’ Selection at the Dallas International Film Festival\, Juneteenth: Faith and Freedom tells the story of Juneteenth\, and the historical and cultural role faith played in the African American experience\, shedding light on a widely unknown spiritual significance. History professor Dr. Carey Latimore travels to Galveston\, Texas\, with special guests to recount the impact and meaning of emancipation\, lived experiences\, and how the holiday revealed a deep connection between faith and freedom for African Americans. \nFriday Nights are made possible by The Corcoran Group.
URL:https://parrishart.org/event/film-juneteenth-faith-and-freedom/
LOCATION:Parrish Art Museum\, 279 Montauk Highway\, Water Mill\, NY\, 11976\, United States
CATEGORIES:Film,Friday Nights
ATTACH;FMTTYPE=image/png:https://parrishart.org/wp-content/uploads/2024/06/Juneteenth-film.png
END:VEVENT
BEGIN:VEVENT
DTSTART;TZID=America/New_York:20240628T180000
DTEND;TZID=America/New_York:20240628T190000
DTSTAMP:20260420T003631
CREATED:20240513T180819Z
LAST-MODIFIED:20240624T162128Z
UID:10003802-1719597600-1719601200@parrishart.org
SUMMARY:PechaKucha Night Hamptons\, Vol. 40
DESCRIPTION:REGISTER \n$10 Members | $20 Adults & Resident Benefit Pass | $18 Seniors | $15 Member’s Guest | Free for Students & Children \nMeet the many creatives who call the East End of Long Island\, New York their home at our high energy PechaKucha Night Hamptons. Artists\, writers\, musicians\, gardeners\, farmers\, baymen\, chefs\, designers\, and architects present their work and passions in just under 7 minutes as they use a simple format of 20 images x 20 seconds per image. \nAs the official site for the Hamptons\, the Parrish joins over 700 cities globally in hosting PechaKucha Nights\, named for the sound of “chit-chat” in Japanese. This is a great opportunity to establish new relationships\, learn about local resources\, and hear from your neighbors. \nPresenters:\n \nAdam Baranello\nIsadora Capraro \nDonna Corvi\nAlexis Torres Marroquín\nEdgar Papazian\nLeila Pinto \nLearn more about PechaKucha Night Hamptons. \nAdvanced ticket purchase with pre-event registration is recommended. Limited tickets will be available at the door. All sales are final\, non-transferable\, and non-refundable. \nFriday Nights are generously supported by The Corcoran Group.
URL:https://parrishart.org/event/pechakucha-night-hamptons-vol-40/
LOCATION:Parrish Art Museum\, 279 Montauk Highway\, Water Mill\, NY\, 11976\, United States
CATEGORIES:Friday Nights,PechaKucha,Talks
ATTACH;FMTTYPE=image/png:https://parrishart.org/wp-content/uploads/2024/05/PechaKucha.png
END:VEVENT
END:VCALENDAR