BEGIN:VCALENDAR
VERSION:2.0
PRODID:-//Parrish Art Museum - ECPv6.10.2//NONSGML v1.0//EN
CALSCALE:GREGORIAN
METHOD:PUBLISH
X-WR-CALNAME:Parrish Art Museum
X-ORIGINAL-URL:https://parrishart.org
X-WR-CALDESC:Events for Parrish Art Museum
REFRESH-INTERVAL;VALUE=DURATION:PT1H
X-Robots-Tag:noindex
X-PUBLISHED-TTL:PT1H
BEGIN:VTIMEZONE
TZID:America/New_York
BEGIN:DAYLIGHT
TZOFFSETFROM:-0500
TZOFFSETTO:-0400
TZNAME:EDT
DTSTART:20230312T070000
END:DAYLIGHT
BEGIN:STANDARD
TZOFFSETFROM:-0400
TZOFFSETTO:-0500
TZNAME:EST
DTSTART:20231105T060000
END:STANDARD
END:VTIMEZONE
BEGIN:VEVENT
DTSTART;TZID=America/New_York:20231006T180000
DTEND;TZID=America/New_York:20231006T190000
DTSTAMP:20260424T173245
CREATED:20230829T170427Z
LAST-MODIFIED:20230908T210249Z
UID:10003689-1696615200-1696618800@parrishart.org
SUMMARY:Talk | THE SLIP: The New York City Street That Changed American Art Forever
DESCRIPTION:REGISTER \n$5 Members | $16 Adults (Nonmembers) | $12 Seniors | Free for Students\, Children \nJoin us for a reading and presentation by author Prudence Peiffer following the recent release of her book The Slip: The New York City Street That Changed American Art Forever\, the never-before-told story of an obscure little street at the lower tip of Manhattan and the remarkable artists who got their start there. Recently reviewed by The New York Times\, THE SLIP delves into six visual artist biographies\, tenderly researched with an interpretive mood that echoes the debate on a philosophical approach to art making\, with “a neighborhood-eye view of art history” (Walker Mimms\, New York Times\, 2023). Peiffer’s publication includes profiles of several Parrish permanent collection artists – Agnes Martin\, James Rosenquist\, and Jack Youngerman\, alongside Robert Indiana\, Ellsworth Kelly\, Delphine Seyrig\, and Lenore Tawney. Peiffer will read excerpts from the book and discuss several of the artists\, their works\, and historical photo references. \nAbout THE SLIP\nFor just over a decade\, from 1956 to 1967\, a collection of dilapidated former sail-making warehouses clustered at the lower tip of Manhattan became the quiet epicenter of the art world. Coenties Slip\, a dead-end street near the water\, was home to a circle of wildly talented and varied artists that included Robert Indiana\, Ellsworth Kelly\, Agnes Martin\, James Rosenquist\, Delphine Seyrig\, Lenore Tawney\, and Jack Youngerman. As friends and inspirations to one another\, they created a unique community for unbridled creative expression and experimentation\, and the works they made at the Slip would go on to change the course of American art. \nNow\, for the first time\, Prudence Peiffer pays homage to these artists and the unsung impact their work had on the direction of late twentieth-century art and film. This remarkable biography\, as transformative as the artists it illuminates\, questions the very concept of a “group” or “movement\,” as it spotlights the Slip’s eclectic mix of gender and sexual orientation\, abstraction and Pop\, experimental film\, painting\, and sculpture\, assemblage and textile works. \nAbout Prudence Peiffer\nPrudence Peiffer is an art historian\, writer\, and editor\, specializing in modern and contemporary art. She is the Director of Content at MoMA\, New York. She received her Ph.D from Harvard University; following a postdoctoral fellowship at Columbia University\, she was a Senior Editor at Artforum magazine from 2012-2017\, and Digital Content Director at David Zwirner in 2018. Her writing has appeared in The New York Times\, The New York Review of Books online\, Artforum\, and Bookforum\, among other publications. \nSupport for Friday Nights at the Parrish Art Museum is provided by The Corcoran Group.
URL:https://parrishart.org/event/talk-the-slip-the-new-york-city-street-that-changed-american-art-forever/
LOCATION:Parrish Art Museum\, 279 Montauk Highway\, Water Mill\, NY\, 11976\, United States
CATEGORIES:Book Signings,Friday Nights,Talks
ATTACH;FMTTYPE=image/png:https://parrishart.org/wp-content/uploads/2023/08/Screenshot-2023-08-29-at-1.02.51-PM.png
END:VEVENT
BEGIN:VEVENT
DTSTART;TZID=America/New_York:20231020T180000
DTEND;TZID=America/New_York:20231020T193000
DTSTAMP:20260424T173245
CREATED:20231002T160211Z
LAST-MODIFIED:20231018T233538Z
UID:10003696-1697824800-1697830200@parrishart.org
SUMMARY:The Art of Great Service
DESCRIPTION:REGISTER \nFree for Parrish Business Members | $5 Parrish Members | $16 Adults | $12 Member’s Guests | $10 Seniors \nManaging customer relationships effectively is one of the best ways to grow your business. Your customers’ experience before\, during\, and after they engage with your product or service will look different depending on the type of business you are in; however\, it remains a crucial component in the equation of your success. \nThousands of small and large businesses in our region provide a service to their customers. Whether you are a personal chef\, interior designer\, or financial advisor\, or you own a retail shop\, restaurant\, or pool cleaning service\, keeping your customers happy and coming back can sometimes seem like a herculean task. However\, the effort you put in today will reap benefits that go way beyond your initial investment. \nA panel of local business professionals will address questions about their approach to service. What are examples of great service? What contributes to repeat business? What makes the East End unique? What challenges are common across all businesses? What tools support great customer engagement today? What’s changed in the past 5-10 years and what’s remained the same? Their stories of success will provide a jumping-off point for a larger conversation about the art of great service in our community and inspire all business professionals to take another look at their own approach and practice. \nGuest presenters: \nDavid E. Astorr\, David E. Astorr\, Inc.\, Wealth Management\nErin Hattrick\, owner of Topiarie Flower Shop\, Southampton\nMark Smith\, co-owner of Nick & Toni’s\, East Hampton\nDeborah Stotzky\, owner of Holistico Wellness\, Greenport \nAdvance registration is preferred. Come early and explore the Museum galleries and current exhibitions on view\, including Artists Choose Parrish Part II. The Museum Café will be open and offers wine\, beer\, cocktails\, beverages\, sandwiches\, and other snacks. Drinks and snacks are allowed in the theater. \n— \nBIZ NEWS IN AND AROUND TOWN! Parrish Business Members\, Lisa and Roy Pfleger\, owners of Legacy Optical located in Hampton Bays\, recently celebrated the Grand Re-opening of their business and wishes to thank everyone who attended to help them celebrate! Enjoy the video capturing some of the special moments provided by Dan Bower of Road K Productions\, another Parrish Business Member! \n— \nUP NEXT \nDecember 1\, 6 PM | The Art of Business Growth –This event will explore what it takes to grow your business whether you have been in business for less than 3 years or more than 20 years. Hear from business leaders who fall into both categories. \nJanuary 12\, 6 PM | BizShine: Business Leaders Present Five Minute Stories – Join us for our 2nd annual BizShine event. During this artfully designed program business leaders share their personal and professional journey stories alongside photos and images on the big screen. Part storytelling and part workshop\, their inspiring stories will be followed by networking and small group conversations. \nMarch 22\, 6 PM | Two Forks and a Cork – A fun-filled celebration with the region’s best wineries accompanied by local bites\, live music\, and a few surprises. Sponsorship opportunities available. \nMay 12\, 6 PM | The Art of Community – Hear inspiring stories from business leaders who participate and give back to their community in unique ways as they draw upon their talent and resources\, as well as their personal and professional values. \nJuly (Date TBD) | Annual Summer Social on the Terrace for Business Professionals
URL:https://parrishart.org/event/the-art-of-great-service/
LOCATION:Parrish Art Museum\, 279 Montauk Highway\, Water Mill\, NY\, 11976\, United States
CATEGORIES:Business Events,Classes and Workshops,Friday Nights,Member Events,Talks,Upcoming
ATTACH;FMTTYPE=image/png:https://parrishart.org/wp-content/uploads/2023/10/Untitled-design-4.png
END:VEVENT
END:VCALENDAR