BEGIN:VCALENDAR
VERSION:2.0
PRODID:-//Parrish Art Museum - ECPv6.10.2//NONSGML v1.0//EN
CALSCALE:GREGORIAN
METHOD:PUBLISH
X-ORIGINAL-URL:https://parrishart.org
X-WR-CALDESC:Events for Parrish Art Museum
REFRESH-INTERVAL;VALUE=DURATION:PT1H
X-Robots-Tag:noindex
X-PUBLISHED-TTL:PT1H
BEGIN:VTIMEZONE
TZID:America/New_York
BEGIN:DAYLIGHT
TZOFFSETFROM:-0500
TZOFFSETTO:-0400
TZNAME:EDT
DTSTART:20230312T070000
END:DAYLIGHT
BEGIN:STANDARD
TZOFFSETFROM:-0400
TZOFFSETTO:-0500
TZNAME:EST
DTSTART:20231105T060000
END:STANDARD
END:VTIMEZONE
BEGIN:VEVENT
DTSTART;TZID=America/New_York:20230811T183000
DTEND;TZID=America/New_York:20230811T220000
DTSTAMP:20260425T210353
CREATED:20230714T213501Z
LAST-MODIFIED:20230811T183925Z
UID:10003635-1691778600-1691791200@parrishart.org
SUMMARY:Film | Black Film Festival: House Party
DESCRIPTION:Tickets  \nAdults $16 | Friends of BHCCRC $13 | Parrish Members $10 | Students $10 \nREGISTER\nFilm & After Party $40 \nREGISTER – EVENTBRITE\nSchedule \n6:30 PM | Reception and Museum Tour of James Brooks: A Painting Is a Real Thing\n7:00 PM | Short talk on Health Awareness Topics and Issues\n7:10 PM | Hip-Hop Panel\n8 PM | Film Screening  House Party (1990)\n10:30 PM | Off-site Afterparty \nParrish Art Museum and the Bridgehampton Child Care & Recreational Center (BHCCRC) continue their history of partnership with the fourth Black Film Festival at the Museum\, on Friday\, August 11\, from 6:30-10 pm\, celebrating 50 years of hip-hop music and culture. Part I features a reception and exhibition tour; panel discussion on hip-hop; and screening of the 1990 hip-hop classic House Party. A ticketed off-site afterparty follows the screening (Please note: The film is rated R and all children under the age of 17 are required to be accompanied by a parent or guardian.) \nTour\nThe evening begins with a reception and brief tour of the new exhibition James Brooks: A Painting Is a Real Thing\, a retrospective of the abstract expressionist artist who lived and worked in Springs\, East Hampton\, from 1957 until his passing in 1992\, and was a key figure in the local art community. The exhibition features more than 100 of the most important paintings\, prints\, and works on paper by Brooks\, dating from the 1920s to 1983. \nHip Hop Panel Discussion\nThree panelists will discuss the half-century history of hip-hop\, and its profound\, enduring impact on music and culture. Panelists include Bakari Kitwana—author\, journalist\, and political analyst who directs the Rap Sessions: Community Dialogues on Hip-Hop; 1/2 Pint—an educator\, hip-hop artist\, educational consultant\, podcast co-host\, and webcast producer; and The Legendary DJ Belal—an A&M recording artist\, touring DJ\, and member of Groove B Chill\, Uptown. \nFilm: House Party\n(1990\, 1hr 40 min.\, Rated R)\nHouse Party was written and directed by Reginald Hudlin\, based on his award-winning Harvard University student film. In 2022\, the film was selected for preservation in the United States National Film Registry by the Library of Congress as being “culturally\, historically\, or aesthetically significant.”  The film’s hip-hop and R&B soundtrack\, released on March 1990 by Motown Records\, peaked at 104 on the Billboard 200 and 20 on the Top R&B/Hip-Hop Albums. \nThe Story: When Play’s (Christopher Martin) parents are out of town\, he plans a house party of the century. His best friend Kid (Christopher Reid) is determined to go despite being grounded. Neither can predict what’s in store on what could be the wildest night of their lives. \nThe program takes place on the Museum’s Terrace and event lawn. Please bring your own chairs\, no Museum seating is provided. \nSave the Date: Black Film Festival\, Part II\, will be held on Friday November 10\, 2023. \nSupport for the Black Film Festival is provided by Suffolk County Office of Cultural Affairs; Support for Friday Nights is provided by The Corcoran Group. \n 
URL:https://parrishart.org/event/film-black-film-festival-house-party/
LOCATION:Parrish Art Museum\, 279 Montauk Highway\, Water Mill\, NY\, 11976\, United States
CATEGORIES:Friday Nights,Talks
ATTACH;FMTTYPE=image/jpeg:https://parrishart.org/wp-content/uploads/2023/07/House-Party-dianb5f0wJbedEX9hHEosiEs5mo-e1689370487767.jpg
END:VEVENT
BEGIN:VEVENT
DTSTART;TZID=America/New_York:20230825T173000
DTEND;TZID=America/New_York:20230825T181500
DTSTAMP:20260425T210353
CREATED:20230807T164852Z
LAST-MODIFIED:20230822T175701Z
UID:10003651-1692984600-1692987300@parrishart.org
SUMMARY:Tour | James Brooks: A Painting Is a Real Thing
DESCRIPTION:REGISTER\nMembers of the Museum at the Patron level and above are invited to a private gallery tour of James Brooks: A Painting Is a Real Thing\, led by Adjunct Curator of the Collection\, Klaus Ottmann\, on August 25. Guests will view the comprehensive survey comprised of over 100 paintings\, prints\, and works on paper drawn from public and private U.S. collections. \nNote: The tour takes place before that evening’s panel discussion in the Lichtenstein Theater starting at 6:30 PM. Tickets for the discussion are required and can be purchased in advance here. \nJames Brooks: A Painting Is a Real Thing is organized by Klaus Ottmann\, Ph.D.\, Adjunct Curator of the Collection\, with support from Assistant Curator and Publications Coordinator Kaitlin Halloran and will be on view through October 15\, 2023. \nEXHIBITION SUPPORT\nJames Brooks: A Painting Is a Real Thing\, is made possible thanks to the generous support of the James and Charlotte Brooks Fund and the Wolf Kahn Foundation. The Museum’s programs are made possible\, in part\, by the New York State Council on the Arts with the support of Governor Kathy Hochul and the New York State Legislature\, and by the property taxpayers from the Southampton School District and the Tuckahoe Common School District. \nRegistration required. Not a member but want to attend? Join today →
URL:https://parrishart.org/event/tour-james-brooks-a-painting-is-a-real-thing-2/
LOCATION:Parrish Art Museum\, 279 Montauk Highway\, Water Mill\, NY\, 11976\, United States
CATEGORIES:Friday Nights,Member Events
ATTACH;FMTTYPE=image/jpeg:https://parrishart.org/wp-content/uploads/2023/08/2017.13_edited.jpg
END:VEVENT
BEGIN:VEVENT
DTSTART;TZID=America/New_York:20230825T183000
DTEND;TZID=America/New_York:20230825T193000
DTSTAMP:20260425T210353
CREATED:20230630T162507Z
LAST-MODIFIED:20230824T173048Z
UID:10003633-1692988200-1692991800@parrishart.org
SUMMARY:Talk | James Brooks: A Painting Is a Real Thing
DESCRIPTION:$5 Members | $16 Adults | $12 Seniors | Free for Students\, Children \nREGISTER\nJoin us for a panel discussion in conjunction with James Brooks: A Painting Is a Real Thing\, delving into the artist’s work\, with special focus on the life he shared with Charlotte Park\, their Springs studio\, practice\, and evolution. Organized in collaboration with the Brooks-Park Arts and Nature Center\, the conversation will include Dr. Klaus Ottmann\, Adjunct Curator of the Collection and guest curator for the exhibition\, Helen Harrison\, the Eugene V. and Clare E. Thaw Director of the Pollock-Krasner House and Study Center and artist Mike Solomon\, moderated by artist Scott Bluedorn. \nJames Brooks: A Painting Is a Real Thing is organized by Klaus Ottmann\, Ph.D.\, Adjunct Curator of the Collection\, with support from Assistant Curator and Publications Coordinator Kaitlin Halloran. \nMembers at the Patron level and above are invited to a private tour of the exhibition prior to the talk. Advanced registration is required. \nJames Brooks: A Painting Is a Real Thing\, is made possible thanks to the generous support of the James and Charlotte Brooks Fund and The Wolf Kahn Foundation. The Museum’s programs are made possible\, in part\, by the New York State Council on the Arts with the support of Governor Kathy Hochul and the New York State Legislature\, and by the property taxpayers from the Southampton School District and the Tuckahoe Common School District. \nAdvance ticket purchase with pre-event registration is recommended. Limited tickets will be available at the door. All sales are final\, non-transferable\, and non-refundable. \nFriday Nights at the Parrish Art Museum are made possible with support provided by The Corcoran Group.
URL:https://parrishart.org/event/talk-james-brooks-a-painting-is-a-real-thing/
LOCATION:Parrish Art Museum\, 279 Montauk Highway\, Water Mill\, NY\, 11976\, United States
CATEGORIES:Exhibitions,Friday Nights,Talks
ATTACH;FMTTYPE=image/jpeg:https://parrishart.org/wp-content/uploads/2019/09/2017.13.3.jpg
END:VEVENT
END:VCALENDAR