BEGIN:VCALENDAR
VERSION:2.0
PRODID:-//Parrish Art Museum - ECPv6.10.2//NONSGML v1.0//EN
CALSCALE:GREGORIAN
METHOD:PUBLISH
X-WR-CALNAME:Parrish Art Museum
X-ORIGINAL-URL:https://parrishart.org
X-WR-CALDESC:Events for Parrish Art Museum
REFRESH-INTERVAL;VALUE=DURATION:PT1H
X-Robots-Tag:noindex
X-PUBLISHED-TTL:PT1H
BEGIN:VTIMEZONE
TZID:America/New_York
BEGIN:DAYLIGHT
TZOFFSETFROM:-0500
TZOFFSETTO:-0400
TZNAME:EDT
DTSTART:20230312T070000
END:DAYLIGHT
BEGIN:STANDARD
TZOFFSETFROM:-0400
TZOFFSETTO:-0500
TZNAME:EST
DTSTART:20231105T060000
END:STANDARD
END:VTIMEZONE
BEGIN:VEVENT
DTSTART;TZID=America/New_York:20230820T150000
DTEND;TZID=America/New_York:20230820T180000
DTSTAMP:20260425T184209
CREATED:20230725T200455Z
LAST-MODIFIED:20230727T213324Z
UID:10003638-1692543600-1692554400@parrishart.org
SUMMARY:Summer Family Party
DESCRIPTION:LEARN MORE \nTICKETS \nAdults: $125 | $100 Members\nChildren: $100 | $75 Members\nFamily Benefactor: $5\,000 – Includes 15 tickets\nFamily Patron: $2\,500 – Includes 10 tickets\nFamily Sponsor: $1\,000 – Includes 6 tickets \nPlease join us for a special drum and dance performance and skill workshops by Wula Drum\, delicious food\, and an afternoon of art-making. \n• Drum and dance skills workshop by Wula Drum (limited capacity\, sign up immediately on arrival)\n• Creative workshops\, including sculpture\, block printing\, and more\n• Lawn Games\n• Delicious Summer Food by Elegant Affairs\n• Ice Cream Truck \nHeld outdoors on the covered Mildred C. Brinn Terrace. \nFor further inquiries\, please email Colin Bertram\, bertramc@parrishart.org or call 631-283-2118 x150. \nThis event has a limited capacity. Tickets must be purchased in advance and are based on availability. \nEvents & Activities Schedule\n• 3:00 pm and 3:30 pm: West African Drum and Dance workshops with Wula Drum. Space is limited. Sign-up is on a first come basis.\n• 4:30 pm: Drum and Dance performance by Wula Drum\n• 3:00 pm – 6:00 pm:\nImaginative Play Project\nBlock Printing on fabric\nWire Sculpture\nExploring the Sculpture of Louise Nevelson\nMonotype Printing\, and more!
URL:https://parrishart.org/event/summer-family-party-2/
LOCATION:Parrish Art Museum\, 279 Montauk Highway\, Water Mill\, NY\, 11976\, United States
CATEGORIES:Benefit Events,Family Programs
ATTACH;FMTTYPE=image/jpeg:https://parrishart.org/wp-content/uploads/2023/07/FP-2022-PR-4.jpg
END:VEVENT
BEGIN:VEVENT
DTSTART;TZID=America/New_York:20230826T110000
DTEND;TZID=America/New_York:20230826T123000
DTSTAMP:20260425T184209
CREATED:20230615T155536Z
LAST-MODIFIED:20230812T141211Z
UID:10003619-1693047600-1693053000@parrishart.org
SUMMARY:Open Studio for Families
DESCRIPTION:Create in this free Open Studio class for you and your family. In this session\, make art inspired by works in James Brooks: A Painting is a Real Thing.  \nDrop in sessions are limited to 30 minutes and all ages must be accompanied by an adult. \nNo advance registration required. \n Learn more about James Brooks: A Painting is a Real Thing→ \n  \n 
URL:https://parrishart.org/event/open-studio-for-families-7/
LOCATION:Parrish Art Museum\, 279 Montauk Highway\, Water Mill\, NY\, 11976\, United States
CATEGORIES:Classes and Workshops,Exhibitions,Family Programs
ATTACH;FMTTYPE=image/jpeg:https://parrishart.org/wp-content/uploads/2019/09/2017.13.15-scaled.jpg
END:VEVENT
END:VCALENDAR