BEGIN:VCALENDAR
VERSION:2.0
PRODID:-//Parrish Art Museum - ECPv6.10.2//NONSGML v1.0//EN
CALSCALE:GREGORIAN
METHOD:PUBLISH
X-ORIGINAL-URL:https://parrishart.org
X-WR-CALDESC:Events for Parrish Art Museum
REFRESH-INTERVAL;VALUE=DURATION:PT1H
X-Robots-Tag:noindex
X-PUBLISHED-TTL:PT1H
BEGIN:VTIMEZONE
TZID:America/New_York
BEGIN:DAYLIGHT
TZOFFSETFROM:-0500
TZOFFSETTO:-0400
TZNAME:EDT
DTSTART:20200308T070000
END:DAYLIGHT
BEGIN:STANDARD
TZOFFSETFROM:-0400
TZOFFSETTO:-0500
TZNAME:EST
DTSTART:20201101T060000
END:STANDARD
END:VTIMEZONE
BEGIN:VEVENT
DTSTART;TZID=America/New_York:20200307T130000
DTEND;TZID=America/New_York:20200307T170000
DTSTAMP:20260422T175409
CREATED:20200225T170925Z
LAST-MODIFIED:20200304T200539Z
UID:10002686-1583586000-1583600400@parrishart.org
SUMMARY:Student Exhibition Opening Receptions
DESCRIPTION:Enjoy a celebratory afternoon viewing the 2020 Student Exhibition! This vibrant exhibition features artwork by students from over 30 regional schools\, plus works created with artists-in-residence Irina Alimanestianu\, Scott Bluedorn\, and Bastienne Schmidt\, who were featured in the recent exhibition Artists Choose Artists. Light refreshments will be served. \n2020 Student Exhibition Receptions\n1–3 pm Young Artists Reception (Pre-K through grade 8)\n3–5 pm High School Artists Reception
URL:https://parrishart.org/event/student-exhibition-opening-reception/
LOCATION:Parrish Art Museum\, 279 Montauk Highway\, Water Mill\, NY\, 11976\, United States
CATEGORIES:Family Programs
ATTACH;FMTTYPE=image/jpeg:https://parrishart.org/wp-content/uploads/2019/02/2019StudentExhibtion_Kochie4315.jpg
END:VEVENT
END:VCALENDAR