BEGIN:VCALENDAR
VERSION:2.0
PRODID:-//Parrish Art Museum - ECPv6.10.2//NONSGML v1.0//EN
CALSCALE:GREGORIAN
METHOD:PUBLISH
X-WR-CALNAME:Parrish Art Museum
X-ORIGINAL-URL:https://parrishart.org
X-WR-CALDESC:Events for Parrish Art Museum
REFRESH-INTERVAL;VALUE=DURATION:PT1H
X-Robots-Tag:noindex
X-PUBLISHED-TTL:PT1H
BEGIN:VTIMEZONE
TZID:America/New_York
BEGIN:DAYLIGHT
TZOFFSETFROM:-0500
TZOFFSETTO:-0400
TZNAME:EDT
DTSTART:20250309T070000
END:DAYLIGHT
BEGIN:STANDARD
TZOFFSETFROM:-0400
TZOFFSETTO:-0500
TZNAME:EST
DTSTART:20251102T060000
END:STANDARD
END:VTIMEZONE
BEGIN:VEVENT
DTSTART;TZID=America/New_York:20250614T110000
DTEND;TZID=America/New_York:20250614T123000
DTSTAMP:20260422T182650
CREATED:20250106T192622Z
LAST-MODIFIED:20250203T161406Z
UID:10005365-1749898800-1749904200@parrishart.org
SUMMARY:Open Studio for Families
DESCRIPTION:Create art inspired by Museum exhibitions and works on view in this Open Studio class for you and your family. Explore materials and discover your process. Drop-in sessions are limited to 30 minutes and all ages must be accompanied by an adult. \nNo advanced registration required. Free with Museum Admission.
URL:https://parrishart.org/event/open-studio-for-families-11/2025-06-14/
LOCATION:Parrish Art Museum\, 279 Montauk Highway\, Water Mill\, NY\, 11976\, United States
CATEGORIES:Family Programs
ATTACH;FMTTYPE=image/jpeg:https://parrishart.org/wp-content/uploads/2019/03/6020-crop.jpg
END:VEVENT
BEGIN:VEVENT
DTSTART;TZID=America/New_York:20250615T140000
DTEND;TZID=America/New_York:20250615T160000
DTSTAMP:20260422T182650
CREATED:20250521T211410Z
LAST-MODIFIED:20250522T144417Z
UID:10005417-1749996000-1750003200@parrishart.org
SUMMARY:Father's Day Museum Architecture & Facilities Tour
DESCRIPTION:All are welcome to enjoy refreshments and join a special behind-the-scenes tour of the Museum’s awe-inspiring architecture and facilities\, designed by internationally acclaimed\, award-winning architects Herzog & de Meuron. Complimentary with Museum admission. \nBring your dad to the tour at 2 PM and enjoy complimentary wine and cheese in the café from 2 to 4 PM.
URL:https://parrishart.org/event/fathers-day-museum-architecture-facilities-tour/
LOCATION:Parrish Art Museum\, 279 Montauk Highway\, Water Mill\, NY\, 11976\, United States
CATEGORIES:Family Programs
ATTACH;FMTTYPE=image/png:https://parrishart.org/wp-content/uploads/2025/05/2025.06.15-Fathers-Day.png
END:VEVENT
BEGIN:VEVENT
DTSTART;TZID=America/New_York:20250629T110000
DTEND;TZID=America/New_York:20250629T170000
DTSTAMP:20260422T182650
CREATED:20250515T192726Z
LAST-MODIFIED:20250627T141449Z
UID:10005410-1751194800-1751216400@parrishart.org
SUMMARY:Community Day: Savor the Summer
DESCRIPTION:BECOME A MEMBER  DONATE \nJoin us as we celebrate art\, artists\, and food! Adults\, children\, and families can experience everything the Parrish Art Museum offers. Guests enjoy free admission all day alongside free activities including art workshops\, gallery tours\, and an artisan market featuring local vendors. Museum educators\, Parrish docents\, teaching artists from the community\, and other staff will be onsite to support these activities and answer any questions you may have. \nFree and open to all. No registration is required. \nSupport for Community Day: Savor the Summer is provided\, in part\, by The Corcoran Group. \n \nSCHEDULE \nFree Admission | 11 AM–5 PM\nAll visitors enjoy free admission to the Museum’s galleries\, Creativity Lounge\, Museum Shop\, and Parrish Café! \nWhile you’re in our lobby\, try out our Mini Print Vending Machine! Brought to us by Inciardi Prints\, the Mini Print Vending Machine dispenses a surprise print for just $1 (in quarters). \nCurator-Led Tour | 11 AM–12 PM | Galleries\nJoin Associate Curator & Publications Manager Kaitlin Halloran for a tour of Sean Scully: The Albee Barn\, Montauk! \nExpression Sessions | 11 AM–1 PM | The Lichtenstein Theater\nFeel the beat in a drop-in Drumming Circle with music therapist Mike Guglielmo! \nArtisan Market | 11 AM–4 PM | The Mildred C. Brinn Terrace\nSupport local businesses! Whether you’re interested in jewelry\, clothing\, ceramics\, crafts\, candles\, or books\, there’s something for everyone! Full list of vendors below. \nImagination Play Project | 11 AM–4 PM | Outdoors\nChildren of all ages and abilities are invited to participate in creative play with Play Curator Linda White! Build with conventional and unconventional materials as well as natural objects. The Imagination Play Project creates opportunities for people of all ages and abilities to engage\, design\, and connect with open-ended materials and play. \nArt Workshops | 11 AM–4 PM | The Pasculano Studio (Classroom)\nJoin us in the Pasculano Studio for an art project inspired by Sean Scully’s work. \nFood Trucks | 11 AM–4 PM\nBalo’s and North Fork Flour Shoppe \nGuided Gallery Visits with Docents | 12 PM–2 PM | Galleries\nDocents will be available for conversations in the galleries about the exhibitions on view. \nArtisan Market Vendors\nBeads and Boards\nBirabiro\nBrian Burgess Ceramics\nCarole Perez Jewelry\nDale Novick Ltd.\nDooz\nEast End Press\nEto\nGeri Besca Jewelry\nHamptons Aromatherapy\, Inc.\nHidden Gem\nilāSTRATE Yoga Mat Design Co.\nKristine Nemeth\nLainey Stewart & Kaeley Michaelson\nLatigo Pearl\nLily Streeter\nLily’s Pad Soaps\nNicole Nye\nProvence Platters\nRiin Hansalu\nSand and Stone Designs\nSasha Samuel\nStella Flame Gallery\nTori Brown The Label
URL:https://parrishart.org/event/community-day-2025/
LOCATION:Parrish Art Museum\, 279 Montauk Highway\, Water Mill\, NY\, 11976\, United States
CATEGORIES:Family Programs,Upcoming
ATTACH;FMTTYPE=image/png:https://parrishart.org/wp-content/uploads/2025/05/2025.06.29-Community-Day-PNG.png
END:VEVENT
END:VCALENDAR