BEGIN:VCALENDAR
VERSION:2.0
PRODID:-//Parrish Art Museum - ECPv6.10.2//NONSGML v1.0//EN
CALSCALE:GREGORIAN
METHOD:PUBLISH
X-WR-CALNAME:Parrish Art Museum
X-ORIGINAL-URL:https://parrishart.org
X-WR-CALDESC:Events for Parrish Art Museum
REFRESH-INTERVAL;VALUE=DURATION:PT1H
X-Robots-Tag:noindex
X-PUBLISHED-TTL:PT1H
BEGIN:VTIMEZONE
TZID:America/New_York
BEGIN:DAYLIGHT
TZOFFSETFROM:-0500
TZOFFSETTO:-0400
TZNAME:EDT
DTSTART:20250309T070000
END:DAYLIGHT
BEGIN:STANDARD
TZOFFSETFROM:-0400
TZOFFSETTO:-0500
TZNAME:EST
DTSTART:20251102T060000
END:STANDARD
END:VTIMEZONE
BEGIN:VEVENT
DTSTART;TZID=America/New_York:20250301T130000
DTEND;TZID=America/New_York:20250301T150000
DTSTAMP:20260423T034638
CREATED:20250218T195854Z
LAST-MODIFIED:20250218T195854Z
UID:10005376-1740834000-1740841200@parrishart.org
SUMMARY:Imagination Play Project Pop-Up
DESCRIPTION:Children of all ages are invited to celebrate the closing of Charlotte Park: The Life of Forms in Colors in this pop-up workshop with Linda White\, founder of the Imagination Play Project. Participants will use tape and paper to create their masterpieces. The Imagination Play Project creates opportunities for people of all ages and abilities to engage\, design\, and connect with open-ended materials and play. \nDrop-in sessions are limited to 30 minutes per family. Entry to the Galleries requires Museum admission ticket purchase. \nAbout Linda White & The Imagination Play Project\nAs a play curator\, Linda White’s focus began with young children and has grown to working with people of all ages and abilities. Drawing inspiration from the schools in Reggio Emilia\, Italy\, and the rich aesthetic landscape of NYC\, she creates experiences using a variety of objects that encourage exploration\, engage the senses\, and inspire creativity. Learn more →
URL:https://parrishart.org/event/imagination-play-project-pop-up-mar-1-2025/
LOCATION:Parrish Art Museum\, 279 Montauk Highway\, Water Mill\, NY\, 11976\, United States
CATEGORIES:Classes and Workshops,Family Programs
ATTACH;FMTTYPE=image/webp:https://parrishart.org/wp-content/uploads/2025/01/IMG_20241207_133325796_HDR-scaled.webp
END:VEVENT
BEGIN:VEVENT
DTSTART;TZID=America/New_York:20250315T110000
DTEND;TZID=America/New_York:20250315T170000
DTSTAMP:20260423T034638
CREATED:20250106T191023Z
LAST-MODIFIED:20250311T201116Z
UID:10005339-1742036400-1742058000@parrishart.org
SUMMARY:2025 Student Exhibition Preview Day
DESCRIPTION:11 AM–12 PM | Gallery Preview \n12–2 PM | Young Artists Preview \n12–3 PM | Expression Sessions Drop-In Drumming Circle with music therapist Mike Guglielmo\n12–4 PM | Imagination Play Project Workshops with play curator Linda White\n2–4 PM | High School Artists Preview\n2–4 PM | Southampton String Ensemble\n \nJoin us at the 2025 Student Exhibition Preview Day to celebrate student artists in our East End community! This exhibition also features student works created with visiting artist Andrea Cote\, through the outreach project How Artists Work: Visiting Artist Initiative. \nFree admission for all. No registration is required. The previews will include cookies from South Fork Bakery and live music. \nLearn more about accessibility for the event here. \nSubscribe to the Parrish Art Museum e-newsletter to receive updates and information about this and other upcoming programs. \nAbout the 2025 Student Exhibition | March 15–April 27\, 2025\nThe annual Student Exhibition\, a tradition for over 70 years at the Parrish\, features the work of more than 1\,000 young artists from Eastern Long Island schools. Working with their art teachers\, after school programs and in art clubs\, the students demonstrate creativity\, enthusiasm\, and technical skill in media ranging from painting to sculpture\, drawing\, and photography. This exhibition will also feature student works created with visiting artist Andrea Cote. \nVisiting Artist Initiative\nThe Parrish’s Visiting Artist Initiative\, How Artists Work\, connects students and teachers with working artists\, providing insights into their artistic practices and guiding students through their own creative explorations. The program has expanded to include participants in the Access Parrish program. This year\, the exhibition highlights work created by students in collaboration with visiting artist Andrea Cote. Drawing on her recent project for the Museum’s 13th Parrish Road Show at Bridge Gardens in Fall 2024\, To Belong to the World\, Cote shared her process and inspiration for the site-specific works which incorporated garden plant life and explored her body’s connection to nature’s cycles. Students experimented with several techniques she uses to develop her imagery including cyanotype and printmaking\, incorporating themes of the human body and our interconnectedness with nature. The final installation of the show is curated by the ARTscope Teen Council.  \nAbout Linda White & The Imagination Play Project\nAs a play curator\, Linda White’s focus began with young children and has grown to working with people of all ages and abilities. Drawing inspiration from the schools in Reggio Emilia\, Italy\, and the rich aesthetic landscape of NYC\, she creates experiences using a variety of objects that encourage exploration\, engage the senses\, and inspire creativity. Learn more → \nSouthampton String Ensemble\nValentina Alvarez\, Nancy Caine\, Julie Chiliquinga-Nava\, Evelyn Gutierrez\, Mariely Isalde Gonzalez\, Katie Terry\, Chloe Voluck-Sviedrys
URL:https://parrishart.org/event/2025-student-exhibition-preview-day/
LOCATION:Parrish Art Museum\, 279 Montauk Highway\, Water Mill\, NY\, 11976\, United States
CATEGORIES:Exhibitions,Family Programs,Students
ATTACH;FMTTYPE=image/jpeg:https://parrishart.org/wp-content/uploads/2024/12/DSC_2560.jpg
END:VEVENT
BEGIN:VEVENT
DTSTART;TZID=America/New_York:20250329T120000
DTEND;TZID=America/New_York:20250329T123000
DTSTAMP:20260423T034638
CREATED:20250219T155606Z
LAST-MODIFIED:20250219T192043Z
UID:10005386-1743249600-1743251400@parrishart.org
SUMMARY:2025 High School Awards Ceremony
DESCRIPTION:REGISTER\nJoin us as we celebrate the talent of students across the East End of Long Island! \nSelect high school seniors will be honored for their excellence in a range of categories from painting to sculpture\, and a few underclassmen will be recognized as “Ones to Watch.” \nFree event. Advanced registration is recommended.
URL:https://parrishart.org/event/2025-high-school-awards-ceremony/
LOCATION:Parrish Art Museum\, 279 Montauk Highway\, Water Mill\, NY\, 11976\, United States
CATEGORIES:Family Programs,Students
ATTACH;FMTTYPE=image/jpeg:https://parrishart.org/wp-content/uploads/2024/03/High-School-Art.jpg
END:VEVENT
END:VCALENDAR