BEGIN:VCALENDAR
VERSION:2.0
PRODID:-//Parrish Art Museum - ECPv6.10.2//NONSGML v1.0//EN
CALSCALE:GREGORIAN
METHOD:PUBLISH
X-ORIGINAL-URL:https://parrishart.org
X-WR-CALDESC:Events for Parrish Art Museum
REFRESH-INTERVAL;VALUE=DURATION:PT1H
X-Robots-Tag:noindex
X-PUBLISHED-TTL:PT1H
BEGIN:VTIMEZONE
TZID:America/New_York
BEGIN:DAYLIGHT
TZOFFSETFROM:-0500
TZOFFSETTO:-0400
TZNAME:EDT
DTSTART:20210314T070000
END:DAYLIGHT
BEGIN:STANDARD
TZOFFSETFROM:-0400
TZOFFSETTO:-0500
TZNAME:EST
DTSTART:20211107T060000
END:STANDARD
END:VTIMEZONE
BEGIN:VEVENT
DTSTART;VALUE=DATE:20211017
DTEND;VALUE=DATE:20211018
DTSTAMP:20260419T113221
CREATED:20211004T163439Z
LAST-MODIFIED:20211012T103613Z
UID:10002978-1634428800-1634515199@parrishart.org
SUMMARY:Welcome Day | Tours 12 noon & 2 pm
DESCRIPTION:REGISTER | 12 PM   REGISTER | 2 PM\nLearn about the exhibition Tomashi Jackson: The Land Claim with a free guided tour from a Parrish Docent\, as part of our free Welcome Day programming and admission. Throughout 2020\, Jackson conducted in-depth interviews with members of Black\, Latinx\, and Indigenous communities on the East End to prepare for her new work in painting\, sound\, photography\, and archival materials. \n  \nAll museum visitors must wear a medical-grade mask at all times. Masks will be provided to anyone who needs one\, free of charge. Learn more about our safety protocols here.\nFor more information\, please email info@parrishart.org.
URL:https://parrishart.org/event/welcome-day-tours-2/
LOCATION:Parrish Art Museum\, 279 Montauk Highway\, Water Mill\, NY\, 11976\, United States
CATEGORIES:Bilingual Tours,Exhibitions,Public Tours
ATTACH;FMTTYPE=image/png:https://parrishart.org/wp-content/uploads/2019/09/StudyRoom_Installation_WeberGallery_JennyGorman_TomashiJackson_TheLandClaim_Exhibition_ParrishArtMuseum_2021_2.png
END:VEVENT
END:VCALENDAR