BEGIN:VCALENDAR
VERSION:2.0
PRODID:-//Parrish Art Museum - ECPv6.10.2//NONSGML v1.0//EN
CALSCALE:GREGORIAN
METHOD:PUBLISH
X-WR-CALNAME:Parrish Art Museum
X-ORIGINAL-URL:https://parrishart.org
X-WR-CALDESC:Events for Parrish Art Museum
REFRESH-INTERVAL;VALUE=DURATION:PT1H
X-Robots-Tag:noindex
X-PUBLISHED-TTL:PT1H
BEGIN:VTIMEZONE
TZID:America/New_York
BEGIN:DAYLIGHT
TZOFFSETFROM:-0500
TZOFFSETTO:-0400
TZNAME:EDT
DTSTART:20210314T070000
END:DAYLIGHT
BEGIN:STANDARD
TZOFFSETFROM:-0400
TZOFFSETTO:-0500
TZNAME:EST
DTSTART:20211107T060000
END:STANDARD
END:VTIMEZONE
BEGIN:VEVENT
DTSTART;TZID=America/New_York:20210807T100000
DTEND;TZID=America/New_York:20210807T113000
DTSTAMP:20260423T130257
CREATED:20210607T193858Z
LAST-MODIFIED:20210607T193858Z
UID:10002897-1628330400-1628335800@parrishart.org
SUMMARY:Giving Circles Private Tour of Roy Lichtenstein: History in the Making\, 1948–1960
DESCRIPTION:REGISTER \nJoin Museum Chief Curator Alicia Longwell for an intimate look at the Museum’s newest special exhibition\, Roy Lichtenstein: History in the Making\, 1948–1960 (on view August 1 – October 24\, 2021). Afterwards\, Members are invited to enjoy individually packaged refreshments on the Terrace. \nThere is a limited capacity for this Giving Circles event and advanced registration is required. \nFor more information\, to join or upgrade your Membership\, please contact us at membership@parrishart.org or 631-283-2118.
URL:https://parrishart.org/event/giving-circles-lichtenstein-tour/
LOCATION:Parrish Art Museum\, 279 Montauk Highway\, Water Mill\, NY\, 11976\, United States
CATEGORIES:Exhibitions,Member Events,Talks,Upcoming
ATTACH;FMTTYPE=image/jpeg:https://parrishart.org/wp-content/uploads/2021/01/Mickey-Mouse-I-c-1.-1958_for-web-768x580-1.jpg
END:VEVENT
BEGIN:VEVENT
DTSTART;TZID=America/New_York:20210807T110000
DTEND;TZID=America/New_York:20210807T163000
DTSTAMP:20260423T130257
CREATED:20210429T123559Z
LAST-MODIFIED:20210504T165530Z
UID:10002091-1628334000-1628353800@parrishart.org
SUMMARY:Everything That Wasn't White
DESCRIPTION:Everything That Wasn’t White: Lonnie Holley at the Elaine de Kooning House presents 35 new paintings\, works on paper\, and sculpture created by artist and musician Lonnie Holley during his 2020 artist-in-residency at the Elaine de Kooning House in East Hampton. \n 
URL:https://parrishart.org/event/everything-that-wasnt-white/2021-08-07/
LOCATION:Parrish Art Museum\, 279 Montauk Highway\, Water Mill\, NY\, 11976\, United States
CATEGORIES:Exhibitions
END:VEVENT
BEGIN:VEVENT
DTSTART;TZID=America/New_York:20210807T110000
DTEND;TZID=America/New_York:20210807T170000
DTSTAMP:20260423T130257
CREATED:20210304T202934Z
LAST-MODIFIED:20210529T025712Z
UID:10001927-1628334000-1628355600@parrishart.org
SUMMARY:Field of Dreams
DESCRIPTION:On August 20\, 2020\, the Parrish opened Field of Dreams\, our inaugural sculpture exhibition created to extend the galleries outdoors and activate the Museum’s meadows with work that engages and responds to the Parrish’s architecture and landscape. The exhibition series is part of the Museum’s new Art in the Meadow initiative that enlivens the grounds with performances\, projections\, and works of art. \nField of Dreams outdoor sculpture exhibition is open and free to the public daily\, from 11 am–5 pm. Visitors are asked to observe social distancing practices and are required to wear masks on Museum property.
URL:https://parrishart.org/event/field-of-dreams/2021-08-07/
LOCATION:Parrish Art Museum\, 279 Montauk Highway\, Water Mill\, NY\, 11976\, United States
CATEGORIES:Exhibitions
ATTACH;FMTTYPE=image/jpeg:https://parrishart.org/wp-content/uploads/2020/10/Field-of-Dreams-Parrish-2020_08_20-DSC_1983.jpg
END:VEVENT
END:VCALENDAR