BEGIN:VCALENDAR
VERSION:2.0
PRODID:-//Parrish Art Museum - ECPv6.10.2//NONSGML v1.0//EN
CALSCALE:GREGORIAN
METHOD:PUBLISH
X-WR-CALNAME:Parrish Art Museum
X-ORIGINAL-URL:https://parrishart.org
X-WR-CALDESC:Events for Parrish Art Museum
REFRESH-INTERVAL;VALUE=DURATION:PT1H
X-Robots-Tag:noindex
X-PUBLISHED-TTL:PT1H
BEGIN:VTIMEZONE
TZID:America/New_York
BEGIN:DAYLIGHT
TZOFFSETFROM:-0500
TZOFFSETTO:-0400
TZNAME:EDT
DTSTART:20210314T070000
END:DAYLIGHT
BEGIN:STANDARD
TZOFFSETFROM:-0400
TZOFFSETTO:-0500
TZNAME:EST
DTSTART:20211107T060000
END:STANDARD
END:VTIMEZONE
BEGIN:VEVENT
DTSTART;TZID=America/New_York:20210902T110000
DTEND;TZID=America/New_York:20210902T163000
DTSTAMP:20260419T211503
CREATED:20210429T123559Z
LAST-MODIFIED:20210504T165530Z
UID:10002109-1630580400-1630600200@parrishart.org
SUMMARY:Everything That Wasn't White
DESCRIPTION:Everything That Wasn’t White: Lonnie Holley at the Elaine de Kooning House presents 35 new paintings\, works on paper\, and sculpture created by artist and musician Lonnie Holley during his 2020 artist-in-residency at the Elaine de Kooning House in East Hampton. \n 
URL:https://parrishart.org/event/everything-that-wasnt-white/2021-09-02/
LOCATION:Parrish Art Museum\, 279 Montauk Highway\, Water Mill\, NY\, 11976\, United States
CATEGORIES:Exhibitions
END:VEVENT
BEGIN:VEVENT
DTSTART;TZID=America/New_York:20210903T110000
DTEND;TZID=America/New_York:20210903T163000
DTSTAMP:20260419T211503
CREATED:20210429T123559Z
LAST-MODIFIED:20210504T165530Z
UID:10002110-1630666800-1630686600@parrishart.org
SUMMARY:Everything That Wasn't White
DESCRIPTION:Everything That Wasn’t White: Lonnie Holley at the Elaine de Kooning House presents 35 new paintings\, works on paper\, and sculpture created by artist and musician Lonnie Holley during his 2020 artist-in-residency at the Elaine de Kooning House in East Hampton. \n 
URL:https://parrishart.org/event/everything-that-wasnt-white/2021-09-03/
LOCATION:Parrish Art Museum\, 279 Montauk Highway\, Water Mill\, NY\, 11976\, United States
CATEGORIES:Exhibitions
END:VEVENT
BEGIN:VEVENT
DTSTART;TZID=America/New_York:20210904T110000
DTEND;TZID=America/New_York:20210904T163000
DTSTAMP:20260419T211503
CREATED:20210429T123559Z
LAST-MODIFIED:20210504T165530Z
UID:10002111-1630753200-1630773000@parrishart.org
SUMMARY:Everything That Wasn't White
DESCRIPTION:Everything That Wasn’t White: Lonnie Holley at the Elaine de Kooning House presents 35 new paintings\, works on paper\, and sculpture created by artist and musician Lonnie Holley during his 2020 artist-in-residency at the Elaine de Kooning House in East Hampton. \n 
URL:https://parrishart.org/event/everything-that-wasnt-white/2021-09-04/
LOCATION:Parrish Art Museum\, 279 Montauk Highway\, Water Mill\, NY\, 11976\, United States
CATEGORIES:Exhibitions
END:VEVENT
BEGIN:VEVENT
DTSTART;TZID=America/New_York:20210905T110000
DTEND;TZID=America/New_York:20210905T163000
DTSTAMP:20260419T211503
CREATED:20210429T123559Z
LAST-MODIFIED:20210504T165530Z
UID:10002112-1630839600-1630859400@parrishart.org
SUMMARY:Everything That Wasn't White
DESCRIPTION:Everything That Wasn’t White: Lonnie Holley at the Elaine de Kooning House presents 35 new paintings\, works on paper\, and sculpture created by artist and musician Lonnie Holley during his 2020 artist-in-residency at the Elaine de Kooning House in East Hampton. \n 
URL:https://parrishart.org/event/everything-that-wasnt-white/2021-09-05/
LOCATION:Parrish Art Museum\, 279 Montauk Highway\, Water Mill\, NY\, 11976\, United States
CATEGORIES:Exhibitions
END:VEVENT
BEGIN:VEVENT
DTSTART;TZID=America/New_York:20210906T110000
DTEND;TZID=America/New_York:20210906T163000
DTSTAMP:20260419T211503
CREATED:20210429T123559Z
LAST-MODIFIED:20210504T165530Z
UID:10002113-1630926000-1630945800@parrishart.org
SUMMARY:Everything That Wasn't White
DESCRIPTION:Everything That Wasn’t White: Lonnie Holley at the Elaine de Kooning House presents 35 new paintings\, works on paper\, and sculpture created by artist and musician Lonnie Holley during his 2020 artist-in-residency at the Elaine de Kooning House in East Hampton. \n 
URL:https://parrishart.org/event/everything-that-wasnt-white/2021-09-06/
LOCATION:Parrish Art Museum\, 279 Montauk Highway\, Water Mill\, NY\, 11976\, United States
CATEGORIES:Exhibitions
END:VEVENT
END:VCALENDAR