BEGIN:VCALENDAR
VERSION:2.0
PRODID:-//Parrish Art Museum - ECPv6.10.2//NONSGML v1.0//EN
CALSCALE:GREGORIAN
METHOD:PUBLISH
X-ORIGINAL-URL:https://parrishart.org
X-WR-CALDESC:Events for Parrish Art Museum
REFRESH-INTERVAL;VALUE=DURATION:PT1H
X-Robots-Tag:noindex
X-PUBLISHED-TTL:PT1H
BEGIN:VTIMEZONE
TZID:America/New_York
BEGIN:DAYLIGHT
TZOFFSETFROM:-0500
TZOFFSETTO:-0400
TZNAME:EDT
DTSTART:20220313T070000
END:DAYLIGHT
BEGIN:STANDARD
TZOFFSETFROM:-0400
TZOFFSETTO:-0500
TZNAME:EST
DTSTART:20221106T060000
END:STANDARD
END:VTIMEZONE
BEGIN:VEVENT
DTSTART;TZID=America/New_York:20221107T110000
DTEND;TZID=America/New_York:20221107T130000
DTSTAMP:20260425T093121
CREATED:20220912T164404Z
LAST-MODIFIED:20221024T154445Z
UID:10003276-1667818800-1667826000@parrishart.org
SUMMARY:Fall Life Drawing Series II
DESCRIPTION:Individual Class Purchase\n\n$31.25| $26.25 for Members \n\n\nOctober 31\, 2022 | Register →\nNovember 7\, 2022 | Register →\n\n\n\n\nDevelop your drawing skills with teaching artist Linda Capello. Participants will practice drawing male and female models through gesture sketches and longer duration observation. All skill levels are welcome. Participants are asked to provide their own dry media supplies.\n\n\nProof of vaccine is required for attendees of adult classes at the Lichtenstein Theater\, café\, & Studio; those age 18 and older must also provide a valid ID. A negative test result will not be accepted. \n\n\n\n\n\nMore information surrounding our COVID-19 protocol  →\nMore information on upcoming classes →  \n 
URL:https://parrishart.org/event/fall-life-drawing-2/2022-11-07/
LOCATION:Parrish Art Museum\, 279 Montauk Highway\, Water Mill\, NY\, 11976\, United States
CATEGORIES:Adult Art Classes,Classes and Workshops
ATTACH;FMTTYPE=image/jpeg:https://parrishart.org/wp-content/uploads/2019/06/Linda-Capello-Siesta.jpg
END:VEVENT
BEGIN:VEVENT
DTSTART;TZID=America/New_York:20221112T130000
DTEND;TZID=America/New_York:20221112T143000
DTSTAMP:20260425T093121
CREATED:20220830T211137Z
LAST-MODIFIED:20221017T170932Z
UID:10003263-1668258000-1668263400@parrishart.org
SUMMARY:Workshop | Children's Pottery
DESCRIPTION:SOLD OUT\n\nGrades 1- 6 \nSaturdays\, November 5\, 12\, 19 & December 3 | 1–2:30 PM\n$70 Members | $95 Non-members\nA four-class pottery workshop \nArt educator Wendy Gottlieb guides students to create pottery and study the history of ceramics. Hand-built pottery techniques will include coil\, slab\, and sculpture. All work will be fired. Enrollment is limited to 6 students. \nMore information surrounding our COVID-19 protocol →
URL:https://parrishart.org/event/workshop-childrens-pottery/2022-11-12/
LOCATION:Parrish Art Museum\, 279 Montauk Highway\, Water Mill\, NY\, 11976\, United States
CATEGORIES:Classes and Workshops,Family Programs
ATTACH;FMTTYPE=image/png:https://parrishart.org/wp-content/uploads/2021/10/PotteryClass_WendyGottleib_TemplateWeb_ParrishArtMuseum.png
END:VEVENT
END:VCALENDAR