BEGIN:VCALENDAR
VERSION:2.0
PRODID:-//Parrish Art Museum - ECPv6.10.2//NONSGML v1.0//EN
CALSCALE:GREGORIAN
METHOD:PUBLISH
X-ORIGINAL-URL:https://parrishart.org
X-WR-CALDESC:Events for Parrish Art Museum
REFRESH-INTERVAL;VALUE=DURATION:PT1H
X-Robots-Tag:noindex
X-PUBLISHED-TTL:PT1H
BEGIN:VTIMEZONE
TZID:America/New_York
BEGIN:DAYLIGHT
TZOFFSETFROM:-0500
TZOFFSETTO:-0400
TZNAME:EDT
DTSTART:20250309T070000
END:DAYLIGHT
BEGIN:STANDARD
TZOFFSETFROM:-0400
TZOFFSETTO:-0500
TZNAME:EST
DTSTART:20251102T060000
END:STANDARD
END:VTIMEZONE
BEGIN:VEVENT
DTSTART;TZID=America/New_York:20251108T130000
DTEND;TZID=America/New_York:20251108T160000
DTSTAMP:20260421T091652
CREATED:20251103T214939Z
LAST-MODIFIED:20251103T214939Z
UID:10005542-1762606800-1762617600@parrishart.org
SUMMARY:Imagination Play Project Pop-Up
DESCRIPTION:Children of all ages and abilities are invited to participate in creative play in the Parrish’s Pasculano Studio and join the Imagination Play Project for a pop-up workshop. Build with conventional and unconventional materials as well as natural objects. The Imagination Play Project creates opportunities for people of all ages and abilities to engage\, design\, and connect with open-ended materials and play. \nEntry to the Galleries requires Museum admission ticket purchase. \nAbout Linda White & The Imagination Play Project\nLinda White is the founder and creator of Imagination Play Project. As a play curator\, her focus began with young children and has grown to working with people of all ages and abilities. Drawing inspiration from the schools in Reggio Emilia\, Italy\, and the rich aesthetic landscape of NYC\, she creates experiences using a variety of objects that encourage exploration\, engage the senses\, and inspire creativity. Learn more →
URL:https://parrishart.org/event/imagination-play-project-pop-up-nov-8-2025/
LOCATION:Parrish Art Museum\, 279 Montauk Highway\, Water Mill\, NY\, 11976\, United States
CATEGORIES:Classes and Workshops,Family Programs
ATTACH;FMTTYPE=image/jpeg:https://parrishart.org/wp-content/uploads/2025/07/IMG_3665.jpg
END:VEVENT
BEGIN:VEVENT
DTSTART;TZID=America/New_York:20251109T110000
DTEND;TZID=America/New_York:20251109T130000
DTSTAMP:20260421T091652
CREATED:20251103T215029Z
LAST-MODIFIED:20251103T215029Z
UID:10005543-1762686000-1762693200@parrishart.org
SUMMARY:Imagination Play Project Pop-Up
DESCRIPTION:Children of all ages and abilities are invited to participate in creative play in the Parrish’s Pasculano Studio and join the Imagination Play Project for a pop-up workshop. Build with conventional and unconventional materials as well as natural objects. The Imagination Play Project creates opportunities for people of all ages and abilities to engage\, design\, and connect with open-ended materials and play. \nEntry to the Galleries requires Museum admission ticket purchase. \nAbout Linda White & The Imagination Play Project\nLinda White is the founder and creator of Imagination Play Project. As a play curator\, her focus began with young children and has grown to working with people of all ages and abilities. Drawing inspiration from the schools in Reggio Emilia\, Italy\, and the rich aesthetic landscape of NYC\, she creates experiences using a variety of objects that encourage exploration\, engage the senses\, and inspire creativity. Learn more →
URL:https://parrishart.org/event/imagination-play-project-pop-up-nov-9-2025/
LOCATION:Parrish Art Museum\, 279 Montauk Highway\, Water Mill\, NY\, 11976\, United States
CATEGORIES:Classes and Workshops,Family Programs
ATTACH;FMTTYPE=image/jpeg:https://parrishart.org/wp-content/uploads/2025/07/IMG_3665.jpg
END:VEVENT
BEGIN:VEVENT
DTSTART;TZID=America/New_York:20251113T154500
DTEND;TZID=America/New_York:20251113T164500
DTSTAMP:20260421T091652
CREATED:20250905T180455Z
LAST-MODIFIED:20250911T154116Z
UID:10005523-1763048700-1763052300@parrishart.org
SUMMARY:After-School Art
DESCRIPTION:REGISTER \nFree for Southampton & Tuckahoe School District Residents | $20 Nonresidents \nAfter-School Art workshops are designed for children in grades K–5 to learn about artists\, be inspired by works of art\, and create their own artwork. \nThe Museum reserves the right to cancel a class at any time due to insufficient enrollment. In the event that we must cancel\, we will issue a refund. For more information\, or if these prices present a hardship for you and your family at this time\, please contact Nathan Malak at malakn@parrishart.org or 631.283.2118 x.132.
URL:https://parrishart.org/event/after-school-art-fall-2025/2025-11-13/
LOCATION:Parrish Art Museum\, 279 Montauk Highway\, Water Mill\, NY\, 11976\, United States
CATEGORIES:Classes and Workshops,Students
ATTACH;FMTTYPE=image/jpeg:https://parrishart.org/wp-content/uploads/2020/01/ArtCamp-Barton-07222015-058.jpg
END:VEVENT
END:VCALENDAR