BEGIN:VCALENDAR
VERSION:2.0
PRODID:-//Parrish Art Museum - ECPv6.10.2//NONSGML v1.0//EN
CALSCALE:GREGORIAN
METHOD:PUBLISH
X-ORIGINAL-URL:https://parrishart.org
X-WR-CALDESC:Events for Parrish Art Museum
REFRESH-INTERVAL;VALUE=DURATION:PT1H
X-Robots-Tag:noindex
X-PUBLISHED-TTL:PT1H
BEGIN:VTIMEZONE
TZID:America/New_York
BEGIN:DAYLIGHT
TZOFFSETFROM:-0500
TZOFFSETTO:-0400
TZNAME:EDT
DTSTART:20220313T070000
END:DAYLIGHT
BEGIN:STANDARD
TZOFFSETFROM:-0400
TZOFFSETTO:-0500
TZNAME:EST
DTSTART:20221106T060000
END:STANDARD
END:VTIMEZONE
BEGIN:VEVENT
DTSTART;TZID=America/New_York:20221003T110000
DTEND;TZID=America/New_York:20221003T130000
DTSTAMP:20260424T230523
CREATED:20220715T161041Z
LAST-MODIFIED:20221005T112944Z
UID:10003218-1664794800-1664802000@parrishart.org
SUMMARY:Fall Life Drawing
DESCRIPTION:Mondays\, October 3\nIndividual Class Purchase\n$31.25| $26.25 for Members \n\n\n\nOctober 3\, 2022 |\n\n\n\n\nDevelop your drawing skills with teaching artist Linda Capello. Participants will practice drawing male and female models through gesture sketches and longer duration observation. All skill levels are welcome. Participants are asked to provide their own dry media supplies.\n\n\nProof of vaccine is required for attendees ages 5 and older for all events and programs at the Lichtenstein Theater\, café\, & Studio; those age 18 and older must also provide a valid ID. A negative test result will not be accepted. \n\n\n\n\n\nMore information surrounding our COVID-19 protocol  →\nMore information on upcoming classes → 
URL:https://parrishart.org/event/fall-life-drawing/2022-10-03/
LOCATION:Parrish Art Museum\, 279 Montauk Highway\, Water Mill\, NY\, 11976\, United States
CATEGORIES:Adult Art Classes,Classes and Workshops
ATTACH;FMTTYPE=image/jpeg:https://parrishart.org/wp-content/uploads/2021/02/linda-4-Capture.jpg
END:VEVENT
BEGIN:VEVENT
DTSTART;TZID=America/New_York:20221017T110000
DTEND;TZID=America/New_York:20221017T130000
DTSTAMP:20260424T230523
CREATED:20220912T164404Z
LAST-MODIFIED:20221024T154445Z
UID:10003273-1666004400-1666011600@parrishart.org
SUMMARY:Fall Life Drawing Series II
DESCRIPTION:Individual Class Purchase\n\n$31.25| $26.25 for Members \n\n\nOctober 31\, 2022 | Register →\nNovember 7\, 2022 | Register →\n\n\n\n\nDevelop your drawing skills with teaching artist Linda Capello. Participants will practice drawing male and female models through gesture sketches and longer duration observation. All skill levels are welcome. Participants are asked to provide their own dry media supplies.\n\n\nProof of vaccine is required for attendees of adult classes at the Lichtenstein Theater\, café\, & Studio; those age 18 and older must also provide a valid ID. A negative test result will not be accepted. \n\n\n\n\n\nMore information surrounding our COVID-19 protocol  →\nMore information on upcoming classes →  \n 
URL:https://parrishart.org/event/fall-life-drawing-2/2022-10-17/
LOCATION:Parrish Art Museum\, 279 Montauk Highway\, Water Mill\, NY\, 11976\, United States
CATEGORIES:Adult Art Classes,Classes and Workshops
ATTACH;FMTTYPE=image/jpeg:https://parrishart.org/wp-content/uploads/2019/06/Linda-Capello-Siesta.jpg
END:VEVENT
BEGIN:VEVENT
DTSTART;TZID=America/New_York:20221022T110000
DTEND;TZID=America/New_York:20221022T123000
DTSTAMP:20260424T230523
CREATED:20220913T151510Z
LAST-MODIFIED:20221021T184415Z
UID:10003281-1666436400-1666441800@parrishart.org
SUMMARY:Open Studio for Families
DESCRIPTION:Create art through hands-on activities. Each month features different art materials and techniques inspired by the works on view. \nThe studio time starts at 12:30. Drop in sessions are limited to 30 minutes. \nAll ages must be accompanied by an adult. Free with Museum admission. No advance registration required. \n 
URL:https://parrishart.org/event/open-studio-for-families-2/
LOCATION:Parrish Art Museum\, 279 Montauk Highway\, Water Mill\, NY\, 11976\, United States
CATEGORIES:Classes and Workshops,Exhibitions,Family Programs
ATTACH;FMTTYPE=image/jpeg:https://parrishart.org/wp-content/uploads/2019/10/parrish_comm_day_11-11-18-0203.jpg
END:VEVENT
BEGIN:VEVENT
DTSTART;TZID=America/New_York:20221024T110000
DTEND;TZID=America/New_York:20221024T130000
DTSTAMP:20260424T230523
CREATED:20220912T164404Z
LAST-MODIFIED:20221024T154445Z
UID:10003274-1666609200-1666616400@parrishart.org
SUMMARY:Fall Life Drawing Series II
DESCRIPTION:Individual Class Purchase\n\n$31.25| $26.25 for Members \n\n\nOctober 31\, 2022 | Register →\nNovember 7\, 2022 | Register →\n\n\n\n\nDevelop your drawing skills with teaching artist Linda Capello. Participants will practice drawing male and female models through gesture sketches and longer duration observation. All skill levels are welcome. Participants are asked to provide their own dry media supplies.\n\n\nProof of vaccine is required for attendees of adult classes at the Lichtenstein Theater\, café\, & Studio; those age 18 and older must also provide a valid ID. A negative test result will not be accepted. \n\n\n\n\n\nMore information surrounding our COVID-19 protocol  →\nMore information on upcoming classes →  \n 
URL:https://parrishart.org/event/fall-life-drawing-2/2022-10-24/
LOCATION:Parrish Art Museum\, 279 Montauk Highway\, Water Mill\, NY\, 11976\, United States
CATEGORIES:Adult Art Classes,Classes and Workshops
ATTACH;FMTTYPE=image/jpeg:https://parrishart.org/wp-content/uploads/2019/06/Linda-Capello-Siesta.jpg
END:VEVENT
BEGIN:VEVENT
DTSTART;TZID=America/New_York:20221029T110000
DTEND;TZID=America/New_York:20221029T123000
DTSTAMP:20260424T230523
CREATED:20220913T151510Z
LAST-MODIFIED:20220917T110249Z
UID:10003282-1667041200-1667046600@parrishart.org
SUMMARY:Open Studio for Families
DESCRIPTION:Take a tour of the galleries and create art through hands-on activities. Each month features different art materials and techniques inspired by the works on view. \nThe last tour and studio time starts at 12:30. Drop in sessions are limited to 30 minutes. \nAll ages must be accompanied by an adult. Free with Museum admission. No advance registration required. \n 
URL:https://parrishart.org/event/open-studio-for-families-2-2022-10-29/
LOCATION:Parrish Art Museum\, 279 Montauk Highway\, Water Mill\, NY\, 11976\, United States
CATEGORIES:Classes and Workshops,Exhibitions,Family Programs
ATTACH;FMTTYPE=image/jpeg:https://parrishart.org/wp-content/uploads/2019/10/parrish_comm_day_11-11-18-0203.jpg
END:VEVENT
BEGIN:VEVENT
DTSTART;TZID=America/New_York:20221031T110000
DTEND;TZID=America/New_York:20221031T130000
DTSTAMP:20260424T230523
CREATED:20220912T164404Z
LAST-MODIFIED:20221024T154445Z
UID:10003275-1667214000-1667221200@parrishart.org
SUMMARY:Fall Life Drawing Series II
DESCRIPTION:Individual Class Purchase\n\n$31.25| $26.25 for Members \n\n\nOctober 31\, 2022 | Register →\nNovember 7\, 2022 | Register →\n\n\n\n\nDevelop your drawing skills with teaching artist Linda Capello. Participants will practice drawing male and female models through gesture sketches and longer duration observation. All skill levels are welcome. Participants are asked to provide their own dry media supplies.\n\n\nProof of vaccine is required for attendees of adult classes at the Lichtenstein Theater\, café\, & Studio; those age 18 and older must also provide a valid ID. A negative test result will not be accepted. \n\n\n\n\n\nMore information surrounding our COVID-19 protocol  →\nMore information on upcoming classes →  \n 
URL:https://parrishart.org/event/fall-life-drawing-2/2022-10-31/
LOCATION:Parrish Art Museum\, 279 Montauk Highway\, Water Mill\, NY\, 11976\, United States
CATEGORIES:Adult Art Classes,Classes and Workshops
ATTACH;FMTTYPE=image/jpeg:https://parrishart.org/wp-content/uploads/2019/06/Linda-Capello-Siesta.jpg
END:VEVENT
END:VCALENDAR